BEGIN:VCALENDAR
VERSION:2.0
PRODID:-//Jazzino - Ristorante Jazz Club - ECPv6.15.20//NONSGML v1.0//EN
CALSCALE:GREGORIAN
METHOD:PUBLISH
X-WR-CALNAME:Jazzino - Ristorante Jazz Club
X-ORIGINAL-URL:https://www.jazzino.it
X-WR-CALDESC:Eventi per Jazzino - Ristorante Jazz Club
REFRESH-INTERVAL;VALUE=DURATION:PT1H
X-Robots-Tag:noindex
X-PUBLISHED-TTL:PT1H
BEGIN:VTIMEZONE
TZID:Europe/Rome
BEGIN:DAYLIGHT
TZOFFSETFROM:+0100
TZOFFSETTO:+0200
TZNAME:CEST
DTSTART:20230326T010000
END:DAYLIGHT
BEGIN:STANDARD
TZOFFSETFROM:+0200
TZOFFSETTO:+0100
TZNAME:CET
DTSTART:20231029T010000
END:STANDARD
BEGIN:DAYLIGHT
TZOFFSETFROM:+0100
TZOFFSETTO:+0200
TZNAME:CEST
DTSTART:20240331T010000
END:DAYLIGHT
BEGIN:STANDARD
TZOFFSETFROM:+0200
TZOFFSETTO:+0100
TZNAME:CET
DTSTART:20241027T010000
END:STANDARD
BEGIN:DAYLIGHT
TZOFFSETFROM:+0100
TZOFFSETTO:+0200
TZNAME:CEST
DTSTART:20250330T010000
END:DAYLIGHT
BEGIN:STANDARD
TZOFFSETFROM:+0200
TZOFFSETTO:+0100
TZNAME:CET
DTSTART:20251026T010000
END:STANDARD
END:VTIMEZONE
BEGIN:VEVENT
DTSTART;TZID=Europe/Rome:20241114T203000
DTEND;TZID=Europe/Rome:20241114T230000
DTSTAMP:20260423T180541
CREATED:20241111T160737Z
LAST-MODIFIED:20241111T160737Z
UID:19709-1731616200-1731625200@www.jazzino.it
SUMMARY:Suoni&Voci @ InOut
DESCRIPTION:ACQUISTA IL BIGLIETTOACQUISTA IL BIGLIETTO\nSuoni & Voci – Voci in concerto ti aspettano per la prima volta al InOut il 14 novembre 2024  in live show a partire dalle ore 21:30! \nPrimo appuntamento per questa nuova stagione con gli allievi della classe di canto moderno di Giuliana Lostia. \nAccompagnati da una band di professionisti\, i Madama Do Re\,   5 allievi di canto della scuola di musica Suoni & Voci si esibiranno sul prestigioso palco dell’ InOut. Ognuno con una personalità definita\, si alterneranno rendendo la serata molto varia con momenti di interazione\, duetti e cover rivisitate. \nPer la loro docente si tratta di un’esperienza formativa\, una crescita personale e uno stimolo per mettersi in gioco. \n\nLINE-UP:  \n\n\nDaniele Russo\, batteria\nAndrea Morrone\, chitarra\nFabio Useli\, basso\nMaurizio Bizzarro\, tastiere\nGiuliana Lostia\, voce e cori\n\n\nACQUISTA IL BIGLIETTOACQUISTA IL BIGLIETTO\n 
URL:https://www.jazzino.it/evento/suoni-voci-madama-do-re-inout/
LOCATION:InOut Music Club\, Viale G.Marconi 173\, Cagliari\, CA\, 09131\, Italia
ATTACH;FMTTYPE=image/jpeg:https://www.jazzino.it/wp-content/uploads/2024/11/voci-e-concerto-madamadore-Post-Facebook-scaled.jpg
END:VEVENT
END:VCALENDAR