BEGIN:VCALENDAR
VERSION:2.0
PRODID:-//Jazzino - Ristorante Jazz Club - ECPv6.15.20//NONSGML v1.0//EN
CALSCALE:GREGORIAN
METHOD:PUBLISH
X-WR-CALNAME:Jazzino - Ristorante Jazz Club
X-ORIGINAL-URL:https://www.jazzino.it
X-WR-CALDESC:Eventi per Jazzino - Ristorante Jazz Club
REFRESH-INTERVAL;VALUE=DURATION:PT1H
X-Robots-Tag:noindex
X-PUBLISHED-TTL:PT1H
BEGIN:VTIMEZONE
TZID:Europe/Rome
BEGIN:DAYLIGHT
TZOFFSETFROM:+0100
TZOFFSETTO:+0200
TZNAME:CEST
DTSTART:20240331T010000
END:DAYLIGHT
BEGIN:STANDARD
TZOFFSETFROM:+0200
TZOFFSETTO:+0100
TZNAME:CET
DTSTART:20241027T010000
END:STANDARD
BEGIN:DAYLIGHT
TZOFFSETFROM:+0100
TZOFFSETTO:+0200
TZNAME:CEST
DTSTART:20250330T010000
END:DAYLIGHT
BEGIN:STANDARD
TZOFFSETFROM:+0200
TZOFFSETTO:+0100
TZNAME:CET
DTSTART:20251026T010000
END:STANDARD
BEGIN:DAYLIGHT
TZOFFSETFROM:+0100
TZOFFSETTO:+0200
TZNAME:CEST
DTSTART:20260329T010000
END:DAYLIGHT
BEGIN:STANDARD
TZOFFSETFROM:+0200
TZOFFSETTO:+0100
TZNAME:CET
DTSTART:20261025T010000
END:STANDARD
END:VTIMEZONE
BEGIN:VEVENT
DTSTART;TZID=Europe/Rome:20251009T213000
DTEND;TZID=Europe/Rome:20251009T230000
DTSTAMP:20260423T090818
CREATED:20250917T105602Z
LAST-MODIFIED:20250917T105712Z
UID:20236-1760045400-1760050800@www.jazzino.it
SUMMARY:Pink Lake Live@ Jazzino
DESCRIPTION:ACQUISTA IL BIGLIETTOACQUISTA IL BIGLIETTO\n  \nUnico Set \nApertura Porte ore 20.00\nInzio Live ore 21.45 \n  \nPINK LAKE \nI Pink Lake – Sulle Tracce dei Pink Floyd\, ti aspettano al Jazzino il 09 ottobre 2025 con un super live show! \nI Pink Lake nascono nel 2005 da un’idea iniziale di Mauro Mulas e Marcello Mameli di presentare dal vivo tutto il celeberrimo album “The Dark Side of the Moon”. Di lì in poi\, visto l’interesse del pubblico per il progetto la band\, originariamente in quartetto\, ora in quintetto\, ha suonato in tutta la Sardegna in Nord Italia e ha pubblicato un disco frutto di una registrazione durante una loro performance Live. \n𝗟𝗜𝗡𝗘 𝗨𝗣:\nMark Grace – voce e chitarra\nMauro Mulas – tastiere\nMassimiliano Pichiri – basso\nMarcello Mameli – batteria\nMarcello Mulas – chitarra \nACQUISTA IL BIGLIETTOACQUISTA IL BIGLIETTO
URL:https://www.jazzino.it/evento/pink-lake-live-jazzino-6/
LOCATION:Jazzino\, 74 Via Carloforte\, Cagliari\, 09123\, Italy
ATTACH;FMTTYPE=image/webp:https://www.jazzino.it/wp-content/uploads/2025/09/WORDPRESS-ADATTAMENTO-IMMAGINE-1.webp
END:VEVENT
END:VCALENDAR