BEGIN:VCALENDAR
VERSION:2.0
PRODID:-//Jazzino - Ristorante Jazz Club - ECPv6.15.20//NONSGML v1.0//EN
CALSCALE:GREGORIAN
METHOD:PUBLISH
X-ORIGINAL-URL:https://www.jazzino.it
X-WR-CALDESC:Eventi per Jazzino - Ristorante Jazz Club
REFRESH-INTERVAL;VALUE=DURATION:PT1H
X-Robots-Tag:noindex
X-PUBLISHED-TTL:PT1H
BEGIN:VTIMEZONE
TZID:Europe/Rome
BEGIN:DAYLIGHT
TZOFFSETFROM:+0100
TZOFFSETTO:+0200
TZNAME:CEST
DTSTART:20240331T010000
END:DAYLIGHT
BEGIN:STANDARD
TZOFFSETFROM:+0200
TZOFFSETTO:+0100
TZNAME:CET
DTSTART:20241027T010000
END:STANDARD
BEGIN:DAYLIGHT
TZOFFSETFROM:+0100
TZOFFSETTO:+0200
TZNAME:CEST
DTSTART:20250330T010000
END:DAYLIGHT
BEGIN:STANDARD
TZOFFSETFROM:+0200
TZOFFSETTO:+0100
TZNAME:CET
DTSTART:20251026T010000
END:STANDARD
BEGIN:DAYLIGHT
TZOFFSETFROM:+0100
TZOFFSETTO:+0200
TZNAME:CEST
DTSTART:20260329T010000
END:DAYLIGHT
BEGIN:STANDARD
TZOFFSETFROM:+0200
TZOFFSETTO:+0100
TZNAME:CET
DTSTART:20261025T010000
END:STANDARD
END:VTIMEZONE
BEGIN:VEVENT
DTSTART;TZID=Europe/Rome:20251112T214500
DTEND;TZID=Europe/Rome:20251112T230000
DTSTAMP:20260423T133443
CREATED:20251111T121849Z
LAST-MODIFIED:20251111T122149Z
UID:20516-1762983900-1762988400@www.jazzino.it
SUMMARY:Super Latin Voice @Jazzino
DESCRIPTION:ACQUISTA IL BIGLIETTOACQUISTA IL BIGLIETTO\nSUPER LATIN VOICE\n🌴 Super Latin Voice  \nMercoledì 12 novembre al Jazzino\, il secondo appuntamento più caliente della stagione! 🔥 \nUna serata che intreccia ritmo e passione: dalle radici del latin jazz alle sonorità contemporanee\, per una session musicale che accende i sensi. 💃🕺 \n🕗 Live ore 21:45 \n📞 Info & prenotazioni → WhatsApp +39 375 836 5120 \nRitmo\, groove e pura energia latina. \nSolo al Jazzino\, la casa del grande jazz in Sardegna. 🎺✨ \n \n \n  \nACQUISTA IL BIGLIETTOACQUISTA IL BIGLIETTO\n  \n 
URL:https://www.jazzino.it/evento/super-latin-voice-jazzino/
LOCATION:Jazzino\, via Carloforte 74\, Cagliari\, IT
ATTACH;FMTTYPE=image/webp:https://www.jazzino.it/wp-content/uploads/2025/10/WORDPRESS-ADATTAMENTO-IMMAGINE-2-1.webp
END:VEVENT
END:VCALENDAR