BEGIN:VCALENDAR
VERSION:2.0
PRODID:-//Jazzino - Ristorante Jazz Club - ECPv6.15.20//NONSGML v1.0//EN
CALSCALE:GREGORIAN
METHOD:PUBLISH
X-ORIGINAL-URL:https://www.jazzino.it
X-WR-CALDESC:Eventi per Jazzino - Ristorante Jazz Club
REFRESH-INTERVAL;VALUE=DURATION:PT1H
X-Robots-Tag:noindex
X-PUBLISHED-TTL:PT1H
BEGIN:VTIMEZONE
TZID:Europe/Rome
BEGIN:DAYLIGHT
TZOFFSETFROM:+0100
TZOFFSETTO:+0200
TZNAME:CEST
DTSTART:20240331T010000
END:DAYLIGHT
BEGIN:STANDARD
TZOFFSETFROM:+0200
TZOFFSETTO:+0100
TZNAME:CET
DTSTART:20241027T010000
END:STANDARD
BEGIN:DAYLIGHT
TZOFFSETFROM:+0100
TZOFFSETTO:+0200
TZNAME:CEST
DTSTART:20250330T010000
END:DAYLIGHT
BEGIN:STANDARD
TZOFFSETFROM:+0200
TZOFFSETTO:+0100
TZNAME:CET
DTSTART:20251026T010000
END:STANDARD
BEGIN:DAYLIGHT
TZOFFSETFROM:+0100
TZOFFSETTO:+0200
TZNAME:CEST
DTSTART:20260329T010000
END:DAYLIGHT
BEGIN:STANDARD
TZOFFSETFROM:+0200
TZOFFSETTO:+0100
TZNAME:CET
DTSTART:20261025T010000
END:STANDARD
END:VTIMEZONE
BEGIN:VEVENT
DTSTART;TZID=Europe/Rome:20251114T214500
DTEND;TZID=Europe/Rome:20251114T223000
DTSTAMP:20260423T090725
CREATED:20251017T114436Z
LAST-MODIFIED:20251017T114436Z
UID:20332-1763156700-1763159400@www.jazzino.it
SUMMARY:TJCN | Nessuna Grazia “Gramsci e Pertini” live al Jazzino il 14/11/2025
DESCRIPTION:The Jazz Club Network: un’ottava stagione all’insegna del grande jazz.\nDal 3 ottobre al 13 dicembre 2025 solo al Jazzino ⬇️\nScopri tutto il programma \nUnico Set\nApertura Porte ore 20.00\nInzio Live ore 21.45 \nACQUISTA IL BIGLIETTOACQUISTA IL BIGLIETTO\nNessuna Grazia: “Gramsci e Pertini” – Una Narrazione Musicata per Celebrare la Resistenza\nNessuna Grazia” è un monologo intenso e commovente\, tratto dall’omonimo romanzo di Cosimo Damiano Damato\, pubblicato da Rai Libri nella collana “Cristalli Sognanti”. \nQuesto spettacolo si propone come un racconto antifascista di fratellanza\, libertà e amore\, una storia di resistenza poetica\, politica e civile. \nL’opera narra\, attraverso parole e musica\, il coraggio di una gioventù che ha sacrificato i suoi anni migliori per la nostra libertà\, ed è un sentito omaggio agli 80 anni della Resistenza Italiana e della Liberazione dal Nazifascismo. \nIl titolo completo\, “Nessuna Grazia: Gramsci e Pertini\, una storia di prigionia e resistenza”\, sottolinea il focus sulla detenzione e sul valore della lotta per la libertà attraverso le figure emblematiche di Antonio Gramsci e Sandro Pertini. \nIl Contributo Musicale:\nLe narrazioni di Cosimo Damiano Damato sono arricchite e impreziosite dalle composizioni e improvvisazioni originali di due maestri della scena musicale contemporanea: Antonello Salis e Giuseppe Bassi. \nAntonello Salis\, pianista e fisarmonicista di fama internazionale\, si distingue per il suo approccio visionario e la sua capacità di intrecciare estro e libertà in un flusso sonoro imprevedibile e avvolgente. \nAl suo fianco\, Giuseppe Bassi\, contrabbassista e compositore\, dà voce alle corde del suo strumento con un lirismo profondo e una sensibilità interpretativa unica\, contribuendo a creare un’atmosfera sonora di grande impatto emotivo. \nLa sinergia tra la narrazione potente di Damato e le suggestive improvvisazioni musicali di Salis e Bassi trasforma “Nessuna Grazia” in un’esperienza artistica multidisciplinare\, capace di emozionare e far riflettere sul valore eterno della Resistenza e sul sacrificio di coloro che hanno lottato per i nostri diritti. \nLINE-UP:\nCosimo Damiano Damato – voce narrante | Antonello Salis – piano/fisarmonica/composizioni | Giuseppe Bassi –\ncontrabbasso/composizioni \nUnico Set\nApertura Porte ore 20.00\nInzio Live ore 21.45 \nACQUISTA IL BIGLIETTOACQUISTA IL BIGLIETTO
URL:https://www.jazzino.it/evento/tjcn-nessuna-grazia-gramsci-e-pertini-live-al-jazzino-il-14-11-2025-2/
LOCATION:Jazzino\, 74 Via Carloforte\, Cagliari\, 09123\, Italy
CATEGORIES:The Jazz Club Network 2026
ATTACH;FMTTYPE=image/webp:https://www.jazzino.it/wp-content/uploads/2025/10/WORDPRESS-ADATTAMENTO-IMMAGINE-1.webp
END:VEVENT
END:VCALENDAR