BEGIN:VCALENDAR
VERSION:2.0
PRODID:-//Jazzino - Ristorante Jazz Club - ECPv6.15.20//NONSGML v1.0//EN
CALSCALE:GREGORIAN
METHOD:PUBLISH
X-WR-CALNAME:Jazzino - Ristorante Jazz Club
X-ORIGINAL-URL:https://www.jazzino.it
X-WR-CALDESC:Eventi per Jazzino - Ristorante Jazz Club
REFRESH-INTERVAL;VALUE=DURATION:PT1H
X-Robots-Tag:noindex
X-PUBLISHED-TTL:PT1H
BEGIN:VTIMEZONE
TZID:Europe/Rome
BEGIN:DAYLIGHT
TZOFFSETFROM:+0100
TZOFFSETTO:+0200
TZNAME:CEST
DTSTART:20240331T010000
END:DAYLIGHT
BEGIN:STANDARD
TZOFFSETFROM:+0200
TZOFFSETTO:+0100
TZNAME:CET
DTSTART:20241027T010000
END:STANDARD
BEGIN:DAYLIGHT
TZOFFSETFROM:+0100
TZOFFSETTO:+0200
TZNAME:CEST
DTSTART:20250330T010000
END:DAYLIGHT
BEGIN:STANDARD
TZOFFSETFROM:+0200
TZOFFSETTO:+0100
TZNAME:CET
DTSTART:20251026T010000
END:STANDARD
BEGIN:DAYLIGHT
TZOFFSETFROM:+0100
TZOFFSETTO:+0200
TZNAME:CEST
DTSTART:20260329T010000
END:DAYLIGHT
BEGIN:STANDARD
TZOFFSETFROM:+0200
TZOFFSETTO:+0100
TZNAME:CET
DTSTART:20261025T010000
END:STANDARD
END:VTIMEZONE
BEGIN:VEVENT
DTSTART;TZID=Europe/Rome:20251119T214500
DTEND;TZID=Europe/Rome:20251119T230000
DTSTAMP:20260423T090746
CREATED:20251111T122515Z
LAST-MODIFIED:20251209T174320Z
UID:20532-1763588700-1763593200@www.jazzino.it
SUMMARY:Soul Sacrifice @Jazzino
DESCRIPTION:ACQUISTA IL BIGLIETTOACQUISTA IL BIGLIETTO\n  \nSOUL SACRIFICE\nPreparati a una serata di pura energia e passione con Soul Sacrifice\, il tributo che celebra il genio musicale di Carlos Santana! \nDal sound inconfondibile della sua chitarra alle travolgenti percussioni\, una band stellare ti farà rivivere i capolavori del grande chitarrista in un’esibizione unica. \nCosa Aspettarsi \nUn mix esplosivo di ritmi latini\, rock e blues che hanno fatto la storia della musica. Lasciati travolgere dalla magia dei brani più iconici di Santana\, in una serata all’insegna della grande musica dal vivo. \nLine Up: \nPaolo Nonnis\, drums e timbales | Federico Valentí\, guitar | Sara Sarritzu\, drums e timbales | Pierandrea Maxia\, Tastiere | Stefano Di Carlo\, congas | Fabio (Bax) Talani\, basso | Diego Milia\, vocal \n  \n \nACQUISTA IL BIGLIETTOACQUISTA IL BIGLIETTO\n  \n 
URL:https://www.jazzino.it/evento/soul-sacrifice-jazzino-2/
LOCATION:Jazzino\, via Carloforte 74\, Cagliari\, IT
ATTACH;FMTTYPE=image/webp:https://www.jazzino.it/wp-content/uploads/2025/10/WORDPRESS-ADATTAMENTO-IMMAGINE-1-1.webp
END:VEVENT
END:VCALENDAR