BEGIN:VCALENDAR
VERSION:2.0
PRODID:-//Jazzino - Ristorante Jazz Club - ECPv6.15.20//NONSGML v1.0//EN
CALSCALE:GREGORIAN
METHOD:PUBLISH
X-WR-CALNAME:Jazzino - Ristorante Jazz Club
X-ORIGINAL-URL:https://www.jazzino.it
X-WR-CALDESC:Eventi per Jazzino - Ristorante Jazz Club
REFRESH-INTERVAL;VALUE=DURATION:PT1H
X-Robots-Tag:noindex
X-PUBLISHED-TTL:PT1H
BEGIN:VTIMEZONE
TZID:Europe/Rome
BEGIN:DAYLIGHT
TZOFFSETFROM:+0100
TZOFFSETTO:+0200
TZNAME:CEST
DTSTART:20240331T010000
END:DAYLIGHT
BEGIN:STANDARD
TZOFFSETFROM:+0200
TZOFFSETTO:+0100
TZNAME:CET
DTSTART:20241027T010000
END:STANDARD
BEGIN:DAYLIGHT
TZOFFSETFROM:+0100
TZOFFSETTO:+0200
TZNAME:CEST
DTSTART:20250330T010000
END:DAYLIGHT
BEGIN:STANDARD
TZOFFSETFROM:+0200
TZOFFSETTO:+0100
TZNAME:CET
DTSTART:20251026T010000
END:STANDARD
BEGIN:DAYLIGHT
TZOFFSETFROM:+0100
TZOFFSETTO:+0200
TZNAME:CEST
DTSTART:20260329T010000
END:DAYLIGHT
BEGIN:STANDARD
TZOFFSETFROM:+0200
TZOFFSETTO:+0100
TZNAME:CET
DTSTART:20261025T010000
END:STANDARD
END:VTIMEZONE
BEGIN:VEVENT
DTSTART;TZID=Europe/Rome:20251126T214500
DTEND;TZID=Europe/Rome:20251126T230000
DTSTAMP:20260423T072555
CREATED:20251114T104734Z
LAST-MODIFIED:20251114T110356Z
UID:20563-1764193500-1764198000@www.jazzino.it
SUMMARY:Super Latin Jazz Instrumental @Jazzino
DESCRIPTION:ACQUISTA IL BIGLIETTOACQUISTA IL BIGLIETTO\nSUPER LATIN JAZZ INSTRUMENTAL\nMercoledì 26 novembre il Jazzino si accende di ritmo\, colore e pura energia latina! \nUna serata dedicata ai suoni incandescenti del latin jazz strumentale: groove\, percussioni\, improvvisazioni e quel calore che ti entra direttamente nel cuore. 🔥🎶 \n📅 26 Novembre 2025 \n🕗 Live ore 21:45 \n🚪 Apertura porte: 20:00 \n💸 Ingresso: 10€ \n🎟️ Biglietti → https://bit.ly/SuperLatinJazzInstrumental26Nov \n📍 Jazzino – Cagliari \n📞 Per info e prenotazioni: +39 375 836 5120 \nACQUISTA IL BIGLIETTOACQUISTA IL BIGLIETTO\n  \n 
URL:https://www.jazzino.it/evento/super-latin-jazz-instrumental-jazzino/
LOCATION:Jazzino\, via Carloforte 74\, Cagliari\, IT
ATTACH;FMTTYPE=image/jpeg:https://www.jazzino.it/wp-content/uploads/2025/11/Cover-fb-SuperLatinInstrumental.jpg
END:VEVENT
END:VCALENDAR