BEGIN:VCALENDAR
VERSION:2.0
PRODID:-//Jazzino - Ristorante Jazz Club - ECPv6.15.20//NONSGML v1.0//EN
CALSCALE:GREGORIAN
METHOD:PUBLISH
X-ORIGINAL-URL:https://www.jazzino.it
X-WR-CALDESC:Eventi per Jazzino - Ristorante Jazz Club
REFRESH-INTERVAL;VALUE=DURATION:PT1H
X-Robots-Tag:noindex
X-PUBLISHED-TTL:PT1H
BEGIN:VTIMEZONE
TZID:Europe/Rome
BEGIN:DAYLIGHT
TZOFFSETFROM:+0100
TZOFFSETTO:+0200
TZNAME:CEST
DTSTART:20240331T010000
END:DAYLIGHT
BEGIN:STANDARD
TZOFFSETFROM:+0200
TZOFFSETTO:+0100
TZNAME:CET
DTSTART:20241027T010000
END:STANDARD
BEGIN:DAYLIGHT
TZOFFSETFROM:+0100
TZOFFSETTO:+0200
TZNAME:CEST
DTSTART:20250330T010000
END:DAYLIGHT
BEGIN:STANDARD
TZOFFSETFROM:+0200
TZOFFSETTO:+0100
TZNAME:CET
DTSTART:20251026T010000
END:STANDARD
BEGIN:DAYLIGHT
TZOFFSETFROM:+0100
TZOFFSETTO:+0200
TZNAME:CEST
DTSTART:20260329T010000
END:DAYLIGHT
BEGIN:STANDARD
TZOFFSETFROM:+0200
TZOFFSETTO:+0100
TZNAME:CET
DTSTART:20261025T010000
END:STANDARD
END:VTIMEZONE
BEGIN:VEVENT
DTSTART;TZID=Europe/Rome:20251127T214500
DTEND;TZID=Europe/Rome:20251127T230000
DTSTAMP:20260423T072602
CREATED:20251117T140249Z
LAST-MODIFIED:20251117T144424Z
UID:20596-1764279900-1764284400@www.jazzino.it
SUMMARY:INTRO @Jazzino
DESCRIPTION:ACQUISTA IL BIGLIETTOACQUISTA IL BIGLIETTO\nINTRO – Sei ragazze. Cinque mondi. Un’unica scena. \nDopo un percorso dedicato alla stage presence\, sei giovani artiste salgono sul palco del Jazzino per presentare il loro primo progetto musicale. \nOgnuna porta con sé un universo fatto di ricerca\, emozioni\, tentativi\, intuizioni e desiderio di raccontarsi attraverso la musica. \nINTRO è il momento in cui si svelano: un momento fragile e potente al tempo stesso\, dove ogni timbro diventa storia e ogni nota diventa scelta. \nUn debutto che non è solo il punto di partenza\, ma un atto di consapevolezza artistica. \nLine-up: \nMilena Sanna | Mara Orsini | Elena Marongiu | Maria Elena Napoli | Elisa Origa \n  \nACQUISTA IL BIGLIETTOACQUISTA IL BIGLIETTO\n  \n 
URL:https://www.jazzino.it/evento/intro-jazzino/
LOCATION:Jazzino\, via Carloforte 74\, Cagliari\, IT
ATTACH;FMTTYPE=image/jpeg:https://www.jazzino.it/wp-content/uploads/2025/11/Cover-Fb-Intro-.jpg
END:VEVENT
END:VCALENDAR