BEGIN:VCALENDAR
VERSION:2.0
PRODID:-//Jazzino - Ristorante Jazz Club - ECPv6.15.20//NONSGML v1.0//EN
CALSCALE:GREGORIAN
METHOD:PUBLISH
X-WR-CALNAME:Jazzino - Ristorante Jazz Club
X-ORIGINAL-URL:https://www.jazzino.it
X-WR-CALDESC:Eventi per Jazzino - Ristorante Jazz Club
REFRESH-INTERVAL;VALUE=DURATION:PT1H
X-Robots-Tag:noindex
X-PUBLISHED-TTL:PT1H
BEGIN:VTIMEZONE
TZID:Europe/Rome
BEGIN:DAYLIGHT
TZOFFSETFROM:+0100
TZOFFSETTO:+0200
TZNAME:CEST
DTSTART:20240331T010000
END:DAYLIGHT
BEGIN:STANDARD
TZOFFSETFROM:+0200
TZOFFSETTO:+0100
TZNAME:CET
DTSTART:20241027T010000
END:STANDARD
BEGIN:DAYLIGHT
TZOFFSETFROM:+0100
TZOFFSETTO:+0200
TZNAME:CEST
DTSTART:20250330T010000
END:DAYLIGHT
BEGIN:STANDARD
TZOFFSETFROM:+0200
TZOFFSETTO:+0100
TZNAME:CET
DTSTART:20251026T010000
END:STANDARD
BEGIN:DAYLIGHT
TZOFFSETFROM:+0100
TZOFFSETTO:+0200
TZNAME:CEST
DTSTART:20260329T010000
END:DAYLIGHT
BEGIN:STANDARD
TZOFFSETFROM:+0200
TZOFFSETTO:+0100
TZNAME:CET
DTSTART:20261025T010000
END:STANDARD
END:VTIMEZONE
BEGIN:VEVENT
DTSTART;TZID=Europe/Rome:20251128T214500
DTEND;TZID=Europe/Rome:20251128T223000
DTSTAMP:20260423T072556
CREATED:20251017T121304Z
LAST-MODIFIED:20251017T121304Z
UID:20341-1764366300-1764369000@www.jazzino.it
SUMMARY:TJCN | Jed Levy & Phil Robson International Quartet live al Jazzino il 28/11/2025
DESCRIPTION:The Jazz Club Network: un’ottava stagione all’insegna del grande jazz.\nDal 3 ottobre al 13 dicembre 2025 solo al Jazzino ⬇️\nScopri tutto il programma \nUnico Set\nApertura Porte ore 20.00\nInzio Live ore 21.45 \nACQUISTA IL BIGLIETTOACQUISTA IL BIGLIETTO\nJed Levy è una figura centrale nella scena jazz di New York da oltre vent’anni\, un sassofonista la cui carriera è un vivido esempio di versatilità e profonda integrazione nel tessuto musicale della città. \nIl suo percorso non si limita alla pubblicazione di album come leader\, ma si distingue per un’incredibile rete di collaborazioni che attraversa generazioni e stili del jazz.\nLa sua capacità di spaziare tra diverse epoche e generi è testimoniata da una lista di collaborazioni che include vere e proprie leggende. \nHa suonato e registrato con giganti del passato come Jaki Byard\, Don Patterson e Jack McDuff\, e ha condiviso il palco con maestri contemporanei come Ron McClure e Mike Clark\, batterista dei leggendari Headhunters. \nL’elenco è un vero e proprio “who’s who” del jazz: Junior Mance\, Eddie Henderson\, Jack Walrath\, la Vanguard Jazz Orchestra\, Shirley Scott\, Kevin Mahogany\, Gene Bertoncini\, Don Friedman\, Cedar Walton\, Curtis Fuller\, Chico O’Farrill\, Attilla Zollar\, Groove Holmes e Tom Harrell sono solo alcuni dei nomi che hanno incrociato il suo percorso artistico. \nQuesta straordinaria adattabilità lo ha portato persino a lavorare con un’icona del soul e dell’R&B come i Temptations. \nCome leader\, Levy ha registrato numerosi album acclamati dalla critica\, nei quali le sue composizioni risplendono di un’originalità che riflette la ricchezza delle sue esperienze. \nLe sue musiche sono così apprezzate da essere state registrate anche da altri artisti di spicco\, tra cui gli Headhunters\, Don Friedman\, Eddie Henderson e Mike Clark\, a dimostrazione della stima di cui gode all’interno della comunità musicale. \nNel 2017 ha dato vita a un’altra entusiasmante partnership\, questa volta con il chitarrista\, compositore britannico e bandleader Phil Robson. La loro collaborazione ha riscosso un successo notevole\, culminato in una serie di performance esaurite in locali storici di New York come il Birdland\, lo Smalls e il 55 Bar. \nQuesto sodalizio musicale ha portato anche a diverse tournée di successo sia negli Stati Uniti che in Europa\, dove la loro intesa sul palco ha saputo conquistare il pubblico con un jazz vibrante e coinvolgente. \nA rendere questo progetto ancora più unico\, la scelta di collaborare con due musicisti d’eccezione: il contrabbassista britannico Mark Hodgson e il rinomato batterista italiano Roberto Gatto. \nUna sezione ritmica\, solida e creativa che esalta le melodie di Levy e Robson\, creando un’esperienza sonora di altissimo livello. \nLINE-UP:\nJed Levy – sax tenore | Phil Robson – chitarra | Mark Hodgson – contrabbasso | Roberto Gatto – batteria \nUnico Set\nApertura Porte ore 20.00\nInzio Live ore 21.45 \nACQUISTA IL BIGLIETTOACQUISTA IL BIGLIETTO
URL:https://www.jazzino.it/evento/tjcn-jed-levy-phil-robson-international-quartet-live-al-jazzino-il-28-11-2025/
LOCATION:Jazzino\, 74 Via Carloforte\, Cagliari\, 09123\, Italy
CATEGORIES:The Jazz Club Network 2026
ATTACH;FMTTYPE=image/webp:https://www.jazzino.it/wp-content/uploads/2025/10/WORDPRESS-ADATTAMENTO-IMMAGINE-2.webp
END:VEVENT
END:VCALENDAR