BEGIN:VCALENDAR
VERSION:2.0
PRODID:-//Jazzino - Ristorante Jazz Club - ECPv6.15.20//NONSGML v1.0//EN
CALSCALE:GREGORIAN
METHOD:PUBLISH
X-WR-CALNAME:Jazzino - Ristorante Jazz Club
X-ORIGINAL-URL:https://www.jazzino.it
X-WR-CALDESC:Eventi per Jazzino - Ristorante Jazz Club
REFRESH-INTERVAL;VALUE=DURATION:PT1H
X-Robots-Tag:noindex
X-PUBLISHED-TTL:PT1H
BEGIN:VTIMEZONE
TZID:Europe/Rome
BEGIN:DAYLIGHT
TZOFFSETFROM:+0100
TZOFFSETTO:+0200
TZNAME:CEST
DTSTART:20250330T010000
END:DAYLIGHT
BEGIN:STANDARD
TZOFFSETFROM:+0200
TZOFFSETTO:+0100
TZNAME:CET
DTSTART:20251026T010000
END:STANDARD
BEGIN:DAYLIGHT
TZOFFSETFROM:+0100
TZOFFSETTO:+0200
TZNAME:CEST
DTSTART:20260329T010000
END:DAYLIGHT
BEGIN:STANDARD
TZOFFSETFROM:+0200
TZOFFSETTO:+0100
TZNAME:CET
DTSTART:20261025T010000
END:STANDARD
BEGIN:DAYLIGHT
TZOFFSETFROM:+0100
TZOFFSETTO:+0200
TZNAME:CEST
DTSTART:20270328T010000
END:DAYLIGHT
BEGIN:STANDARD
TZOFFSETFROM:+0200
TZOFFSETTO:+0100
TZNAME:CET
DTSTART:20271031T010000
END:STANDARD
END:VTIMEZONE
BEGIN:VEVENT
DTSTART;TZID=Europe/Rome:20260130T214500
DTEND;TZID=Europe/Rome:20260130T230000
DTSTAMP:20260422T210535
CREATED:20260102T121534Z
LAST-MODIFIED:20260113T123658Z
UID:20827-1769809500-1769814000@www.jazzino.it
SUMMARY:Francesca Corrias e Paolo Carrus Quartet @Jazzino
DESCRIPTION:ACQUISTA IL BIGLIETTOACQUISTA IL BIGLIETTO\nFRANCESCA CORRIAS E PAOLO CARRUS QUARTET\nIl quartetto è la formazione jazzistica più tipica\, perché favorisce un delicato equilibrio tra arrangiamento e libertà espressiva. Il gruppo con la leader voice di Francesca Corrias ha deciso di rivivere alcune pagine scelte di quel grande libro dei sogni e delle emozioni che è noto come “Great American Songbook”\, senza negarsi altre suggestioni che del jazz fanno parte\, dai ritmi latini alle canzoni europee. Gli arrangiamenti del m° Carrus esaltano la forma tradizionale del quartetto jazz\, in cui la swingante sezione ritmica\, costituita da Carrus\, Mundula e Manca\, sostiene abilmente la dirompente vocalità di Francesca Corrias. \nFRANCESCA CORRIAS\nCantante\, compositrice e flautista una delle voci più talentuose del panorama jazzistico in Italia e docente di canto Jazz presso il Conservatorio di Cagliari\, ha già al suo attivo numerosi progetti discografici ed una lunga attività di concerti\, è una musicista a tutto tondo con rilevante talento per il jazz\, ma anche conoscenze di rock\, samba\, pop\, musica contemporanea\, nonché notevole estro per la composizione e l’improvvisazione vocale. \nPAOLO CARRUS\nPianista\, compositore e arrangiatore Sin dal 1980 frequenta seminari e corsi di perfezionamento jazz. Si diploma in Jazz presso il Conservatorio di Cagliari. Incide il primo LP di jazz sardo con il Billy’s garage trio formato dal batterista Billy Sechi e dal contrabbassista Salvatore Maiore. Collabora con solisti di fama nazionale ed internazionale e partecipa a programmi televisivi\, radiofonici e festivals nazionali ed internazionali. Realizza tre CD con sue composizioni che rappresentano una sintesi fra il jazz e la musica popolare sarda: Sardegna oltre il mare\, Odras con la partecipazione di Paolo Fresu ed Echi con il suo New Ensemble. Costituisce e dirige la Civica Big Band. Collabora regolarmente con la cantante Francesca Corrias\, il batterista Gianrico Manca ed il contrabbassista Filippo Mundula con rielaborazioni di brani della tradizione afroamericana. \n \nACQUISTA IL BIGLIETTOACQUISTA IL BIGLIETTO\n  \n 
URL:https://www.jazzino.it/evento/paolo-carrus-orchestra-jazzino/
LOCATION:Jazzino\, via Carloforte 74\, Cagliari\, IT
ATTACH;FMTTYPE=image/jpeg:https://www.jazzino.it/wp-content/uploads/2026/01/WORDPRESS-ADATTAMENTO-IMMAGINE.jpg
END:VEVENT
END:VCALENDAR