BEGIN:VCALENDAR
VERSION:2.0
PRODID:-//Jazzino - Ristorante Jazz Club - ECPv6.15.20//NONSGML v1.0//EN
CALSCALE:GREGORIAN
METHOD:PUBLISH
X-WR-CALNAME:Jazzino - Ristorante Jazz Club
X-ORIGINAL-URL:https://www.jazzino.it
X-WR-CALDESC:Eventi per Jazzino - Ristorante Jazz Club
REFRESH-INTERVAL;VALUE=DURATION:PT1H
X-Robots-Tag:noindex
X-PUBLISHED-TTL:PT1H
BEGIN:VTIMEZONE
TZID:Europe/Rome
BEGIN:DAYLIGHT
TZOFFSETFROM:+0100
TZOFFSETTO:+0200
TZNAME:CEST
DTSTART:20250330T010000
END:DAYLIGHT
BEGIN:STANDARD
TZOFFSETFROM:+0200
TZOFFSETTO:+0100
TZNAME:CET
DTSTART:20251026T010000
END:STANDARD
BEGIN:DAYLIGHT
TZOFFSETFROM:+0100
TZOFFSETTO:+0200
TZNAME:CEST
DTSTART:20260329T010000
END:DAYLIGHT
BEGIN:STANDARD
TZOFFSETFROM:+0200
TZOFFSETTO:+0100
TZNAME:CET
DTSTART:20261025T010000
END:STANDARD
BEGIN:DAYLIGHT
TZOFFSETFROM:+0100
TZOFFSETTO:+0200
TZNAME:CEST
DTSTART:20270328T010000
END:DAYLIGHT
BEGIN:STANDARD
TZOFFSETFROM:+0200
TZOFFSETTO:+0100
TZNAME:CET
DTSTART:20271031T010000
END:STANDARD
END:VTIMEZONE
BEGIN:VEVENT
DTSTART;TZID=Europe/Rome:20260409T214500
DTEND;TZID=Europe/Rome:20260409T230000
DTSTAMP:20260423T005902
CREATED:20260330T111736Z
LAST-MODIFIED:20260330T111736Z
UID:21400-1775771100-1775775600@www.jazzino.it
SUMMARY:Francesca Corrias & Mauro Laconi duo @Jazzino
DESCRIPTION:ACQUISTA IL BIGLIETTOACQUISTA IL BIGLIETTO\nFrancesca Corrias & Mauro Laconi duo\nLa voce come respiro\, flusso\, vibrazione\, strumento naturale che attraversa lo spazio e ne plasma i contorni\, fino a trasformarsi in racconto sonoro ed emozione condivisa. \nAccompagnata alla chitarra da Mauro Laconi\, storico compagno di viaggio nei Roundella\, Francesca Corrias propone riletture essenziali e ricche di sfumature di sue composizioni originali tratte dai repertori dei suoi progetti principali\, Roundella e Sunflower\, insieme ad alcuni brani inediti che svelano nuove direzioni del suo percorso artistico. \nCantante e compositrice dalla cifra stilistica raffinata\, Francesca Corrias ha collaborato con alcuni dei musicisti più interessanti della scena jazz italiana e internazionale e ha all’attivo cinque dischi da leader e numerose collaborazioni discografiche. Docente di canto jazz presso il Conservatorio di Cagliari e punto di riferimento per generazioni di giovani interpreti\, è da anni tra i protagonisti dei seminari di Nuoro Jazz\, dove condivide la sua esperienza e visione artistica. \n \n \n \n \nACQUISTA IL BIGLIETTOACQUISTA IL BIGLIETTO\n  \n 
URL:https://www.jazzino.it/evento/francesca-corrias-mauro-laconi-duo-jazzino/
LOCATION:Jazzino\, via Carloforte 74\, Cagliari\, IT
ATTACH;FMTTYPE=image/jpeg:https://www.jazzino.it/wp-content/uploads/2026/03/MaioLaconi_Francesca-Corrias.jpg
END:VEVENT
END:VCALENDAR