BEGIN:VCALENDAR
VERSION:2.0
PRODID:-//Jazzino - Ristorante Jazz Club - ECPv6.15.20//NONSGML v1.0//EN
CALSCALE:GREGORIAN
METHOD:PUBLISH
X-WR-CALNAME:Jazzino - Ristorante Jazz Club
X-ORIGINAL-URL:https://www.jazzino.it
X-WR-CALDESC:Eventi per Jazzino - Ristorante Jazz Club
REFRESH-INTERVAL;VALUE=DURATION:PT1H
X-Robots-Tag:noindex
X-PUBLISHED-TTL:PT1H
BEGIN:VTIMEZONE
TZID:Europe/Rome
BEGIN:DAYLIGHT
TZOFFSETFROM:+0100
TZOFFSETTO:+0200
TZNAME:CEST
DTSTART:20250330T010000
END:DAYLIGHT
BEGIN:STANDARD
TZOFFSETFROM:+0200
TZOFFSETTO:+0100
TZNAME:CET
DTSTART:20251026T010000
END:STANDARD
BEGIN:DAYLIGHT
TZOFFSETFROM:+0100
TZOFFSETTO:+0200
TZNAME:CEST
DTSTART:20260329T010000
END:DAYLIGHT
BEGIN:STANDARD
TZOFFSETFROM:+0200
TZOFFSETTO:+0100
TZNAME:CET
DTSTART:20261025T010000
END:STANDARD
BEGIN:DAYLIGHT
TZOFFSETFROM:+0100
TZOFFSETTO:+0200
TZNAME:CEST
DTSTART:20270328T010000
END:DAYLIGHT
BEGIN:STANDARD
TZOFFSETFROM:+0200
TZOFFSETTO:+0100
TZNAME:CET
DTSTART:20271031T010000
END:STANDARD
END:VTIMEZONE
BEGIN:VEVENT
DTSTART;TZID=Europe/Rome:20260426T214500
DTEND;TZID=Europe/Rome:20260426T230000
DTSTAMP:20260422T232004
CREATED:20260420T102953Z
LAST-MODIFIED:20260420T102953Z
UID:21618-1777239900-1777244400@www.jazzino.it
SUMMARY:Alessandra Diodati x Parole Sonore@Jazzino
DESCRIPTION:ACQUISTA IL BIGLIETTOACQUISTA IL BIGLIETTO\nALESSANDRA DIODATI x PAROLE SONORE\nIl primo appuntamento di Parole Sonore incontrerà Alessandra Diodati. Cantante\, compositrice e performer tra jazz contemporaneo\, improvvisazione ed elettronica. \nDomenica 26 Aprile si esibirà con il suo progetto da solista “To Be Born”\, progetto per voce ed elettronica che esplora la voce dai suoni preverbali all’uso della parola come portatrice di messaggio ma anche solo come espressione di timbri diversi. Al centro ci sono identità e memoria\, anche attraverso l’uso del sardo logudorese\, creando uno spazio sonoro in continua evoluzione tra tradizione e innovazione \n \n \nACQUISTA IL BIGLIETTOACQUISTA IL BIGLIETTO\n  \n 
URL:https://www.jazzino.it/evento/alessandra-diodati-x-parole-sonorejazzino/
LOCATION:Jazzino\, via Carloforte 74\, 09123 Cagliari\, Cagliari\, 09123\, IT
ATTACH;FMTTYPE=image/jpeg:https://www.jazzino.it/wp-content/uploads/2026/04/WORDPRESS-ADATTAMENTO-IMMAGINE-4.jpg
END:VEVENT
END:VCALENDAR