BEGIN:VCALENDAR
VERSION:2.0
PRODID:-//Jazzino - Ristorante Jazz Club - ECPv6.15.20//NONSGML v1.0//EN
CALSCALE:GREGORIAN
METHOD:PUBLISH
X-WR-CALNAME:Jazzino - Ristorante Jazz Club
X-ORIGINAL-URL:https://www.jazzino.it
X-WR-CALDESC:Eventi per Jazzino - Ristorante Jazz Club
REFRESH-INTERVAL;VALUE=DURATION:PT1H
X-Robots-Tag:noindex
X-PUBLISHED-TTL:PT1H
BEGIN:VTIMEZONE
TZID:Europe/Rome
BEGIN:DAYLIGHT
TZOFFSETFROM:+0100
TZOFFSETTO:+0200
TZNAME:CEST
DTSTART:20240331T010000
END:DAYLIGHT
BEGIN:STANDARD
TZOFFSETFROM:+0200
TZOFFSETTO:+0100
TZNAME:CET
DTSTART:20241027T010000
END:STANDARD
BEGIN:DAYLIGHT
TZOFFSETFROM:+0100
TZOFFSETTO:+0200
TZNAME:CEST
DTSTART:20250330T010000
END:DAYLIGHT
BEGIN:STANDARD
TZOFFSETFROM:+0200
TZOFFSETTO:+0100
TZNAME:CET
DTSTART:20251026T010000
END:STANDARD
BEGIN:DAYLIGHT
TZOFFSETFROM:+0100
TZOFFSETTO:+0200
TZNAME:CEST
DTSTART:20260329T010000
END:DAYLIGHT
BEGIN:STANDARD
TZOFFSETFROM:+0200
TZOFFSETTO:+0100
TZNAME:CET
DTSTART:20261025T010000
END:STANDARD
END:VTIMEZONE
BEGIN:VEVENT
DTSTART;TZID=Europe/Rome:20251101T220000
DTEND;TZID=Europe/Rome:20251101T230000
DTSTAMP:20260422T234756
CREATED:20251009T114334Z
LAST-MODIFIED:20251014T120234Z
UID:20286-1762034400-1762038000@www.jazzino.it
SUMMARY:TJCN | Tim Garland & Gwylin Simcock live al Jazzino il 01/11/2025
DESCRIPTION:🎷🎷questo evento prevede un set 🎷🎷 \nSET: Apertura porte 21.00 | Inizio live 22.00 \nACQUISTA IL BIGLIETTOACQUISTA IL BIGLIETTO\n  \nThe Jazz Club Network: un’ottava stagione all’insegna del grande jazz.\nDal 3 ottobre al 13 dicembre 2025 solo al Jazzino ⬇️\nScopri tutto il programma \nTim Garland & Gwilym Simcock in duo: l’incontro di due maestri  \nNel corso di una carriera internazionale iniziata alla fine degli anni ’80\, Tim Garland si è affermato come una delle figure più eclettiche e influenti del panorama musicale britannico. \nLa sua ascesa ha avuto inizio a 23 anni\, quando entrò nella band del leggendario Ronnie Scott. La sua collaborazione più significativa e duratura\, però\, fu al fianco di Chick Corea per ben diciassette anni\, partecipando a numerosi progetti mondiali\, tra cui l’album “The Vigil”. \nIn quel periodo\, Garland non solo si distingueva per la sua maestria al sax tenore e soprano e al clarinetto basso\, ma vinse anche un Grammy Award per le sue orchestrazioni sinfoniche sull’album di Corea\, “The New Crystal Silence”. \nVirtuosismo e Collaborazioni d’Eccellenza: \nLa musica di Garland\, pur essendo profondamente radicata nel linguaggio jazz\, si spinge costantemente oltre i suoi confini. \nIl suo celebre virtuosismo al sassofono lo ha consacrato come una delle voci più autentiche e originali della scena britannica. \nPer questa speciale performance in duo\, Garland si esibisce con Gwilym Simcock\, un pianista con cui condivide un profondo amore per il jazz melodico contemporaneo. \nInsieme\, hanno costituito per anni due terzi del rinomato Lighthouse Trio\, un sodalizio che li ha portati a girare il mondo e a registrare numerosi brani in una collaborazione ormai ventennale. Questo concerto presenta musiche originali di entrambi\, frutto della loro lunga intesa artistica\, oltre a brani scelti dal repertorio jazz più amato. \nUn Dialogo Musicale Straordinario: \nL’esperienza di Garland al fianco di giganti come Chick Corea e le intense collaborazioni di Simcock con Pat Metheny li hanno resi due dei musicisti d’improvvisazione più esperti e stimati dell’intera scena europea. \nLa loro performance è un vero e proprio dialogo musicale\, dove l’interplay\, la tecnica raffinata e la profonda sensibilità artistica si fondono\, creando un’esperienza d’ascolto ricca di sfumature\, capace di toccare il pubblico con la sua profondità e bellezza. \nLINEUP: Tim Garland: sax tenore/alto – Gwilym Simcock: piano \n  \n🎷🎷questo evento prevede un set 🎷🎷 \nSET: Apertura porte 21.00 | Inizio live 22.00 \nACQUISTA IL BIGLIETTOACQUISTA IL BIGLIETTO
URL:https://www.jazzino.it/evento/tjcn-tim-garland-gwylin-simcock-live-al-jazzino-il-01-11-2025/
LOCATION:Jazzino\, 74 Via Carloforte\, Cagliari\, 09123\, Italy
CATEGORIES:The Jazz Club Network 2026
ATTACH;FMTTYPE=image/webp:https://www.jazzino.it/wp-content/uploads/2025/10/WORDPRESS-ADATTAMENTO-IMMAGINE.webp
END:VEVENT
BEGIN:VEVENT
DTSTART;TZID=Europe/Rome:20251102T214500
DTEND;TZID=Europe/Rome:20251102T223000
DTSTAMP:20260422T234756
CREATED:20251006T104154Z
LAST-MODIFIED:20251009T114511Z
UID:20278-1762119900-1762122600@www.jazzino.it
SUMMARY:TJCN | Tim Garland & Gwylin Simcock live al Jazzino il 02/11/2025
DESCRIPTION:ACQUISTA IL BIGLIETTOACQUISTA IL BIGLIETTO\nThe Jazz Club Network: un’ottava stagione all’insegna del grande jazz.\nDal 3 ottobre al 13 dicembre 2025 solo al Jazzino ⬇️\nScopri tutto il programma \nUnico Set\nApertura Porte ore 20.00\nInzio Live ore 21.45 \nTim Garland & Gwilym Simcock in duo: l’incontro di due maestri  \nNel corso di una carriera internazionale iniziata alla fine degli anni ’80\, Tim Garland si è affermato come una delle figure più eclettiche e influenti del panorama musicale britannico. \nLa sua ascesa ha avuto inizio a 23 anni\, quando entrò nella band del leggendario Ronnie Scott. La sua collaborazione più significativa e duratura\, però\, fu al fianco di Chick Corea per ben diciassette anni\, partecipando a numerosi progetti mondiali\, tra cui l’album “The Vigil”. \nIn quel periodo\, Garland non solo si distingueva per la sua maestria al sax tenore e soprano e al clarinetto basso\, ma vinse anche un Grammy Award per le sue orchestrazioni sinfoniche sull’album di Corea\, “The New Crystal Silence”. \nVirtuosismo e Collaborazioni d’Eccellenza: \nLa musica di Garland\, pur essendo profondamente radicata nel linguaggio jazz\, si spinge costantemente oltre i suoi confini. \nIl suo celebre virtuosismo al sassofono lo ha consacrato come una delle voci più autentiche e originali della scena britannica. \nPer questa speciale performance in duo\, Garland si esibisce con Gwilym Simcock\, un pianista con cui condivide un profondo amore per il jazz melodico contemporaneo. \nInsieme\, hanno costituito per anni due terzi del rinomato Lighthouse Trio\, un sodalizio che li ha portati a girare il mondo e a registrare numerosi brani in una collaborazione ormai ventennale. Questo concerto presenta musiche originali di entrambi\, frutto della loro lunga intesa artistica\, oltre a brani scelti dal repertorio jazz più amato. \nUn Dialogo Musicale Straordinario: \nL’esperienza di Garland al fianco di giganti come Chick Corea e le intense collaborazioni di Simcock con Pat Metheny li hanno resi due dei musicisti d’improvvisazione più esperti e stimati dell’intera scena europea. \nLa loro performance è un vero e proprio dialogo musicale\, dove l’interplay\, la tecnica raffinata e la profonda sensibilità artistica si fondono\, creando un’esperienza d’ascolto ricca di sfumature\, capace di toccare il pubblico con la sua profondità e bellezza. \nLINEUP: Tim Garland: sax tenore/alto – Gwilym Simcock: piano \nUnico Set\nApertura Porte ore 20.00\nInzio Live ore 21.45 \nACQUISTA IL BIGLIETTOACQUISTA IL BIGLIETTO
URL:https://www.jazzino.it/evento/tjcn-tim-garland-gwylin-simcock-live-al-jazzino-il-02-11-2025/
LOCATION:Jazzino\, 74 Via Carloforte\, Cagliari\, 09123\, Italy
CATEGORIES:The Jazz Club Network 2026
ATTACH;FMTTYPE=image/webp:https://www.jazzino.it/wp-content/uploads/2025/10/WORDPRESS-ADATTAMENTO-IMMAGINE.webp
END:VEVENT
BEGIN:VEVENT
DTSTART;TZID=Europe/Rome:20251107T214500
DTEND;TZID=Europe/Rome:20251107T223000
DTSTAMP:20260422T234756
CREATED:20251009T114638Z
LAST-MODIFIED:20251009T114638Z
UID:20295-1762551900-1762554600@www.jazzino.it
SUMMARY:TJCN | Marco Valeri Quartet live al Jazzino il 07/11/2025
DESCRIPTION:ACQUISTA IL BIGLIETTOACQUISTA IL BIGLIETTO\nThe Jazz Club Network: un’ottava stagione all’insegna del grande jazz.\nDal 3 ottobre al 13 dicembre 2025 solo al Jazzino ⬇️\nScopri tutto il programma \nUnico Set\nApertura Porte ore 20.00\nInizio Live ore 21.45 \nMARCO VALERI QUARTET: Swing e Contemporaneità  \nIl Marco Valeri Quartet si distingue nel panorama jazzistico per una proposta musicale che fonde con maestria le radici dello swing con sonorità moderne e contemporanee. \nAl timone del progetto c’è Marco Valeri\, una delle figure più rispettate della batteria jazz in Italia e a livello internazionale. La sua carriera è un’impressionante tessitura di collaborazioni con giganti del calibro di Kurt Rosenwinkel\, Sarah McKenzie\, Danny Grissett\, Fabrizio Bosso e Rosario Giuliani\, e lo ha portato a calcare i palchi di festival prestigiosi come Umbria Jazz\, Jazz in Marciac e Java Jazz. \nIl quartetto è un vero e proprio concentrato di talento\, con un interplay che cattura fin dalle prime note. Al fianco di Valeri troviamo Daniele Tittarelli al sax alto\, un musicista dalla voce inconfondibile e originale\, capace di dare vita a melodie vibranti e piene di carattere. Al pianoforte\, il tocco elegante e virtuoso di Vittorio Esposito\, un giovane talento già riconosciuto come uno dei migliori prospetti del jazz attuale. A completare la sezione ritmica\, la solida e impeccabile presenza di un altro talento Gabriele Pagliano al contrabbasso. Insieme\, questi musicisti creano un’esperienza sonora ricca di energia e raffinatezza. \nLa loro musica è un viaggio attraverso atmosfere intense e coinvolgenti\, dove il virtuosismo tecnico si mette al servizio di una profonda sensibilità artistica. \nL’alchimia del quartetto genera un dialogo costante e stimolante\, un’interazione che non smette mai di sorprendere e che tiene l’ascoltatore incollato alla poltrona dall’inizio alla fine. Un’espressione di jazz che omaggia la tradizione guardando dritto al futuro\, con un’eleganza e una freschezza. \nLINE-UP: \nMarco Valeri: batteria – Daniele Tittarelli: alto sax – Vittorio Esposito: piano – Gabriele Pagliano: contrabbasso \nUnico Set\nApertura Porte ore 20.00\nInizio Live ore 21.45 \nACQUISTA IL BIGLIETTOACQUISTA IL BIGLIETTO
URL:https://www.jazzino.it/evento/tjcn-marco-valeri-quartet-live-al-jazzino-il-07-11-2025/
LOCATION:Jazzino\, 74 Via Carloforte\, Cagliari\, 09123\, Italy
CATEGORIES:The Jazz Club Network 2026
ATTACH;FMTTYPE=image/webp:https://www.jazzino.it/wp-content/uploads/2025/10/MARCO-VALERI-QUARTET.webp
END:VEVENT
BEGIN:VEVENT
DTSTART;TZID=Europe/Rome:20251108T220000
DTEND;TZID=Europe/Rome:20251108T230000
DTSTAMP:20260422T234756
CREATED:20251009T114808Z
LAST-MODIFIED:20251014T120006Z
UID:20309-1762639200-1762642800@www.jazzino.it
SUMMARY:TJCN | Marco Valeri Quartet live al Jazzino l' 08/11/2025
DESCRIPTION:The Jazz Club Network: un’ottava stagione all’insegna del grande jazz.\nDal 3 ottobre al 13 dicembre 2025 solo al Jazzino ⬇️\nScopri tutto il programma \n🎷🎷questo evento prevede un set 🎷🎷 \nSET: Apertura porte 21.00 | Inizio live 22.00 \nACQUISTA IL BIGLIETTOACQUISTA IL BIGLIETTO\nMARCO VALERI QUARTET: Swing e Contemporaneità  \nIl Marco Valeri Quartet si distingue nel panorama jazzistico per una proposta musicale che fonde con maestria le radici dello swing con sonorità moderne e contemporanee. \nAl timone del progetto c’è Marco Valeri\, una delle figure più rispettate della batteria jazz in Italia e a livello internazionale. La sua carriera è un’impressionante tessitura di collaborazioni con giganti del calibro di Kurt Rosenwinkel\, Sarah McKenzie\, Danny Grissett\, Fabrizio Bosso e Rosario Giuliani\, e lo ha portato a calcare i palchi di festival prestigiosi come Umbria Jazz\, Jazz in Marciac e Java Jazz. \nIl quartetto è un vero e proprio concentrato di talento\, con un interplay che cattura fin dalle prime note. Al fianco di Valeri troviamo Daniele Tittarelli al sax alto\, un musicista dalla voce inconfondibile e originale\, capace di dare vita a melodie vibranti e piene di carattere. Al pianoforte\, il tocco elegante e virtuoso di Vittorio Esposito\, un giovane talento già riconosciuto come uno dei migliori prospetti del jazz attuale. A completare la sezione ritmica\, la solida e impeccabile presenza di un altro talento Gabriele Pagliano al contrabbasso. Insieme\, questi musicisti creano un’esperienza sonora ricca di energia e raffinatezza. \nLa loro musica è un viaggio attraverso atmosfere intense e coinvolgenti\, dove il virtuosismo tecnico si mette al servizio di una profonda sensibilità artistica. \nL’alchimia del quartetto genera un dialogo costante e stimolante\, un’interazione che non smette mai di sorprendere e che tiene l’ascoltatore incollato alla poltrona dall’inizio alla fine. Un’espressione di jazz che omaggia la tradizione guardando dritto al futuro\, con un’eleganza e una freschezza. \nLINE-UP: \nMarco Valeri: batteria – Daniele Tittarelli: alto sax – Vittorio Esposito: piano – Gabriele Pagliano: contrabbasso \n🎷🎷questo evento prevede un set 🎷🎷 \nSET: Apertura porte 21.00 | Inizio live 22.00 \nACQUISTA IL BIGLIETTOACQUISTA IL BIGLIETTO
URL:https://www.jazzino.it/evento/tjcn-marco-valeri-quartet-live-al-jazzino-l-08-11-2025/
LOCATION:Jazzino\, 74 Via Carloforte\, Cagliari\, 09123\, Italy
CATEGORIES:The Jazz Club Network 2026
ATTACH;FMTTYPE=image/webp:https://www.jazzino.it/wp-content/uploads/2025/10/MARCO-VALERI-QUARTET.webp
END:VEVENT
BEGIN:VEVENT
DTSTART;TZID=Europe/Rome:20251113T214500
DTEND;TZID=Europe/Rome:20251113T223000
DTSTAMP:20260422T234756
CREATED:20251017T114539Z
LAST-MODIFIED:20251017T114539Z
UID:20323-1763070300-1763073000@www.jazzino.it
SUMMARY:TJCN | Nessuna Grazia “Gramsci e Pertini” live al Jazzino il 13/11/2025
DESCRIPTION:The Jazz Club Network: un’ottava stagione all’insegna del grande jazz.\nDal 3 ottobre al 13 dicembre 2025 solo al Jazzino ⬇️\nScopri tutto il programma \nUnico Set\nApertura Porte ore 20.00\nInzio Live ore 21.45 \nACQUISTA IL BIGLIETTOACQUISTA IL BIGLIETTO\nNessuna Grazia: “Gramsci e Pertini” – Una Narrazione Musicata per Celebrare la Resistenza\nNessuna Grazia” è un monologo intenso e commovente\, tratto dall’omonimo romanzo di Cosimo Damiano Damato\, pubblicato da Rai Libri nella collana “Cristalli Sognanti”. \nQuesto spettacolo si propone come un racconto antifascista di fratellanza\, libertà e amore\, una storia di resistenza poetica\, politica e civile. \nL’opera narra\, attraverso parole e musica\, il coraggio di una gioventù che ha sacrificato i suoi\nanni migliori per la nostra libertà\, ed è un sentito omaggio agli 80 anni della Resistenza Italiana e della Liberazione dal Nazifascismo. \nIl titolo completo\, “Nessuna Grazia: Gramsci e Pertini\, una storia di prigionia e resistenza”\, sottolinea il focus sulla detenzione e sul valore della lotta per la libertà attraverso le figure emblematiche di Antonio Gramsci e Sandro Pertini. \nIl Contributo Musicale:\nLe narrazioni di Cosimo Damiano Damato sono arricchite e impreziosite dalle composizioni e improvvisazioni originali di due maestri della scena musicale contemporanea: Antonello Salis e Giuseppe Bassi. \nAntonello Salis\, pianista e fisarmonicista di fama internazionale\, si distingue per il suo approccio visionario e la sua capacità di intrecciare estro e libertà in un flusso sonoro imprevedibile e avvolgente. \nAl suo fianco\, Giuseppe Bassi\, contrabbassista e compositore\, dà voce alle corde del suo strumento con un lirismo profondo e una sensibilità interpretativa unica\, contribuendo a creare un’atmosfera sonora di grande impatto emotivo. \nLa sinergia tra la narrazione potente di Damato e le suggestive improvvisazioni musicali di Salis e Bassi trasforma “Nessuna Grazia” in un’esperienza artistica multidisciplinare\, capace di emozionare e far riflettere sul valore eterno della Resistenza e sul sacrificio di coloro che hanno lottato per i nostri diritti. \nLINE-UP: \nCosimo Damiano Damato – voce narrante | Antonello Salis – piano/fisarmonica/composizioni | Giuseppe Bassi –\ncontrabbasso/composizioni \nUnico Set\nApertura Porte ore 20.00\nInzio Live ore 21.45 \nACQUISTA IL BIGLIETTOACQUISTA IL BIGLIETTO
URL:https://www.jazzino.it/evento/tjcn-nessuna-grazia-gramsci-e-pertini-live-al-jazzino-il-13-11-2025/
LOCATION:Jazzino\, 74 Via Carloforte\, Cagliari\, 09123\, Italy
CATEGORIES:The Jazz Club Network 2026
ATTACH;FMTTYPE=image/webp:https://www.jazzino.it/wp-content/uploads/2025/10/WORDPRESS-ADATTAMENTO-IMMAGINE-1.webp
END:VEVENT
BEGIN:VEVENT
DTSTART;TZID=Europe/Rome:20251114T214500
DTEND;TZID=Europe/Rome:20251114T223000
DTSTAMP:20260422T234756
CREATED:20251017T114436Z
LAST-MODIFIED:20251017T114436Z
UID:20332-1763156700-1763159400@www.jazzino.it
SUMMARY:TJCN | Nessuna Grazia “Gramsci e Pertini” live al Jazzino il 14/11/2025
DESCRIPTION:The Jazz Club Network: un’ottava stagione all’insegna del grande jazz.\nDal 3 ottobre al 13 dicembre 2025 solo al Jazzino ⬇️\nScopri tutto il programma \nUnico Set\nApertura Porte ore 20.00\nInzio Live ore 21.45 \nACQUISTA IL BIGLIETTOACQUISTA IL BIGLIETTO\nNessuna Grazia: “Gramsci e Pertini” – Una Narrazione Musicata per Celebrare la Resistenza\nNessuna Grazia” è un monologo intenso e commovente\, tratto dall’omonimo romanzo di Cosimo Damiano Damato\, pubblicato da Rai Libri nella collana “Cristalli Sognanti”. \nQuesto spettacolo si propone come un racconto antifascista di fratellanza\, libertà e amore\, una storia di resistenza poetica\, politica e civile. \nL’opera narra\, attraverso parole e musica\, il coraggio di una gioventù che ha sacrificato i suoi anni migliori per la nostra libertà\, ed è un sentito omaggio agli 80 anni della Resistenza Italiana e della Liberazione dal Nazifascismo. \nIl titolo completo\, “Nessuna Grazia: Gramsci e Pertini\, una storia di prigionia e resistenza”\, sottolinea il focus sulla detenzione e sul valore della lotta per la libertà attraverso le figure emblematiche di Antonio Gramsci e Sandro Pertini. \nIl Contributo Musicale:\nLe narrazioni di Cosimo Damiano Damato sono arricchite e impreziosite dalle composizioni e improvvisazioni originali di due maestri della scena musicale contemporanea: Antonello Salis e Giuseppe Bassi. \nAntonello Salis\, pianista e fisarmonicista di fama internazionale\, si distingue per il suo approccio visionario e la sua capacità di intrecciare estro e libertà in un flusso sonoro imprevedibile e avvolgente. \nAl suo fianco\, Giuseppe Bassi\, contrabbassista e compositore\, dà voce alle corde del suo strumento con un lirismo profondo e una sensibilità interpretativa unica\, contribuendo a creare un’atmosfera sonora di grande impatto emotivo. \nLa sinergia tra la narrazione potente di Damato e le suggestive improvvisazioni musicali di Salis e Bassi trasforma “Nessuna Grazia” in un’esperienza artistica multidisciplinare\, capace di emozionare e far riflettere sul valore eterno della Resistenza e sul sacrificio di coloro che hanno lottato per i nostri diritti. \nLINE-UP:\nCosimo Damiano Damato – voce narrante | Antonello Salis – piano/fisarmonica/composizioni | Giuseppe Bassi –\ncontrabbasso/composizioni \nUnico Set\nApertura Porte ore 20.00\nInzio Live ore 21.45 \nACQUISTA IL BIGLIETTOACQUISTA IL BIGLIETTO
URL:https://www.jazzino.it/evento/tjcn-nessuna-grazia-gramsci-e-pertini-live-al-jazzino-il-14-11-2025-2/
LOCATION:Jazzino\, 74 Via Carloforte\, Cagliari\, 09123\, Italy
CATEGORIES:The Jazz Club Network 2026
ATTACH;FMTTYPE=image/webp:https://www.jazzino.it/wp-content/uploads/2025/10/WORDPRESS-ADATTAMENTO-IMMAGINE-1.webp
END:VEVENT
BEGIN:VEVENT
DTSTART;TZID=Europe/Rome:20251128T214500
DTEND;TZID=Europe/Rome:20251128T223000
DTSTAMP:20260422T234756
CREATED:20251017T121304Z
LAST-MODIFIED:20251017T121304Z
UID:20341-1764366300-1764369000@www.jazzino.it
SUMMARY:TJCN | Jed Levy & Phil Robson International Quartet live al Jazzino il 28/11/2025
DESCRIPTION:The Jazz Club Network: un’ottava stagione all’insegna del grande jazz.\nDal 3 ottobre al 13 dicembre 2025 solo al Jazzino ⬇️\nScopri tutto il programma \nUnico Set\nApertura Porte ore 20.00\nInzio Live ore 21.45 \nACQUISTA IL BIGLIETTOACQUISTA IL BIGLIETTO\nJed Levy è una figura centrale nella scena jazz di New York da oltre vent’anni\, un sassofonista la cui carriera è un vivido esempio di versatilità e profonda integrazione nel tessuto musicale della città. \nIl suo percorso non si limita alla pubblicazione di album come leader\, ma si distingue per un’incredibile rete di collaborazioni che attraversa generazioni e stili del jazz.\nLa sua capacità di spaziare tra diverse epoche e generi è testimoniata da una lista di collaborazioni che include vere e proprie leggende. \nHa suonato e registrato con giganti del passato come Jaki Byard\, Don Patterson e Jack McDuff\, e ha condiviso il palco con maestri contemporanei come Ron McClure e Mike Clark\, batterista dei leggendari Headhunters. \nL’elenco è un vero e proprio “who’s who” del jazz: Junior Mance\, Eddie Henderson\, Jack Walrath\, la Vanguard Jazz Orchestra\, Shirley Scott\, Kevin Mahogany\, Gene Bertoncini\, Don Friedman\, Cedar Walton\, Curtis Fuller\, Chico O’Farrill\, Attilla Zollar\, Groove Holmes e Tom Harrell sono solo alcuni dei nomi che hanno incrociato il suo percorso artistico. \nQuesta straordinaria adattabilità lo ha portato persino a lavorare con un’icona del soul e dell’R&B come i Temptations. \nCome leader\, Levy ha registrato numerosi album acclamati dalla critica\, nei quali le sue composizioni risplendono di un’originalità che riflette la ricchezza delle sue esperienze. \nLe sue musiche sono così apprezzate da essere state registrate anche da altri artisti di spicco\, tra cui gli Headhunters\, Don Friedman\, Eddie Henderson e Mike Clark\, a dimostrazione della stima di cui gode all’interno della comunità musicale. \nNel 2017 ha dato vita a un’altra entusiasmante partnership\, questa volta con il chitarrista\, compositore britannico e bandleader Phil Robson. La loro collaborazione ha riscosso un successo notevole\, culminato in una serie di performance esaurite in locali storici di New York come il Birdland\, lo Smalls e il 55 Bar. \nQuesto sodalizio musicale ha portato anche a diverse tournée di successo sia negli Stati Uniti che in Europa\, dove la loro intesa sul palco ha saputo conquistare il pubblico con un jazz vibrante e coinvolgente. \nA rendere questo progetto ancora più unico\, la scelta di collaborare con due musicisti d’eccezione: il contrabbassista britannico Mark Hodgson e il rinomato batterista italiano Roberto Gatto. \nUna sezione ritmica\, solida e creativa che esalta le melodie di Levy e Robson\, creando un’esperienza sonora di altissimo livello. \nLINE-UP:\nJed Levy – sax tenore | Phil Robson – chitarra | Mark Hodgson – contrabbasso | Roberto Gatto – batteria \nUnico Set\nApertura Porte ore 20.00\nInzio Live ore 21.45 \nACQUISTA IL BIGLIETTOACQUISTA IL BIGLIETTO
URL:https://www.jazzino.it/evento/tjcn-jed-levy-phil-robson-international-quartet-live-al-jazzino-il-28-11-2025/
LOCATION:Jazzino\, 74 Via Carloforte\, Cagliari\, 09123\, Italy
CATEGORIES:The Jazz Club Network 2026
ATTACH;FMTTYPE=image/webp:https://www.jazzino.it/wp-content/uploads/2025/10/WORDPRESS-ADATTAMENTO-IMMAGINE-2.webp
END:VEVENT
BEGIN:VEVENT
DTSTART;TZID=Europe/Rome:20251129T193000
DTEND;TZID=Europe/Rome:20251129T230000
DTSTAMP:20260422T234756
CREATED:20251017T121434Z
LAST-MODIFIED:20251017T121434Z
UID:20351-1764444600-1764457200@www.jazzino.it
SUMMARY:TJCN | Jed Levy & Phil Robson International Quartet live al Jazzino il 29/11/2025
DESCRIPTION:The Jazz Club Network: un’ottava stagione all’insegna del grande jazz.\nDal 3 ottobre al 13 dicembre 2025 solo al Jazzino ⬇️\nScopri tutto il programma \n🎷🎷questo evento prevede due set 🎷🎷\nPRIMO SET: Apertura porte 19.00 | Inizio live 19.30 \nACQUISTA IL BIGLIETTOACQUISTA IL BIGLIETTO\nSECONDO SET: Apertura porte 21.00 | Inizio live 22.00 \nACQUISTA IL BIGLIETTOACQUISTA IL BIGLIETTO\nJed Levy è una figura centrale nella scena jazz di New York da oltre vent’anni\, un sassofonista la cui carriera è un vivido esempio di versatilità e profonda integrazione nel tessuto musicale della città. \nIl suo percorso non si limita alla pubblicazione di album come leader\, ma si distingue per un’incredibile rete di collaborazioni che attraversa generazioni e stili del jazz.\nLa sua capacità di spaziare tra diverse epoche e generi è testimoniata da una lista di collaborazioni che include vere e proprie leggende. \nHa suonato e registrato con giganti del passato come Jaki Byard\, Don Patterson e Jack McDuff\, e ha condiviso il palco con maestri contemporanei come Ron McClure e Mike Clark\, batterista dei leggendari Headhunters. \nL’elenco è un vero e proprio “who’s who” del jazz: Junior Mance\, Eddie Henderson\, Jack Walrath\, la Vanguard Jazz Orchestra\, Shirley Scott\, Kevin Mahogany\, Gene Bertoncini\, Don Friedman\, Cedar Walton\, Curtis Fuller\, Chico O’Farrill\, Attilla Zollar\, Groove Holmes e Tom Harrell sono solo alcuni dei nomi che hanno incrociato il suo percorso artistico. \nQuesta straordinaria adattabilità lo ha portato persino a lavorare con un’icona del soul e dell’R&B come i Temptations. \nCome leader\, Levy ha registrato numerosi album acclamati dalla critica\, nei quali le sue composizioni risplendono di un’originalità che riflette la ricchezza delle sue esperienze. \nLe sue musiche sono così apprezzate da essere state registrate anche da altri artisti di spicco\, tra cui gli Headhunters\, Don Friedman\, Eddie Henderson e Mike Clark\, a dimostrazione della stima di cui gode all’interno della comunità musicale. \nNel 2017 ha dato vita a un’altra entusiasmante partnership\, questa volta con il chitarrista\, compositore britannico e bandleader Phil Robson. La loro collaborazione ha riscosso un successo notevole\, culminato in una serie di performance esaurite in locali storici di New York come il Birdland\, lo Smalls e il 55 Bar. Questo sodalizio musicale ha portato anche a diverse tournée di successo sia negli Stati Uniti che in Europa\, dove la loro intesa sul palco ha saputo conquistare il pubblico con un jazz vibrante e coinvolgente. \nA rendere questo progetto ancora più unico\, la scelta di collaborare con due musicisti d’eccezione: il contrabbassista britannico Mark Hodgson e il rinomato batterista italiano Roberto Gatto. Una sezione ritmica\, solida e creativa che esalta le melodie di Levy e Robson\, creando un’esperienza sonora di altissimo livello. \nLINE-UP:\nJed Levy – sax tenore | Phil Robson – chitarra | Mark Hodgson – contrabbasso | Roberto Gatto – batteria \n🎷🎷questo evento prevede due set 🎷🎷\nPRIMO SET: Apertura porte 19.00 | Inizio live 19.30 \nACQUISTA IL BIGLIETTOACQUISTA IL BIGLIETTO\nSECONDO SET: Apertura porte 21.00 | Inizio live 22.00 \nACQUISTA IL BIGLIETTOACQUISTA IL BIGLIETTO
URL:https://www.jazzino.it/evento/tjcn-jed-levy-phil-robson-international-quartet-live-al-jazzino-il-29-11-2025/
LOCATION:Jazzino\, 74 Via Carloforte\, Cagliari\, 09123\, Italy
CATEGORIES:The Jazz Club Network 2026
ATTACH;FMTTYPE=image/webp:https://www.jazzino.it/wp-content/uploads/2025/10/WORDPRESS-ADATTAMENTO-IMMAGINE-2.webp
END:VEVENT
END:VCALENDAR