BEGIN:VCALENDAR
VERSION:2.0
PRODID:-//Jazzino - Ristorante Jazz Club - ECPv6.15.20//NONSGML v1.0//EN
CALSCALE:GREGORIAN
METHOD:PUBLISH
X-ORIGINAL-URL:https://www.jazzino.it
X-WR-CALDESC:Eventi per Jazzino - Ristorante Jazz Club
REFRESH-INTERVAL;VALUE=DURATION:PT1H
X-Robots-Tag:noindex
X-PUBLISHED-TTL:PT1H
BEGIN:VTIMEZONE
TZID:Europe/Rome
BEGIN:DAYLIGHT
TZOFFSETFROM:+0100
TZOFFSETTO:+0200
TZNAME:CEST
DTSTART:20240331T010000
END:DAYLIGHT
BEGIN:STANDARD
TZOFFSETFROM:+0200
TZOFFSETTO:+0100
TZNAME:CET
DTSTART:20241027T010000
END:STANDARD
BEGIN:DAYLIGHT
TZOFFSETFROM:+0100
TZOFFSETTO:+0200
TZNAME:CEST
DTSTART:20250330T010000
END:DAYLIGHT
BEGIN:STANDARD
TZOFFSETFROM:+0200
TZOFFSETTO:+0100
TZNAME:CET
DTSTART:20251026T010000
END:STANDARD
BEGIN:DAYLIGHT
TZOFFSETFROM:+0100
TZOFFSETTO:+0200
TZNAME:CEST
DTSTART:20260329T010000
END:DAYLIGHT
BEGIN:STANDARD
TZOFFSETFROM:+0200
TZOFFSETTO:+0100
TZNAME:CET
DTSTART:20261025T010000
END:STANDARD
BEGIN:DAYLIGHT
TZOFFSETFROM:+0100
TZOFFSETTO:+0200
TZNAME:CEST
DTSTART:20270328T010000
END:DAYLIGHT
BEGIN:STANDARD
TZOFFSETFROM:+0200
TZOFFSETTO:+0100
TZNAME:CET
DTSTART:20271031T010000
END:STANDARD
END:VTIMEZONE
BEGIN:VEVENT
DTSTART;TZID=Europe/Rome:20251213T193000
DTEND;TZID=Europe/Rome:20251213T223000
DTSTAMP:20260422T235352
CREATED:20251023T095510Z
LAST-MODIFIED:20251023T100121Z
UID:20429-1765654200-1765665000@www.jazzino.it
SUMMARY:TJCN | Alex Conde Trio
DESCRIPTION:The Jazz Club Network: un’ottava stagione all’insegna del grande jazz.\nDal 3 ottobre al 13 dicembre 2025 solo al Jazzino ⬇️\nScopri tutto il programma \n🎷🎷questo evento prevede due set 🎷🎷\nPRIMO SET: Apertura porte 19.00 | Inizio live 19.30 \nACQUISTA IL BIGLIETTOACQUISTA IL BIGLIETTO\nSECONDO SET: Apertura porte 21.00 | Inizio live 22.00 \nACQUISTA IL BIGLIETTOACQUISTA IL BIGLIETTO\nAlex Conde Trio: Un Incontro Tra Flamenco e Jazz\nIl pianista e compositore Alex Conde\, internazionalmente riconosciuto come una delle voci più originali del pianoforte flamenco\, presenta il suo progetto più recente\, l’Alex Conde Trio. \nQuesto gruppo innovativo crea un dialogo fresco\, elegante e vibrante in cui flamenco e jazz si fondono armoniosamente. \nIl trio è composto da musicisti di grande prestigio: Alex Conde al pianoforte\, compositore e arrangiatore del repertorio\, Haggai Cohen\, contrabbassista con una solida esperienza nel jazz contemporaneo. José Ruiz Motos “Bandolero”\, percussionista\, punto di riferimento imprescindibile nel mondo del flamenco. \nMentre il suo ultimo album\, El Trío (2024)\, esplorava prevalentemente il linguaggio del jazz\, questa nuova proposta si immerge profondamente nelle radici del flamenco. \nLa potenza ritmica ed espressiva di Cohen e Bandolero arricchisce la musica\, creando un progetto dove la tradizione si fonde con la modernità. \nL’improvvisazione jazz si intreccia con i ritmi complessi del flamenco\, dando vita a un sound unico. \nL’Alex Conde Trio offre un viaggio sonoro unico\, intriso di emozione\, virtuosismo e autenticità\, capace di connettersi con un pubblico dalle diverse sensibilità musicali. \nLa sua proposta è particolarmente adatta per festival di jazz\, ma anche per eventi dedicati al flamenco e alla world music\, offrendo un’esperienza trasversale e di alta qualità. \nLINE-UP:\nAlex Conde – piano | Haggai Cohen – contrabbasso | José Ruiz Motos “Bandolero” – batteria/percussioni\n \nUnico Set\nApertura Porte ore 20.00\nInzio Live ore 21.45 \n🎷🎷questo evento prevede due set 🎷🎷\nPRIMO SET: Apertura porte 19.00 | Inizio live 19.30 \nACQUISTA IL BIGLIETTOACQUISTA IL BIGLIETTO\nSECONDO SET: Apertura porte 21.00 | Inizio live 22.00 \nACQUISTA IL BIGLIETTOACQUISTA IL BIGLIETTO
URL:https://www.jazzino.it/evento/tjcn-alex-conde-trio-2/
LOCATION:Jazzino\, 74 Via Carloforte\, Cagliari\, 09123\, Italy
CATEGORIES:The Jazz Club Network 2026
ATTACH;FMTTYPE=image/jpeg:https://www.jazzino.it/wp-content/uploads/2025/10/16.jpg
END:VEVENT
BEGIN:VEVENT
DTSTART;TZID=Europe/Rome:20260423T214500
DTEND;TZID=Europe/Rome:20260423T230000
DTSTAMP:20260422T235352
CREATED:20260401T131711Z
LAST-MODIFIED:20260403T104831Z
UID:21429-1776980700-1776985200@www.jazzino.it
SUMMARY:BEBO FERRA/ SALVATORE MAIORE/ LUCA AQUINO – OMAGGIO A CHET BAKER
DESCRIPTION:ACQUISTA IL BIGLIETTOACQUISTA IL BIGLIETTO\nIl progetto nasce da tre musicisti di rilievo nel panorama jazz europeo con l’intento di esplorare l’eredità stilistica di Chet Baker. Piuttosto che una semplice celebrazione\, il trio propone una ricerca profonda sull’essenzialità del fraseggio e sul controllo timbrico che hanno reso iconico il trombettista americano. La scelta di escludere la batteria mette in risalto il dialogo tra tromba\, chitarra e contrabbasso. L’assenza di percussioni enfatizza la gestione degli spazi e la precisione ritmica\, dove ogni strumento alterna funzioni melodiche e di accompagnamento. La scaletta rilegge standard significativi e brani originali che ricalcano l’estetica di Baker attraverso diverse fasi della sua carriera. La performance unisce la tradizione del cool jazz a una ricerca sonora contemporanea\, offrendo un linguaggio attuale e rigoroso. \nLINE-UP:\nBebo Ferra: chitarra – Salvatore Maiore: contrabbasso – Luca Aquino: tromba \n \n \n \nACQUISTA IL BIGLIETTOACQUISTA IL BIGLIETTO\n  \n 
URL:https://www.jazzino.it/evento/bebo-ferra-salvatore-maiore-luca-aquino-omaggio-a-chet-baker/
LOCATION:Jazzino\, via Carloforte 74\, Cagliari\, IT
CATEGORIES:The Jazz Club Network 2026
ATTACH;FMTTYPE=image/jpeg:https://www.jazzino.it/wp-content/uploads/2026/04/BEBO-FERRA-cover-1.jpg
END:VEVENT
BEGIN:VEVENT
DTSTART;TZID=Europe/Rome:20260509T214500
DTEND;TZID=Europe/Rome:20260509T230000
DTSTAMP:20260422T235352
CREATED:20260409T083117Z
LAST-MODIFIED:20260409T083117Z
UID:21567-1778363100-1778367600@www.jazzino.it
SUMMARY:ADA MONTELLANICO QUARTETTO – OMAGGIO A BILLIE HOLIDAY
DESCRIPTION:ACQUISTA IL BIGLIETTOACQUISTA IL BIGLIETTO\nADA MONTELLANICO QUARTETTO – OMAGGIO A BILLIE HOLIDAY \nAda Montellanico porta in scena il suo celebre omaggio a Billie Holiday. Nato originariamente come un grande successo discografico per L’Espresso\, il progetto rivive oggi in una dimensione concertistica imperdibile. Lo spettacolo è un viaggio intimo e creativo nel mito di Lady Day\, frutto di una ricerca biografica e musicale estremamente approfondita. La Montellanico scava nelle radici degli standard jazz per infondervi nuova luce\, arricchendo il set con brani inediti rispetto alla versione su disco. Il cuore della performance è una meditata esplorazione degli stati d’animo della Holiday: Un’alternanza sapiente tra gioie profonde\, amare disillusioni e sogni effimeri. Ogni brano è attualizzato attraverso un gioco di variazioni sottili e sapienti. Un’interpretazione che trasforma la biografia in una cangiante cornucopia di emozioni. \nLINE-UP:\nAda Montellanico: voce – Enrico Zanisi – piano – Jacopo Ferrazza – contrabbasso – Valerio Vantaggio: batteria \n \n \n \nACQUISTA IL BIGLIETTOACQUISTA IL BIGLIETTO\n  \n 
URL:https://www.jazzino.it/evento/ada-montellanico-quartetto-omaggio-a-billie-holiday/
LOCATION:Jazzino\, via Carloforte 74\, Cagliari\, IT
CATEGORIES:The Jazz Club Network 2026
ATTACH;FMTTYPE=image/jpeg:https://www.jazzino.it/wp-content/uploads/2026/04/WORDPRESS-ADATTAMENTO-IMMAGINE-1.jpg
END:VEVENT
END:VCALENDAR