BEGIN:VCALENDAR
VERSION:2.0
PRODID:-//Jazzino - Ristorante Jazz Club - ECPv6.15.20//NONSGML v1.0//EN
CALSCALE:GREGORIAN
METHOD:PUBLISH
X-WR-CALNAME:Jazzino - Ristorante Jazz Club
X-ORIGINAL-URL:https://www.jazzino.it
X-WR-CALDESC:Eventi per Jazzino - Ristorante Jazz Club
REFRESH-INTERVAL;VALUE=DURATION:PT1H
X-Robots-Tag:noindex
X-PUBLISHED-TTL:PT1H
BEGIN:VTIMEZONE
TZID:Europe/Rome
BEGIN:DAYLIGHT
TZOFFSETFROM:+0100
TZOFFSETTO:+0200
TZNAME:CEST
DTSTART:20240331T010000
END:DAYLIGHT
BEGIN:STANDARD
TZOFFSETFROM:+0200
TZOFFSETTO:+0100
TZNAME:CET
DTSTART:20241027T010000
END:STANDARD
BEGIN:DAYLIGHT
TZOFFSETFROM:+0100
TZOFFSETTO:+0200
TZNAME:CEST
DTSTART:20250330T010000
END:DAYLIGHT
BEGIN:STANDARD
TZOFFSETFROM:+0200
TZOFFSETTO:+0100
TZNAME:CET
DTSTART:20251026T010000
END:STANDARD
BEGIN:DAYLIGHT
TZOFFSETFROM:+0100
TZOFFSETTO:+0200
TZNAME:CEST
DTSTART:20260329T010000
END:DAYLIGHT
BEGIN:STANDARD
TZOFFSETFROM:+0200
TZOFFSETTO:+0100
TZNAME:CET
DTSTART:20261025T010000
END:STANDARD
END:VTIMEZONE
BEGIN:VEVENT
DTSTART;TZID=Europe/Rome:20251023T213000
DTEND;TZID=Europe/Rome:20251023T230000
DTSTAMP:20260423T064856
CREATED:20250917T113935Z
LAST-MODIFIED:20250917T113935Z
UID:20247-1761255000-1761260400@www.jazzino.it
SUMMARY:TJCN | Artie Zaitz Quartet live al Jazzino il 23/10/2025
DESCRIPTION:ACQUISTA IL BIGLIETTOACQUISTA IL BIGLIETTO\nThe Jazz Club Network: un’ottava stagione all’insegna del grande jazz.\nDal 3 ottobre al 13 dicembre 2025 solo al Jazzino ⬇️\nScopri tutto il programma \nUnico Set\nApertura Porte ore 20.00\nInzio Live ore 21.45 \nArtie Zaitz: Virtuosismo e Innovazione nel Jazz Britannico\nArtie Zaitz è uno dei chitarristi e tastieristi più interessanti della nuova scena jazz britannica. Cresciuto in una famiglia di musicisti\, si è avvicinato al jazz sin da piccolo\, sviluppando un forte interesse per le registrazioni della leggendaria etichetta Blue Note Records\, che hanno avuto un impatto decisivo sulla sua formazione artistica. \nPer oltre un decennio\, Artie ha collaborato e registrato sulla scena londinese e internazionale con artisti del calibro di Moses Boyd\, The Banger Factory\, Camilla George\, Maisha\, Theon Cross\, Jordan Rakei e Tom Waters Electric People\, per citarne solo alcuni.\nIl suo album di debutto\, “The Regulator”\, pubblicato a settembre 2024 da Banger Factory Records\, ha riscosso unanimi consensi dalla critica. L’album è un’entusiasmante e innovativa rivisitazione della classica formazione con l’organo Hammond\, dove Zaitz fonde la sua profonda sensibilità blues con la passione per il jazz\, il soul e la musica latina.\nIl quartetto\, guidato da Zaitz alla chitarra\, è completato dal sassofonista tenore di fama mondiale e leggenda del Regno Unito Alex Garnett\, e dalla giovane e promettente sezione ritmica composta da Lorenzo Morabito al contrabbasso e Jack Thomas alla batteria. \nLINEUP:\nArtie Zaitz: chitarra – Alex Garnett: sax tenore – Lorenzo Morabito: contrabbasso – Jack Thomas: batteria \n  \nUnico Set\nApertura Porte ore 20.00\nInzio Live ore 21.45 \nACQUISTA IL BIGLIETTOACQUISTA IL BIGLIETTO
URL:https://www.jazzino.it/evento/tjcn-artie-zaitz-quartet-live-al-jazzino-il-23-10-2025/
LOCATION:Jazzino\, 74 Via Carloforte\, Cagliari\, 09123\, Italy
CATEGORIES:The Jazz Club Network 2026
ATTACH;FMTTYPE=image/webp:https://www.jazzino.it/wp-content/uploads/2025/09/ARTIE-ZAITZ.webp
END:VEVENT
END:VCALENDAR