BEGIN:VCALENDAR
VERSION:2.0
PRODID:-//Jazzino - Ristorante Jazz Club - ECPv6.15.20//NONSGML v1.0//EN
CALSCALE:GREGORIAN
METHOD:PUBLISH
X-WR-CALNAME:Jazzino - Ristorante Jazz Club
X-ORIGINAL-URL:https://www.jazzino.it
X-WR-CALDESC:Eventi per Jazzino - Ristorante Jazz Club
REFRESH-INTERVAL;VALUE=DURATION:PT1H
X-Robots-Tag:noindex
X-PUBLISHED-TTL:PT1H
BEGIN:VTIMEZONE
TZID:Europe/Rome
BEGIN:DAYLIGHT
TZOFFSETFROM:+0100
TZOFFSETTO:+0200
TZNAME:CEST
DTSTART:20250330T010000
END:DAYLIGHT
BEGIN:STANDARD
TZOFFSETFROM:+0200
TZOFFSETTO:+0100
TZNAME:CET
DTSTART:20251026T010000
END:STANDARD
BEGIN:DAYLIGHT
TZOFFSETFROM:+0100
TZOFFSETTO:+0200
TZNAME:CEST
DTSTART:20260329T010000
END:DAYLIGHT
BEGIN:STANDARD
TZOFFSETFROM:+0200
TZOFFSETTO:+0100
TZNAME:CET
DTSTART:20261025T010000
END:STANDARD
BEGIN:DAYLIGHT
TZOFFSETFROM:+0100
TZOFFSETTO:+0200
TZNAME:CEST
DTSTART:20270328T010000
END:DAYLIGHT
BEGIN:STANDARD
TZOFFSETFROM:+0200
TZOFFSETTO:+0100
TZNAME:CET
DTSTART:20271031T010000
END:STANDARD
END:VTIMEZONE
BEGIN:VEVENT
DTSTART;TZID=Europe/Rome:20260430T214500
DTEND;TZID=Europe/Rome:20260430T230000
DTSTAMP:20260423T010041
CREATED:20260410T083951Z
LAST-MODIFIED:20260410T083951Z
UID:21598-1777585500-1777590000@www.jazzino.it
SUMMARY:Soul Kids @Jazzino
DESCRIPTION:ACQUISTA IL BIGLIETTOACQUISTA IL BIGLIETTO\nSOUL KIDS\nLa formazione nasce nel 2020 da un’idea di Milena Spada per rendere omaggio alle “Regine del Soul”. Milena si unisce alla forza esplosiva di un quartetto di musicisti d’eccezione per realizzare un intenso viaggio  tra gli autori più significativi ed i brani più belli e ricercati della soul music\, nel ricordo delle sue migliori interpreti. \nUn ideale abbraccio alle più grandi voci di sempre: Aretha Franklin\, Nina Simone\, Etta James\, Tina Turner\, senza dimenticare le nuove esponenti del genere. \nLine up:\nMilena Spada: voce | Mario Dinaro: piano | Federico Valenti: chitarra | Fabio Useli: basso | Antonio Pisano: batteria \n \n \nACQUISTA IL BIGLIETTOACQUISTA IL BIGLIETTO\n  \n 
URL:https://www.jazzino.it/evento/soul-kids-jazzino/
LOCATION:Jazzino\, via Carloforte 74\, 09123 Cagliari\, Cagliari\, 09123\, IT
ATTACH;FMTTYPE=image/jpeg:https://www.jazzino.it/wp-content/uploads/2026/04/SoulKids.jpg
END:VEVENT
BEGIN:VEVENT
DTSTART;TZID=Europe/Rome:20260509T214500
DTEND;TZID=Europe/Rome:20260509T230000
DTSTAMP:20260423T010041
CREATED:20260409T083117Z
LAST-MODIFIED:20260409T083117Z
UID:21567-1778363100-1778367600@www.jazzino.it
SUMMARY:ADA MONTELLANICO QUARTETTO – OMAGGIO A BILLIE HOLIDAY
DESCRIPTION:ACQUISTA IL BIGLIETTOACQUISTA IL BIGLIETTO\nADA MONTELLANICO QUARTETTO – OMAGGIO A BILLIE HOLIDAY \nAda Montellanico porta in scena il suo celebre omaggio a Billie Holiday. Nato originariamente come un grande successo discografico per L’Espresso\, il progetto rivive oggi in una dimensione concertistica imperdibile. Lo spettacolo è un viaggio intimo e creativo nel mito di Lady Day\, frutto di una ricerca biografica e musicale estremamente approfondita. La Montellanico scava nelle radici degli standard jazz per infondervi nuova luce\, arricchendo il set con brani inediti rispetto alla versione su disco. Il cuore della performance è una meditata esplorazione degli stati d’animo della Holiday: Un’alternanza sapiente tra gioie profonde\, amare disillusioni e sogni effimeri. Ogni brano è attualizzato attraverso un gioco di variazioni sottili e sapienti. Un’interpretazione che trasforma la biografia in una cangiante cornucopia di emozioni. \nLINE-UP:\nAda Montellanico: voce – Enrico Zanisi – piano – Jacopo Ferrazza – contrabbasso – Valerio Vantaggio: batteria \n \n \n \nACQUISTA IL BIGLIETTOACQUISTA IL BIGLIETTO\n  \n 
URL:https://www.jazzino.it/evento/ada-montellanico-quartetto-omaggio-a-billie-holiday/
LOCATION:Jazzino\, via Carloforte 74\, Cagliari\, IT
CATEGORIES:The Jazz Club Network 2026
ATTACH;FMTTYPE=image/jpeg:https://www.jazzino.it/wp-content/uploads/2026/04/WORDPRESS-ADATTAMENTO-IMMAGINE-1.jpg
END:VEVENT
END:VCALENDAR