BEGIN:VCALENDAR
VERSION:2.0
PRODID:-//Jazzino - Ristorante Jazz Club - ECPv6.15.20//NONSGML v1.0//EN
CALSCALE:GREGORIAN
METHOD:PUBLISH
X-ORIGINAL-URL:https://www.jazzino.it
X-WR-CALDESC:Eventi per Jazzino - Ristorante Jazz Club
REFRESH-INTERVAL;VALUE=DURATION:PT1H
X-Robots-Tag:noindex
X-PUBLISHED-TTL:PT1H
BEGIN:VTIMEZONE
TZID:Europe/Rome
BEGIN:DAYLIGHT
TZOFFSETFROM:+0100
TZOFFSETTO:+0200
TZNAME:CEST
DTSTART:20230326T010000
END:DAYLIGHT
BEGIN:STANDARD
TZOFFSETFROM:+0200
TZOFFSETTO:+0100
TZNAME:CET
DTSTART:20231029T010000
END:STANDARD
BEGIN:DAYLIGHT
TZOFFSETFROM:+0100
TZOFFSETTO:+0200
TZNAME:CEST
DTSTART:20240331T010000
END:DAYLIGHT
BEGIN:STANDARD
TZOFFSETFROM:+0200
TZOFFSETTO:+0100
TZNAME:CET
DTSTART:20241027T010000
END:STANDARD
BEGIN:DAYLIGHT
TZOFFSETFROM:+0100
TZOFFSETTO:+0200
TZNAME:CEST
DTSTART:20250330T010000
END:DAYLIGHT
BEGIN:STANDARD
TZOFFSETFROM:+0200
TZOFFSETTO:+0100
TZNAME:CET
DTSTART:20251026T010000
END:STANDARD
END:VTIMEZONE
BEGIN:VEVENT
DTSTART;TZID=Europe/Rome:20241207T203000
DTEND;TZID=Europe/Rome:20241207T230000
DTSTAMP:20260422T210720
CREATED:20241005T090504Z
LAST-MODIFIED:20241005T090504Z
UID:19511-1733603400-1733612400@www.jazzino.it
SUMMARY:Glenda del E – Q.Ban Mixology @ Teatro Massimo – TJCN
DESCRIPTION:ACQUISTA IL BIGLIETTOACQUISTA IL BIGLIETTO\nThe Jazz Club Network (TJCN)\, il cartellone firmato CeDAC\, Circuito Multidisciplinare dello Spettacolo dal Vivo in Sardegna\, in collaborazione con l’Associazione culturale Il Jazzino\, riaccende le luci e apre le porte anche dell’InOut Music Club di Cagliari\, magnifico locale con terrazza affacciato sulla spettacolare laguna del Parco di Molentargius\, al suo debutto nel circuito. \n  \nLINE-UP:  \nGlenda del E: piano/voce   – Carlos Martin: percussioni/ flicorno – Abel Sanabria: basso – Mario Del Monte: batteria \n  \nINFO:  \nPianista\, cantante\, compositrice Glenda del E sta lasciando un’impronta profonda sulla scena afro-latina e soul di Cuba.  \nNata e cresciuta tra quello che lei descrive come “il meglio dei due mondi” nella sua nativa L’Avana\, e la multiculturale Toronto\, in Canada\, ha acquisito esperienza fin dalla tenera età e ha imparato quanto sia importante essere motivata da coloro che ammira di più: sua madre e suo padre.  \nCandidata ai Latin Grammy\, oggi è un’artista aperta a una varietà di influenze musicali diverse\, dal repertorio pianistico classico e folklore cubano\, fino all’hip-hop e al R&B e jazz\, riuscendo ad affermarsi come una musicista versatile di grande talento applaudita sui palcoscenici dell’Havana\, ma anche di Miami\, Toronto e New York. \nRecentemente ha rappresentato il Canada come membro della Young Orchestra of the Americas. \n  \nACQUISTA IL BIGLIETTOACQUISTA IL BIGLIETTO\n 
URL:https://www.jazzino.it/evento/glenda-del-e-q-ban-mixology-the-jazz-club-network-2024/
LOCATION:Teatro Massimo Cagliari\, Via E. De Magistris\, 12\, 09123 Cagliari CA\, Cagliari\, 09123\, Italy
ATTACH;FMTTYPE=image/jpeg:https://www.jazzino.it/wp-content/uploads/2024/10/tinywow_JCN24_GLENDADELE_CA_EVENT_66207666.jpg
END:VEVENT
BEGIN:VEVENT
DTSTART;TZID=Europe/Rome:20241129T203000
DTEND;TZID=Europe/Rome:20241129T230000
DTSTAMP:20260422T210720
CREATED:20241005T084824Z
LAST-MODIFIED:20241005T090537Z
UID:19480-1732912200-1732921200@www.jazzino.it
SUMMARY:Nicola Angelucci New Quintet @ Teatro Massimo – TJCN
DESCRIPTION:ACQUISTA IL BIGLIETTOACQUISTA IL BIGLIETTO\nThe Jazz Club Network (TJCN)\, il cartellone firmato CeDAC\, Circuito Multidisciplinare dello Spettacolo dal Vivo in Sardegna\, in collaborazione con l’Associazione culturale Il Jazzino\, riaccende le luci e apre le porte anche dell’InOut Music Club di Cagliari\, magnifico locale con terrazza affacciato sulla spettacolare laguna del Parco di Molentargius\, al suo debutto nel circuito. \n  \nLINE-UP:  \nNicola Angelucci: batteria – Greg Burk: piano – Luca Bulgarelli: contrabbasso – Francesco Fratini: tromba – Giovanni Cutello: sax alto   \n  \nINFO:  \nNicola Angelucci è senza dubbio uno dei batteristi più affermati sulla scena jazzistica italiana. Da diversi anni è membro del quartetto di Fabrizio Bosso e vanta collaborazioni con alcuni dei maestri indiscussi del jazz internazionale come Benny Golson\, Steve Grossman\, Wynton Marsalis solo per citarne alcuni.  \nNel suo terzo album da leader “Changes”\, pubblicato nel 2021\, Angelucci si conferma anche come compositore\, mostrando una vena melodica particolarmente raffinata. \nPer questa nuova formazione ha voluto\, insieme al fidato contrabbassista Luca Bulgarelli\, il pianista statunitense Greg Burk\, dotato\, oltre che di uno straordinario talento strumentale\, di una rara capacità di valorizzare qualunque composizione.  \nArricchiscono la compagine i due giovanissimi talenti Francesco Fratini e Giovanni Cutello. \nACQUISTA IL BIGLIETTOACQUISTA IL BIGLIETTO\n 
URL:https://www.jazzino.it/evento/nicola-angelucci-new-quintet/
LOCATION:Teatro Massimo Cagliari\, Via E. De Magistris\, 12\, 09123 Cagliari CA\, Cagliari\, 09123\, Italy
ATTACH;FMTTYPE=image/jpeg:https://www.jazzino.it/wp-content/uploads/2024/10/tinywow_JCN24_ANGELUCCI_CA_EVENT_66207637.jpg
END:VEVENT
BEGIN:VEVENT
DTSTART;TZID=Europe/Rome:20241026T213000
DTEND;TZID=Europe/Rome:20241026T230000
DTSTAMP:20260422T210720
CREATED:20241004T103521Z
LAST-MODIFIED:20241004T103521Z
UID:19331-1729978200-1729983600@www.jazzino.it
SUMMARY:Stefano Onorati & Fulvio Sigurtà quartet “Extended Singularity” @ InOut – TJCN
DESCRIPTION:ACQUISTA IL BIGLIETTOACQUISTA IL BIGLIETTO\nThe Jazz Club Network (TJCN)\, il cartellone firmato CeDAC\, Circuito Multidisciplinare dello Spettacolo dal Vivo in Sardegna\, in collaborazione con l’Associazione culturale Il Jazzino\, riaccende le luci e apre le porte anche dell’InOut Music Club di Cagliari\, magnifico locale con terrazza affacciato sulla spettacolare laguna del Parco di Molentargius\, al suo debutto nel circuito. \n  \nLINE-UP: \nFulvio Sigurtà: tromba – Stefano Onorati: piano – Gabriele Evangelista: contrabbasso – Alessandro Paternesi: batteria \n  \nINFO:  \nNon hanno certo bisogno di presentazione il pianista livornese Stefano Onorati e il trombettista bresciano Fulvio Sigurtà\, esponenti di primo piano del jazz italiano.  \nFra i loro tanti progetti c’è anche quello che dal 2018 li vede affiancati nel duo Singularity\, ovvero il punto spazio-tempo in cui le energie dei due musicisti prendono forma partendo dalle riletture del repertorio jazzistico meno gettonato di musicisti come Kenny Wheeler o John Taylor\, arrivando all’improvvisazione elettronica totale.  \nIn entrambi i casi la musica scivola su binari molto liberi\, in cui più che i riferimenti stilistici dei brani scelti risulta importante lo stretto dialogo che i due artisti sono in grado di intrecciare.  \nIl progetto\, nato come estensione acustica in versione duo\, si amplia in quartetto esplorando un territorio musicale altrettanto vasto\, fino a toccare l’improvvisazione più radicale. Ogni loro esibizione è un viaggio sorprendente e suggestivo\, lungo territori e verso mete sempre difficili da prevedere\, e per questo ancora più affascinante. \n  \nACQUISTA IL BIGLIETTOACQUISTA IL BIGLIETTO\n 
URL:https://www.jazzino.it/evento/stefano-onorati-fulvio-sigurta-quartet-inout-tjcn/
LOCATION:InOut Music Club\, Viale G.Marconi 173\, Cagliari\, CA\, 09131\, Italia
ATTACH;FMTTYPE=image/jpeg:https://www.jazzino.it/wp-content/uploads/2024/10/tinywow_JCN24_ONORATI_CA_EVENT_66148632.jpg
END:VEVENT
END:VCALENDAR