BEGIN:VCALENDAR
VERSION:2.0
PRODID:-//Jazzino - Ristorante Jazz Club - ECPv6.15.20//NONSGML v1.0//EN
CALSCALE:GREGORIAN
METHOD:PUBLISH
X-WR-CALNAME:Jazzino - Ristorante Jazz Club
X-ORIGINAL-URL:https://www.jazzino.it
X-WR-CALDESC:Eventi per Jazzino - Ristorante Jazz Club
REFRESH-INTERVAL;VALUE=DURATION:PT1H
X-Robots-Tag:noindex
X-PUBLISHED-TTL:PT1H
BEGIN:VTIMEZONE
TZID:Europe/Rome
BEGIN:DAYLIGHT
TZOFFSETFROM:+0100
TZOFFSETTO:+0200
TZNAME:CEST
DTSTART:20230326T010000
END:DAYLIGHT
BEGIN:STANDARD
TZOFFSETFROM:+0200
TZOFFSETTO:+0100
TZNAME:CET
DTSTART:20231029T010000
END:STANDARD
BEGIN:DAYLIGHT
TZOFFSETFROM:+0100
TZOFFSETTO:+0200
TZNAME:CEST
DTSTART:20240331T010000
END:DAYLIGHT
BEGIN:STANDARD
TZOFFSETFROM:+0200
TZOFFSETTO:+0100
TZNAME:CET
DTSTART:20241027T010000
END:STANDARD
BEGIN:DAYLIGHT
TZOFFSETFROM:+0100
TZOFFSETTO:+0200
TZNAME:CEST
DTSTART:20250330T010000
END:DAYLIGHT
BEGIN:STANDARD
TZOFFSETFROM:+0200
TZOFFSETTO:+0100
TZNAME:CET
DTSTART:20251026T010000
END:STANDARD
END:VTIMEZONE
BEGIN:VEVENT
DTSTART;TZID=Europe/Rome:20240519T210000
DTEND;TZID=Europe/Rome:20240519T230000
DTSTAMP:20260423T083657
CREATED:20240208T145846Z
LAST-MODIFIED:20240415T133325Z
UID:18949-1716152400-1716159600@www.jazzino.it
SUMMARY:CAMILLE THURMAN WITH THE DARRELL GREEN QUARTET Live@ Teatro Massimo Cagliari
DESCRIPTION:ACQUISTA IL BIGLIETTOACQUISTA IL BIGLIETTO\n  \nTHE JAZZ CLUB NETWORK 2024 \nCamille Thurman e il Darrel Green Quartet arrivano il 19 maggio 2024 al Teatro Massimo di Cagliari a partire dalle ore 21:00\, per il secondo appuntamento del The Jazz Club Network 2024! \nCamille Thurman è la nuova rising star del jazz al femminile d’oltre oceano. Nativa di New York\, Camille e un artista poliedrica di grande talento\, compositrice\, polistrumentista\, cantante e interprete unica della tradizione jazz americana. Conquistando rapidamente con il suo considerevole contributo ad espandere l’eredità del jazz rendendo omaggio ai suoi eroi. \nCamille è nota per il suo distinto approccio musicale al repertorio jazz classico che mette in risalto le sue abilità sia come cantante che come strumentista. Fluida e potente al sax tenore e molto inventiva come cantante\, è anche la prima musicista donna in 30 anni a fare tournée e ad esibirsi a tempo pieno con la Jazz at Lincoln Center Orchestra diretta da Wynton Marsalis. In pochi anni. Thurman ha condiviso palcoscenici con luminari del jazz e R&B in tutto il mondo\, Roy Haynes\, George Coleman\, Dianne Reeves\, Wynton Marsalis\, Dr. Lonnie Smith\, Russell Malone\, Patti LaBelle\, Chaka Khan\, Alicia Keys\, Erykah Badu)\, si affiancano ad una cospicua attività come leader di gruppi in cui riesce ad esplicare al meglio le sue doti al sax tenore con sonorità vicine ai grandi del passato e con uno stile vocale\, inclusa un’impressionante capacità di scatting\, che facilmente rimanda a modelli regali quali Ella Fitzgerald e Betty Carter. ha già accumulato diversi riconoscimenti distintivi per la sua abilità musicale: nomination per il Critics Poll di Downbeat Magazine (sassofonista tenore stella nascente)\, seconda classificata al Sarah Vaughan International Vocal Competition 2013\, due volte vincitrice dell’ASCAP Herb Alpert Young Jazz. Composers Award\, vincitrice del Fulbright Scholars Cultural Ambassador Grant e del Chamber Music of America Performance Plus Grant tra gli altri. Thurman ha al suo attivo anche quattro registrazioni integrali come leader. \nDarrell Gree\, batterista\, compositore e arrangiatore\, è diventato uno dei batteristi più talentuosi di oggi\, noto per la sua tecnica semplice e magistrale e per i ritmi accattivanti che danno vita alla musica\, portando il pubblico in un viaggio spirituale. Nato e cresciuto a Oakland in California\, ha sviluppato uno stile radicato nella moderna tradizione post-bop\, conservando elementi del suo gospel e del suo lignaggio classico. Ha condiviso il palco con importanti artisti jazz tra cui il vibrafonista Stefon Harris\, la cantante Faye Carol\, il sassofonista Red Holloway\, il trombettista David Weiss\, i sassofonisti Antoine Roney e Sherman Irby\, Charles Tolliver\, Charenee Wade\, Helen Sung\, Cassandra Wilson\, Pharoah Sanders\, Dr. Lonnie Smith\, Antoine Roney\, Steve Turre\, Wallace Roney\, Amina Figarova\, The Black Arts Collective e Jeremy Pelt. Darrell è uno dei batteristi più richiesti a New York\, in Europa e in Giappone. \n  \nLINE-UP \nCamille Thurman: sax tenore/ voce \nDarrell Green: batteria \nWallace Roney Jr. : tromba \nDavid Bryant: piano \nPaul Beaudry: contrabbasso \n  \nACQUISTA IL BIGLIETTOACQUISTA IL BIGLIETTO\n 
URL:https://www.jazzino.it/evento/camille-thurman-darrel-green-quartet/
LOCATION:Teatro Massimo Cagliari\, Via E. De Magistris\, 12\, 09123 Cagliari CA\, Cagliari\, 09123\, Italy
ATTACH;FMTTYPE=image/jpeg:https://www.jazzino.it/wp-content/uploads/2024/02/JCN23_CAMILLE_CA_Event-1.jpg
END:VEVENT
END:VCALENDAR