BEGIN:VCALENDAR
VERSION:2.0
PRODID:-//Jazzino - Ristorante Jazz Club - ECPv6.15.20//NONSGML v1.0//EN
CALSCALE:GREGORIAN
METHOD:PUBLISH
X-ORIGINAL-URL:https://www.jazzino.it
X-WR-CALDESC:Eventi per Jazzino - Ristorante Jazz Club
REFRESH-INTERVAL;VALUE=DURATION:PT1H
X-Robots-Tag:noindex
X-PUBLISHED-TTL:PT1H
BEGIN:VTIMEZONE
TZID:Europe/Rome
BEGIN:DAYLIGHT
TZOFFSETFROM:+0100
TZOFFSETTO:+0200
TZNAME:CEST
DTSTART:20220327T010000
END:DAYLIGHT
BEGIN:STANDARD
TZOFFSETFROM:+0200
TZOFFSETTO:+0100
TZNAME:CET
DTSTART:20221030T010000
END:STANDARD
BEGIN:DAYLIGHT
TZOFFSETFROM:+0100
TZOFFSETTO:+0200
TZNAME:CEST
DTSTART:20230326T010000
END:DAYLIGHT
BEGIN:STANDARD
TZOFFSETFROM:+0200
TZOFFSETTO:+0100
TZNAME:CET
DTSTART:20231029T010000
END:STANDARD
BEGIN:DAYLIGHT
TZOFFSETFROM:+0100
TZOFFSETTO:+0200
TZNAME:CEST
DTSTART:20240331T010000
END:DAYLIGHT
BEGIN:STANDARD
TZOFFSETFROM:+0200
TZOFFSETTO:+0100
TZNAME:CET
DTSTART:20241027T010000
END:STANDARD
BEGIN:DAYLIGHT
TZOFFSETFROM:+0100
TZOFFSETTO:+0200
TZNAME:CEST
DTSTART:20250330T010000
END:DAYLIGHT
BEGIN:STANDARD
TZOFFSETFROM:+0200
TZOFFSETTO:+0100
TZNAME:CET
DTSTART:20251026T010000
END:STANDARD
BEGIN:DAYLIGHT
TZOFFSETFROM:+0100
TZOFFSETTO:+0200
TZNAME:CEST
DTSTART:20260329T010000
END:DAYLIGHT
BEGIN:STANDARD
TZOFFSETFROM:+0200
TZOFFSETTO:+0100
TZNAME:CET
DTSTART:20261025T010000
END:STANDARD
END:VTIMEZONE
BEGIN:VEVENT
DTSTART;TZID=Europe/Rome:20251024T213000
DTEND;TZID=Europe/Rome:20251024T230000
DTSTAMP:20260422T221928
CREATED:20250917T113826Z
LAST-MODIFIED:20250917T113826Z
UID:20208-1761341400-1761346800@www.jazzino.it
SUMMARY:TJCN | Artie Zaitz Quartet live al Jazzino il 24/10/2025
DESCRIPTION:ACQUISTA IL BIGLIETTOACQUISTA IL BIGLIETTO\nThe Jazz Club Network: un’ottava stagione all’insegna del grande jazz.\nDal 3 ottobre al 13 dicembre 2025 solo al Jazzino ⬇️\nScopri tutto il programma \nUnico Set\nApertura Porte ore 20.00\nInzio Live ore 21.45 \n \nArtie Zaitz: Virtuosismo e Innovazione nel Jazz Britannico\nArtie Zaitz è uno dei chitarristi e tastieristi più interessanti della nuova scena jazz britannica. Cresciuto in una famiglia di musicisti\, si è avvicinato al jazz sin da piccolo\, sviluppando un forte interesse per le registrazioni della leggendaria etichetta Blue Note Records\, che hanno avuto un impatto decisivo sulla sua formazione artistica. \nPer oltre un decennio\, Artie ha collaborato e registrato sulla scena londinese e internazionale con artisti del calibro di Moses Boyd\, The Banger Factory\, Camilla George\, Maisha\, Theon Cross\, Jordan Rakei e Tom Waters Electric People\, per citarne solo alcuni.\nIl suo album di debutto\, “The Regulator”\, pubblicato a settembre 2024 da Banger Factory Records\, ha riscosso unanimi consensi dalla critica. L’album è un’entusiasmante e innovativa rivisitazione della classica formazione con l’organo Hammond\, dove Zaitz fonde la sua profonda sensibilità blues con la passione per il jazz\, il soul e la musica latina.\nIl quartetto\, guidato da Zaitz alla chitarra\, è completato dal sassofonista tenore di fama mondiale e leggenda del Regno Unito Alex Garnett\, e dalla giovane e promettente sezione ritmica composta da Lorenzo Morabito al contrabbasso e Jack Thomas alla batteria. \nLINEUP:\nArtie Zaitz: chitarra – Alex Garnett: sax tenore – Lorenzo Morabito: contrabbasso – Jack Thomas: batteria \n  \nUnico Set\nApertura Porte ore 20.00\nInzio Live ore 21.45 \nACQUISTA IL BIGLIETTOACQUISTA IL BIGLIETTO
URL:https://www.jazzino.it/evento/artie-zaitz-quartet-24-10-2025/
LOCATION:Jazzino\, 74 Via Carloforte\, Cagliari\, 09123\, Italy
CATEGORIES:The Jazz Club Network 2026
ATTACH;FMTTYPE=image/webp:https://www.jazzino.it/wp-content/uploads/2025/09/ARTIE-ZAITZ.webp
END:VEVENT
BEGIN:VEVENT
DTSTART;TZID=Europe/Rome:20251017T213000
DTEND;TZID=Europe/Rome:20251017T230000
DTSTAMP:20260422T221928
CREATED:20250917T113935Z
LAST-MODIFIED:20250917T113935Z
UID:20242-1760736600-1760742000@www.jazzino.it
SUMMARY:TJCN | Jumaane Smith Quartet live al Jazzino il 17/10/25
DESCRIPTION:ACQUISTA IL BIGLIETTOACQUISTA IL BIGLIETTO\nThe Jazz Club Network: un’ottava stagione all’insegna del grande jazz.\nDal 3 ottobre al 13 dicembre 2025 solo al Jazzino ⬇️\nScopri tutto il programma \nUnico Set\nApertura Porte ore 20.00\nInzio Live ore 21.45 \nJumaane Smith: Artista poliedrico tra jazz e successi globali.\nIl trombettista\, cantante e compositore jazz Jumaane Smith è un artista dalla carriera straordinaria\, costellata di successi che spaziano dalla musica al cinema.\nLa sua inconfondibile tromba ha impreziosito 5 album vincitori di un Grammy Award (con oltre 60 milioni di copie vendute)\, 2 performance televisive nominate all’Emmy e l’esibizione ai Grammy Awards con Stevie Wonder.\nIl suo talento è stato scelto anche per il film di Steven Spielberg West Side Story\, dove ha recitato e suonato come solista.\nPer 18 anni\, Jumaane ha girato il mondo al fianco di Michael Bublé come trombettista\, cantante e solista.\nÈ stato inoltre membro della house band di Harry Connick Jr. nello show televisivo Harry e ha partecipato come solista ospite nel tour mondiale di Jackie Evancho\, Songs of the Silver Screen\, accompagnato da un’orchestra sinfonica di 60 elementi. Progetti discografici e collaborazioni prestigiose:\nNel corso della sua carriera\, Jumaane Smith ha calcato i palchi dei più importanti festival e locali internazionali\, tra cui il Jazz At Lincoln Center\, il Vail Jazz Festival\, il Java Jazz Festival\, il Birdland Jazz Club e il Rochester International Jazz Festival.\nLa sua discografia include l’acclamato album di debutto\, I Only Have Eyes For You\, che vanta ospiti d’eccezione come Michael Bublé\, Jackie Evancho e Naturally 7.\nIl suo secondo album\, When You’re Smiling\, è stato pubblicato nel gennaio 2020 con ampio successo\, mentre il suo attesissimo terzo lavoro\, Come on Home\, è stato rilasciato nel 2024 da Zinn Music.\nCome compositore\, ha firmato le colonne sonore di film come Handsome Harry (con Steve Buscemi) e del documentario Being in the World\, oltre a comporre per i propri album e per la piattaforma di spartiti interattivi Tomplay.\nJumaane Smith ha avuto il privilegio di lavorare con leggende della musica come Quincy Jones\, Herbie Hancock\, Aretha Franklin\, Christian McBride\, Barbra Streisand\, Alicia Keys e molti altri.\nLa formazione d’eccellenza di Smith ha contribuito a plasmare il suo stile unico e la sua profonda sensibilità musicale. \nLINE-UP:\nJumaane Smith: tromba/voce – Lorin Cohen: basso elettrico – Elijah Cole: chitarra – Carmen Intorre Jr.: batteria \nUnico Set\nApertura Porte ore 20.00\nInzio Live ore 21.45 \nACQUISTA IL BIGLIETTOACQUISTA IL BIGLIETTO
URL:https://www.jazzino.it/evento/tjcn-jumaane-smith-quartet-live-al-jazzino-il-17-10-25/
LOCATION:Jazzino\, 74 Via Carloforte\, Cagliari\, 09123\, Italy
CATEGORIES:The Jazz Club Network 2026
ATTACH;FMTTYPE=image/webp:https://www.jazzino.it/wp-content/uploads/2025/09/JUMAANE-SMITH.webp
END:VEVENT
BEGIN:VEVENT
DTSTART;TZID=Europe/Rome:20241129T203000
DTEND;TZID=Europe/Rome:20241129T230000
DTSTAMP:20260422T221928
CREATED:20241005T084824Z
LAST-MODIFIED:20241005T090537Z
UID:19480-1732912200-1732921200@www.jazzino.it
SUMMARY:Nicola Angelucci New Quintet @ Teatro Massimo – TJCN
DESCRIPTION:ACQUISTA IL BIGLIETTOACQUISTA IL BIGLIETTO\nThe Jazz Club Network (TJCN)\, il cartellone firmato CeDAC\, Circuito Multidisciplinare dello Spettacolo dal Vivo in Sardegna\, in collaborazione con l’Associazione culturale Il Jazzino\, riaccende le luci e apre le porte anche dell’InOut Music Club di Cagliari\, magnifico locale con terrazza affacciato sulla spettacolare laguna del Parco di Molentargius\, al suo debutto nel circuito. \n  \nLINE-UP:  \nNicola Angelucci: batteria – Greg Burk: piano – Luca Bulgarelli: contrabbasso – Francesco Fratini: tromba – Giovanni Cutello: sax alto   \n  \nINFO:  \nNicola Angelucci è senza dubbio uno dei batteristi più affermati sulla scena jazzistica italiana. Da diversi anni è membro del quartetto di Fabrizio Bosso e vanta collaborazioni con alcuni dei maestri indiscussi del jazz internazionale come Benny Golson\, Steve Grossman\, Wynton Marsalis solo per citarne alcuni.  \nNel suo terzo album da leader “Changes”\, pubblicato nel 2021\, Angelucci si conferma anche come compositore\, mostrando una vena melodica particolarmente raffinata. \nPer questa nuova formazione ha voluto\, insieme al fidato contrabbassista Luca Bulgarelli\, il pianista statunitense Greg Burk\, dotato\, oltre che di uno straordinario talento strumentale\, di una rara capacità di valorizzare qualunque composizione.  \nArricchiscono la compagine i due giovanissimi talenti Francesco Fratini e Giovanni Cutello. \nACQUISTA IL BIGLIETTOACQUISTA IL BIGLIETTO\n 
URL:https://www.jazzino.it/evento/nicola-angelucci-new-quintet/
LOCATION:Teatro Massimo Cagliari\, Via E. De Magistris\, 12\, 09123 Cagliari CA\, Cagliari\, 09123\, Italy
ATTACH;FMTTYPE=image/jpeg:https://www.jazzino.it/wp-content/uploads/2024/10/tinywow_JCN24_ANGELUCCI_CA_EVENT_66207637.jpg
END:VEVENT
BEGIN:VEVENT
DTSTART;TZID=Europe/Rome:20241123T203000
DTEND;TZID=Europe/Rome:20241123T230000
DTSTAMP:20260422T221928
CREATED:20241005T084039Z
LAST-MODIFIED:20241005T084039Z
UID:19450-1732393800-1732402800@www.jazzino.it
SUMMARY:Dado Moroni & Francesca Corrias @ Teatro Massimo – TJCN
DESCRIPTION:ACQUISTA IL BIGLIETTOACQUISTA IL BIGLIETTO\nThe Jazz Club Network (TJCN)\, il cartellone firmato CeDAC\, Circuito Multidisciplinare dello Spettacolo dal Vivo in Sardegna\, in collaborazione con l’Associazione culturale Il Jazzino\, riaccende le luci e apre le porte anche dell’InOut Music Club di Cagliari\, magnifico locale con terrazza affacciato sulla spettacolare laguna del Parco di Molentargius\, al suo debutto nel circuito. \n  \nLINE-UP: \nDado Moroni: piano – Francesca Corrias: voce  \n  \nINFO:  \nDado Moroni e Francesca Corrias\, ovvero un duo esclusivo per una nuova produzione artistica. \nLui è un grande pianista jazz dalla classe inconfondibile\, lei è Francesca Corrias\, jazz vocalist tra le più apprezzate della scena sarda e nazionale.  \nIl loro primo incontro è avvenuto durante i Seminari jazz di Nuoro\, dove entrambi tengono concerti e masterclass\, ma una forte empatia artistica li ha spinti a intraprendere una nuova storia musicale insieme. \nBenvenuti dunque in un originale viaggio lungo ben nove decadi jazzistiche\, attraverso il racconto in musica di aneddoti ascoltati direttamente dalla voce stellare di Benny Waters\, Dizzy Gillespie\, Henry Edison\, Ira Coleman. L’incontro con lo swing più tradizionale da godere insieme a preziose melodie che trascinano ed emozionano. \nACQUISTA IL BIGLIETTOACQUISTA IL BIGLIETTO\n 
URL:https://www.jazzino.it/evento/dado-moroni-francesca-corrias-teatro-massimo-tjcn/
LOCATION:Teatro Massimo Cagliari\, Via E. De Magistris\, 12\, 09123 Cagliari CA\, Cagliari\, 09123\, Italy
ATTACH;FMTTYPE=image/jpeg:https://www.jazzino.it/wp-content/uploads/2024/10/tinywow_JCN24_MORONI_CA_EVENT_66171760.jpg
END:VEVENT
BEGIN:VEVENT
DTSTART;TZID=Europe/Rome:20241101T213000
DTEND;TZID=Europe/Rome:20241101T230000
DTSTAMP:20260422T221928
CREATED:20241004T152758Z
LAST-MODIFIED:20241004T152758Z
UID:19359-1730496600-1730502000@www.jazzino.it
SUMMARY:Carlos Sarduy trio @ InOut – TJCN
DESCRIPTION:ACQUISTA IL BIGLIETTOACQUISTA IL BIGLIETTO\nThe Jazz Club Network (TJCN)\, il cartellone firmato CeDAC\, Circuito Multidisciplinare dello Spettacolo dal Vivo in Sardegna\, in collaborazione con l’Associazione culturale Il Jazzino\, riaccende le luci e apre le porte anche dell’InOut Music Club di Cagliari\, magnifico locale con terrazza affacciato sulla spettacolare laguna del Parco di Molentargius\, al suo debutto nel circuito. \n  \nLINE-UP: \nCarlos Sarduy: tromba/tastiera – Tony Cruz: basso – Lukmil Perez: batteria \nINFO:  \nCarlos Sarduy è un trombettista\, compositore e polistrumentista cubano\, riconosciuto e richiesto non solo nella scena jazz\, ma anche nel flamenco e nella musica popolare e moderna cubana.  \nLodato per la qualità del suono\, la sua grande musicalità e la sua incredibile versatilità\, Sarduy è anche pianista\, percussionista e produttore.  \nNon c’è da stupirsi che abbia impressionato grandi artisti come Chucho Valdés\, o che abbia ricevuto un Grammy Award per Irakere 40 e due Latin Grammy Awards.  \nNei suoi concerti Carlos offre un viaggio musicale magico e vibrante attraverso un fraseggio melodico e sensibile\, caratteristico di un linguaggio personale in cui si riflette la sua grande conoscenza della musica afro-cubana e la sua maestria nello sviluppo davvero innovativo del jazz. \n  \nACQUISTA IL BIGLIETTOACQUISTA IL BIGLIETTO\n 
URL:https://www.jazzino.it/evento/carlos-sarduy-trio-inout-tjcn/
LOCATION:InOut Music Club\, Viale G.Marconi 173\, Cagliari\, CA\, 09131\, Italia
ATTACH;FMTTYPE=image/jpeg:https://www.jazzino.it/wp-content/uploads/2024/10/tinywow_JCN24_SARDUY_CA_EVENT_66169294.jpg
END:VEVENT
BEGIN:VEVENT
DTSTART;TZID=Europe/Rome:20241026T213000
DTEND;TZID=Europe/Rome:20241026T230000
DTSTAMP:20260422T221928
CREATED:20241004T103521Z
LAST-MODIFIED:20241004T103521Z
UID:19331-1729978200-1729983600@www.jazzino.it
SUMMARY:Stefano Onorati & Fulvio Sigurtà quartet “Extended Singularity” @ InOut – TJCN
DESCRIPTION:ACQUISTA IL BIGLIETTOACQUISTA IL BIGLIETTO\nThe Jazz Club Network (TJCN)\, il cartellone firmato CeDAC\, Circuito Multidisciplinare dello Spettacolo dal Vivo in Sardegna\, in collaborazione con l’Associazione culturale Il Jazzino\, riaccende le luci e apre le porte anche dell’InOut Music Club di Cagliari\, magnifico locale con terrazza affacciato sulla spettacolare laguna del Parco di Molentargius\, al suo debutto nel circuito. \n  \nLINE-UP: \nFulvio Sigurtà: tromba – Stefano Onorati: piano – Gabriele Evangelista: contrabbasso – Alessandro Paternesi: batteria \n  \nINFO:  \nNon hanno certo bisogno di presentazione il pianista livornese Stefano Onorati e il trombettista bresciano Fulvio Sigurtà\, esponenti di primo piano del jazz italiano.  \nFra i loro tanti progetti c’è anche quello che dal 2018 li vede affiancati nel duo Singularity\, ovvero il punto spazio-tempo in cui le energie dei due musicisti prendono forma partendo dalle riletture del repertorio jazzistico meno gettonato di musicisti come Kenny Wheeler o John Taylor\, arrivando all’improvvisazione elettronica totale.  \nIn entrambi i casi la musica scivola su binari molto liberi\, in cui più che i riferimenti stilistici dei brani scelti risulta importante lo stretto dialogo che i due artisti sono in grado di intrecciare.  \nIl progetto\, nato come estensione acustica in versione duo\, si amplia in quartetto esplorando un territorio musicale altrettanto vasto\, fino a toccare l’improvvisazione più radicale. Ogni loro esibizione è un viaggio sorprendente e suggestivo\, lungo territori e verso mete sempre difficili da prevedere\, e per questo ancora più affascinante. \n  \nACQUISTA IL BIGLIETTOACQUISTA IL BIGLIETTO\n 
URL:https://www.jazzino.it/evento/stefano-onorati-fulvio-sigurta-quartet-inout-tjcn/
LOCATION:InOut Music Club\, Viale G.Marconi 173\, Cagliari\, CA\, 09131\, Italia
ATTACH;FMTTYPE=image/jpeg:https://www.jazzino.it/wp-content/uploads/2024/10/tinywow_JCN24_ONORATI_CA_EVENT_66148632.jpg
END:VEVENT
BEGIN:VEVENT
DTSTART;TZID=Europe/Rome:20231220T213000
DTEND;TZID=Europe/Rome:20231220T223000
DTSTAMP:20260422T221928
CREATED:20231213T113621Z
LAST-MODIFIED:20231213T195941Z
UID:18812-1703107800-1703111400@www.jazzino.it
SUMMARY:Sardica Orchestra Live@ InOut
DESCRIPTION:ACQUISTA IL BIGLIETTOACQUISTA IL BIGLIETTO\nMercoledì 20 dicembre 2023 – Live@ InOut (CA) \nUnico Set – 21:30 \nPAOLO NONNIS & SARDICA ORCHESTRA \nPaolo Nonnis e la sua formidabile Sardica Orchestra ti aspettano all’ InOut il 20 dicembre dalle ore 21:30 con un imperdibile concerto dal vivo! \nL’Associazione Culturale Sardica Orchestra nasce nel 2021 dalla collaborazione dei musicisti Paolo Nonnis\, Mauro Mulas e Rubens Massidda.\nGli scopi principali di Sardica sono la promozione e la preservazione della Grande Orchestra\, nei suoi diversi stili musicali\, attraverso concerti in Festival e Club e la promozione del Jazz con concerti-lezione da tenersi nelle scuole primarie e secondarie. Sardica\, benché di recentissima costituzione\, nasce da una trentennale esperienza che ha conosciuto diversi momenti altamente significativi. Nel 1993 Nonnis ha fondato la “Paolo Nonnis Maxi Band” che è stata l’orchestra ufficiale della decima edizione del Festival Internazionale Jazz in Sardegna\, nel 2014 forma la “Paolo Nonnis Orchestra” e diventa l’orchestra di punta del jazz club cagliaritano “Jazzino”. \n𝗟𝗜𝗡𝗘 𝗨𝗣: \nPaolo Nonnis\, Alessandro Atzori\, Mauro Mulas\, Maurizio Piasotti\, Adriano Sarais\, Darío Zara\, Matteo Sedda\, Stanis Linkevicious\, Federico Fenu\, Mauro Piras\, Ilaria Sini\, Darío Pirodda\, Andrea Morelli\, Mariano Argiolas\, Laura Marras\, Rubens Massidda \n\nServizio cena: Aperti dalle 20:00 con MENU ALLA CARTA\nUnico Set: Inizio ore 21:30 – Prezzo spettacolo 5€ \nPrenotazioni:  i biglietti per il concerto sono acquistabili sul sito www.sardiniaticket.com\, per prenotazioni chiama al numero +39 375 8365120 oppure inia un messaggio su WhatsApp specificando il numero dei posti\, la data\, l’orario e il nominativo. Per la conferma della prenotazione dovrai attendere il messaggio di risposta.\n\nACQUISTA IL BIGLIETTOACQUISTA IL BIGLIETTO\n** \n[𝗙𝗔𝗤] \n𝘗𝘭𝘦𝘢𝘴𝘦 𝘳𝘦𝘢𝘥 𝘣𝘦𝘭𝘰𝘸 𝘧𝘰𝘳 𝘪𝘯𝘧𝘰 𝘪𝘯 𝘌𝘯𝘨𝘭𝘪𝘴𝘩. \n𝗗𝗢𝗩𝗘 𝗧𝗥𝗢𝗩𝗢 𝗜𝗟 𝗣𝗥𝗢𝗚𝗥𝗔𝗠𝗠𝗔 𝗦𝗘𝗧𝗧𝗜𝗠𝗔𝗡𝗔𝗟𝗘? \nOgni lunedì inviamo a tutti i nostri clienti iscritti ai servizi di newsletter una mail e un messaggio su WhatsApp con il programma della settimana. \nPer non perderti nessun appuntamento\, iscriviti qui: https://mailchi.mp/3c909bcd0e60/jazzino_whatsapp \n𝗡𝗢𝗡 𝗧𝗥𝗢𝗩𝗜 𝗜𝗟 𝗕𝗜𝗚𝗟𝗜𝗘𝗧𝗧𝗢 𝗢𝗡𝗟𝗜𝗡𝗘? \nRiserviamo solo una quantità ristretta di posti per la vendita online. Se non trovi disponibile il tavolo che fa per te\, contattaci al numero +39 375 8365120 . Puoi chiamarci dalle 17 alle 21\, mentre puoi scriverci per sms o su WhatsApp tutto il giorno. \n𝗖𝗨𝗖𝗜𝗡𝗔 & 𝗦𝗘𝗥𝗩𝗜𝗭𝗜𝗢 \nDurante le esibizioni live\, il nostro staff presterà massima attenzione e si muoverà con discrezioni tra i tavoli\, per non disturbare gli artisti sul palco. L’InOut propone una cucina sana e creativa che valorizza al meglio i prodotti freschi e stagionali del territorio. \n𝗦𝗘𝗚𝗨𝗜𝗖𝗜 𝗦𝗨 𝗜𝗡𝗦𝗧𝗔𝗚𝗥𝗔𝗠! \nScopri le nostre ultime foto e taggaci nei tuoi scatti per essere ripostato. Non dimenticare di seguirci! \nwww.instagram.com/jazzino_cagliari/ \n** \n[𝗙𝗔𝗤] – 𝘌𝘯𝘨𝘭𝘪𝘴𝘩 𝘐𝘯𝘧𝘰 \n𝗪𝗛𝗘𝗥𝗘 𝗖𝗔𝗡 𝗜 𝗙𝗜𝗡𝗗 𝗧𝗛𝗘 𝗪𝗘𝗘𝗞𝗟𝗬 𝗣𝗥𝗢𝗚𝗥𝗔𝗠? \nEvery Monday we take care of sending to all our customers subscribed to the newsletter services an email and a message on whatsapp with the program of the week. \nSign up here to get in touch: https://mailchi.mp/3c909bcd0e60/jazzino_whatsapp \n𝗖𝗔𝗡’𝗧 𝗕𝗢𝗢𝗞 𝗔 𝗧𝗔𝗕𝗟𝗘 𝗢𝗡𝗟𝗜𝗡𝗘? \nJust a small amount of seats are available for online sales. If you cannot find the right table for you\, please contact us at +39 3914603924. You can call us from 17 to 21 pm\, while you can write to us by sms or whatsapp all day. \n𝗠𝗘𝗡𝗨 & 𝗦𝗘𝗥𝗩𝗜𝗖𝗘 \nDuring the shows\, ur staff will move around discreetly to not bother the artists on stage. InOut’s cuisine is healthy\, creative and based on the best local seasonal products. \n𝗙𝗢𝗟𝗟𝗢𝗪 𝗨𝗦 𝗢𝗡 𝗜𝗡𝗦𝗧𝗔𝗚𝗥𝗔𝗠! \nCheck out our latest photos and tag us on your shots to get reposted. Don’t forget to follow us! \nwww.instagram.com/jazzino_cagliari/
URL:https://www.jazzino.it/evento/sardica-orchestra-live-inout/
LOCATION:InOut Music Club\, Viale G.Marconi 173\, Cagliari\, CA\, 09131\, Italia
ATTACH;FMTTYPE=image/jpeg:https://www.jazzino.it/wp-content/uploads/2023/12/20-Dic-SARDICA-ORCHESTRA-FB-cover-01-scaled.jpg
END:VEVENT
BEGIN:VEVENT
DTSTART;TZID=Europe/Rome:20230505T213000
DTEND;TZID=Europe/Rome:20230505T233000
DTSTAMP:20260422T221928
CREATED:20230419T173832Z
LAST-MODIFIED:20230427T101713Z
UID:17540-1683322200-1683329400@www.jazzino.it
SUMMARY:Marco Cocco Quartet Live@ Jazzino
DESCRIPTION:ACQUISTA IL BIGLIETTOACQUISTA IL BIGLIETTO\n  \nVenerdì 5 maggio 2023 – Live@ Jazzino (CA) \nUnico Set – 21:30 \nMARCO COCCO QUARTET \nNuovo appuntamento con il meglio della musica dal vivo insieme al Marco Cocco Quartet live il 5 maggio 2023 al Jazzino a partire dalle ore 21:30! \nQuesto quartetto nasce dall’idea di rivisitare in chiave personale e originale un repertorio all’insegna dei brani che hanno fatto la storia del jazz: vengono infatti interpretate le composizioni più belle e indimenticabili dell’American Songbook\, di artisti quali Gershwin\, Porter\, Rodgers and Hart\, Van Heusen\, Jobim e altri. Interpreti e musicisti del calibro di Louis Armstrong\, Nat King Cole\, Frank Sinatra\, Tony Bennett\, Bobby Darin\, Mel Tormé\, Kurt Elling\, e tanti altri\, hanno contribuito alla crescita della polarità di questo genere\, ancora oggi capace di coinvolgere e appassionare\, fino a ottenere il successo mondiale. \n𝗟𝗜𝗡𝗘 𝗨𝗣: \nMarco Cocco – Voce\nMauro Mulas – piano\nAlessandro “Cinzio” Atzori – double bass\nPaolo Nonnis – batteria \n  \n\nUnico Set: Inizio ore 21:30 – Prezzo spettacolo 5€. Menu Promo 35 euro comprensivo di 2 portate a scelta dal menu + bevanda – Possibilità di consumazione con il MENU ALLA CARTA;  \nPrenotazioni:  i biglietti per il concerto sono acquistabili sul sito www.sardiniaticket.com\, per prenotazioni chiama al numero +39 391 4603924 oppure inia un messaggio su WhatsApp specificando il numero dei posti\, la data\, l’orario e il nominativo. Per la conferma della prenotazione dovrai attendere il messaggio di risposta.\n\nACQUISTA IL BIGLIETTOACQUISTA IL BIGLIETTO\n** \n[𝗙𝗔𝗤] \n𝘗𝘭𝘦𝘢𝘴𝘦 𝘳𝘦𝘢𝘥 𝘣𝘦𝘭𝘰𝘸 𝘧𝘰𝘳 𝘪𝘯𝘧𝘰 𝘪𝘯 𝘌𝘯𝘨𝘭𝘪𝘴𝘩. \n𝗖𝗢𝗦𝗔 𝗩𝗨𝗢𝗟 𝗗𝗜𝗥𝗘 𝗗𝗢𝗣𝗣𝗜𝗢 𝗦𝗘𝗧? \nLe attuali norme impongono un maggiore distanziamento tra i tavoli e pertanto un numero di posti limitato. \nPer garantire a tutti la massima fruibilità degli spettacoli\, proporremo spesso due set\, o meglio\, lo stesso concerto due volte nella stessa serata. \n𝗢𝗥𝗔𝗥𝗜 𝟮𝟬𝟮𝟮-𝟮𝟬𝟮3 \nSiamo aperti il giovedì\, il venerdì e il sabato \, dalle ore 19:00. Nei giorni in cui sono sono previsti due set\, il primo inizia alle 19:00\, mentre il secondo set alle 22:00. \nLa nostra cucina è aperta dalle 19:00\, per ottime cene e gustosi aperitivi. \nPer gli spettatori del secondo set l’orario d’arrivo consigliato sono le 21:30. \nNelle serate dove è previsto un unico set\, il concerto inizierà intorno alle 21:45. \n𝗗𝗢𝗩𝗘 𝗧𝗥𝗢𝗩𝗢 𝗜𝗟 𝗣𝗥𝗢𝗚𝗥𝗔𝗠𝗠𝗔 𝗦𝗘𝗧𝗧𝗜𝗠𝗔𝗡𝗔𝗟𝗘? \nOgni lunedì inviamo a tutti i nostri clienti iscritti ai servizi di newsletter una mail e un messaggio su WhatsApp con il programma della settimana. \nPer non perderti nessun appuntamento\, iscriviti qui: https://mailchi.mp/3c909bcd0e60/jazzino_whatsapp \n𝗡𝗢𝗡 𝗧𝗥𝗢𝗩𝗜 𝗜𝗟 𝗕𝗜𝗚𝗟𝗜𝗘𝗧𝗧𝗢 𝗢𝗡𝗟𝗜𝗡𝗘? \nRiserviamo solo una quantità ristretta di posti per la vendita online. Se non trovi disponibile il tavolo che fa per te\, contattaci al numero +39 391 4603924. Puoi chiamarci dalle 17 alle 21\, mentre puoi scriverci per sms o su WhatsApp tutto il giorno. \n𝗖𝗨𝗖𝗜𝗡𝗔 & 𝗦𝗘𝗥𝗩𝗜𝗭𝗜𝗢 \nDurante le esibizioni live\, il nostro staff presterà massima attenzione e si muoverà con discrezioni tra i tavoli\, per non disturbare gli artisti sul palco. Il Jazzino propone una cucina sana e creativa che valorizza al meglio i prodotti freschi e stagionali del territorio. \n𝗣𝗥𝗘𝗡𝗢𝗧𝗔𝗭𝗜𝗢𝗡𝗜 𝗦𝗘𝗡𝗭𝗔 𝗖𝗘𝗡𝗔 \nI posti per solo drink sono limitati. Consigliamo pertanto di prenotare con ampio anticipo. \n𝗦𝗘𝗚𝗨𝗜𝗖𝗜 𝗦𝗨 𝗜𝗡𝗦𝗧𝗔𝗚𝗥𝗔𝗠! \nScopri le nostre ultime foto e taggaci nei tuoi scatti per essere ripostato. Non dimenticare di seguirci! \nwww.instagram.com/jazzino_cagliari/ \n** \n[𝗙𝗔𝗤] – 𝘌𝘯𝘨𝘭𝘪𝘴𝘩 𝘐𝘯𝘧𝘰 \n𝗪𝗛𝗔𝗧 𝗗𝗢𝗘𝗦 𝗗𝗢𝗣𝗣𝗜𝗢 𝗦𝗘𝗧 𝗠𝗘𝗔𝗡? \nDoppio set (literally Double Set) means we will often offer two gigs in the same day. This is for guaranteeing access to everyone while keeping adequate distance between our customers. \n𝗧𝗜𝗠𝗜𝗡𝗚 𝟮𝟬𝟮𝟮-𝟮𝟬𝟮3 \nThe club opens  at 7PM. On the day that features two sets\, the first one will start at 7:00 PM and the second one at 10:00PM. \nThe kitchen opens everyday at 7:00PM to deliver some fresh\, seasonal and exceptional food at your table. \nIf you want to attend the second set we suggest you arrive at around 9:30PM. \nWhen there is a single set\, the gig will start at around 9:45PM. \n𝗪𝗛𝗘𝗥𝗘 𝗖𝗔𝗡 𝗜 𝗙𝗜𝗡𝗗 𝗧𝗛𝗘 𝗪𝗘𝗘𝗞𝗟𝗬 𝗣𝗥𝗢𝗚𝗥𝗔𝗠? \nEvery Monday we take care of sending to all our customers subscribed to the newsletter services an email and a message on whatsapp with the program of the week. \nSign up here to get in touch: https://mailchi.mp/3c909bcd0e60/jazzino_whatsapp \n𝗖𝗔𝗡’𝗧 𝗕𝗢𝗢𝗞 𝗔 𝗧𝗔𝗕𝗟𝗘 𝗢𝗡𝗟𝗜𝗡𝗘? \nJust a small amount of seats are available for online sales. If you cannot find the right table for you\, please contact us at +39 3914603924. You can call us from 17 to 21 pm\, while you can write to us by sms or whatsapp all day. \n𝗠𝗘𝗡𝗨 & 𝗦𝗘𝗥𝗩𝗜𝗖𝗘 \nDuring the shows\, ur staff will move around discreetly to not bother the artists on stage. Jazzino’s cuisine is healthy\, creative and based on the best local seasonal products. \n𝗕𝗢𝗢𝗞𝗜𝗡𝗚 𝗙𝗢𝗥 𝗢𝗡𝗟𝗬 𝗗𝗥𝗜𝗡𝗞 \nWe have really few seats only for drinks. Please call us way in advance to book your seat only for drinks. \n𝗙𝗢𝗟𝗟𝗢𝗪 𝗨𝗦 𝗢𝗡 𝗜𝗡𝗦𝗧𝗔𝗚𝗥𝗔𝗠! \nCheck out our latest photos and tag us on your shots to get reposted. Don’t forget to follow us! \nwww.instagram.com/jazzino_cagliari/
URL:https://www.jazzino.it/evento/marco-cocco-quartet-5-maggio-live-jazzino/
LOCATION:Jazzino\, 74 Via Carloforte\, Cagliari\, 09123\, Italy
ATTACH;FMTTYPE=image/jpeg:https://www.jazzino.it/wp-content/uploads/2023/04/marco-cocco-quartet-5maggio-FB-cover.jpg
END:VEVENT
END:VCALENDAR