BEGIN:VCALENDAR
VERSION:2.0
PRODID:-//Jazzino - Ristorante Jazz Club - ECPv6.15.20//NONSGML v1.0//EN
CALSCALE:GREGORIAN
METHOD:PUBLISH
X-ORIGINAL-URL:https://www.jazzino.it
X-WR-CALDESC:Eventi per Jazzino - Ristorante Jazz Club
REFRESH-INTERVAL;VALUE=DURATION:PT1H
X-Robots-Tag:noindex
X-PUBLISHED-TTL:PT1H
BEGIN:VTIMEZONE
TZID:Europe/Rome
BEGIN:DAYLIGHT
TZOFFSETFROM:+0100
TZOFFSETTO:+0200
TZNAME:CEST
DTSTART:20210328T010000
END:DAYLIGHT
BEGIN:STANDARD
TZOFFSETFROM:+0200
TZOFFSETTO:+0100
TZNAME:CET
DTSTART:20211031T010000
END:STANDARD
BEGIN:DAYLIGHT
TZOFFSETFROM:+0100
TZOFFSETTO:+0200
TZNAME:CEST
DTSTART:20220327T010000
END:DAYLIGHT
BEGIN:STANDARD
TZOFFSETFROM:+0200
TZOFFSETTO:+0100
TZNAME:CET
DTSTART:20221030T010000
END:STANDARD
BEGIN:DAYLIGHT
TZOFFSETFROM:+0100
TZOFFSETTO:+0200
TZNAME:CEST
DTSTART:20230326T010000
END:DAYLIGHT
BEGIN:STANDARD
TZOFFSETFROM:+0200
TZOFFSETTO:+0100
TZNAME:CET
DTSTART:20231029T010000
END:STANDARD
BEGIN:DAYLIGHT
TZOFFSETFROM:+0100
TZOFFSETTO:+0200
TZNAME:CEST
DTSTART:20240331T010000
END:DAYLIGHT
BEGIN:STANDARD
TZOFFSETFROM:+0200
TZOFFSETTO:+0100
TZNAME:CET
DTSTART:20241027T010000
END:STANDARD
BEGIN:DAYLIGHT
TZOFFSETFROM:+0100
TZOFFSETTO:+0200
TZNAME:CEST
DTSTART:20250330T010000
END:DAYLIGHT
BEGIN:STANDARD
TZOFFSETFROM:+0200
TZOFFSETTO:+0100
TZNAME:CET
DTSTART:20251026T010000
END:STANDARD
BEGIN:DAYLIGHT
TZOFFSETFROM:+0100
TZOFFSETTO:+0200
TZNAME:CEST
DTSTART:20260329T010000
END:DAYLIGHT
BEGIN:STANDARD
TZOFFSETFROM:+0200
TZOFFSETTO:+0100
TZNAME:CET
DTSTART:20261025T010000
END:STANDARD
END:VTIMEZONE
BEGIN:VEVENT
DTSTART;TZID=Europe/Rome:20251108T220000
DTEND;TZID=Europe/Rome:20251108T230000
DTSTAMP:20260423T040419
CREATED:20251009T114808Z
LAST-MODIFIED:20251014T120006Z
UID:20309-1762639200-1762642800@www.jazzino.it
SUMMARY:TJCN | Marco Valeri Quartet live al Jazzino l' 08/11/2025
DESCRIPTION:The Jazz Club Network: un’ottava stagione all’insegna del grande jazz.\nDal 3 ottobre al 13 dicembre 2025 solo al Jazzino ⬇️\nScopri tutto il programma \n🎷🎷questo evento prevede un set 🎷🎷 \nSET: Apertura porte 21.00 | Inizio live 22.00 \nACQUISTA IL BIGLIETTOACQUISTA IL BIGLIETTO\nMARCO VALERI QUARTET: Swing e Contemporaneità  \nIl Marco Valeri Quartet si distingue nel panorama jazzistico per una proposta musicale che fonde con maestria le radici dello swing con sonorità moderne e contemporanee. \nAl timone del progetto c’è Marco Valeri\, una delle figure più rispettate della batteria jazz in Italia e a livello internazionale. La sua carriera è un’impressionante tessitura di collaborazioni con giganti del calibro di Kurt Rosenwinkel\, Sarah McKenzie\, Danny Grissett\, Fabrizio Bosso e Rosario Giuliani\, e lo ha portato a calcare i palchi di festival prestigiosi come Umbria Jazz\, Jazz in Marciac e Java Jazz. \nIl quartetto è un vero e proprio concentrato di talento\, con un interplay che cattura fin dalle prime note. Al fianco di Valeri troviamo Daniele Tittarelli al sax alto\, un musicista dalla voce inconfondibile e originale\, capace di dare vita a melodie vibranti e piene di carattere. Al pianoforte\, il tocco elegante e virtuoso di Vittorio Esposito\, un giovane talento già riconosciuto come uno dei migliori prospetti del jazz attuale. A completare la sezione ritmica\, la solida e impeccabile presenza di un altro talento Gabriele Pagliano al contrabbasso. Insieme\, questi musicisti creano un’esperienza sonora ricca di energia e raffinatezza. \nLa loro musica è un viaggio attraverso atmosfere intense e coinvolgenti\, dove il virtuosismo tecnico si mette al servizio di una profonda sensibilità artistica. \nL’alchimia del quartetto genera un dialogo costante e stimolante\, un’interazione che non smette mai di sorprendere e che tiene l’ascoltatore incollato alla poltrona dall’inizio alla fine. Un’espressione di jazz che omaggia la tradizione guardando dritto al futuro\, con un’eleganza e una freschezza. \nLINE-UP: \nMarco Valeri: batteria – Daniele Tittarelli: alto sax – Vittorio Esposito: piano – Gabriele Pagliano: contrabbasso \n🎷🎷questo evento prevede un set 🎷🎷 \nSET: Apertura porte 21.00 | Inizio live 22.00 \nACQUISTA IL BIGLIETTOACQUISTA IL BIGLIETTO
URL:https://www.jazzino.it/evento/tjcn-marco-valeri-quartet-live-al-jazzino-l-08-11-2025/
LOCATION:Jazzino\, 74 Via Carloforte\, Cagliari\, 09123\, Italy
CATEGORIES:The Jazz Club Network 2026
ATTACH;FMTTYPE=image/webp:https://www.jazzino.it/wp-content/uploads/2025/10/MARCO-VALERI-QUARTET.webp
END:VEVENT
BEGIN:VEVENT
DTSTART;TZID=Europe/Rome:20240519T210000
DTEND;TZID=Europe/Rome:20240519T230000
DTSTAMP:20260423T040419
CREATED:20240208T145846Z
LAST-MODIFIED:20240415T133325Z
UID:18949-1716152400-1716159600@www.jazzino.it
SUMMARY:CAMILLE THURMAN WITH THE DARRELL GREEN QUARTET Live@ Teatro Massimo Cagliari
DESCRIPTION:ACQUISTA IL BIGLIETTOACQUISTA IL BIGLIETTO\n  \nTHE JAZZ CLUB NETWORK 2024 \nCamille Thurman e il Darrel Green Quartet arrivano il 19 maggio 2024 al Teatro Massimo di Cagliari a partire dalle ore 21:00\, per il secondo appuntamento del The Jazz Club Network 2024! \nCamille Thurman è la nuova rising star del jazz al femminile d’oltre oceano. Nativa di New York\, Camille e un artista poliedrica di grande talento\, compositrice\, polistrumentista\, cantante e interprete unica della tradizione jazz americana. Conquistando rapidamente con il suo considerevole contributo ad espandere l’eredità del jazz rendendo omaggio ai suoi eroi. \nCamille è nota per il suo distinto approccio musicale al repertorio jazz classico che mette in risalto le sue abilità sia come cantante che come strumentista. Fluida e potente al sax tenore e molto inventiva come cantante\, è anche la prima musicista donna in 30 anni a fare tournée e ad esibirsi a tempo pieno con la Jazz at Lincoln Center Orchestra diretta da Wynton Marsalis. In pochi anni. Thurman ha condiviso palcoscenici con luminari del jazz e R&B in tutto il mondo\, Roy Haynes\, George Coleman\, Dianne Reeves\, Wynton Marsalis\, Dr. Lonnie Smith\, Russell Malone\, Patti LaBelle\, Chaka Khan\, Alicia Keys\, Erykah Badu)\, si affiancano ad una cospicua attività come leader di gruppi in cui riesce ad esplicare al meglio le sue doti al sax tenore con sonorità vicine ai grandi del passato e con uno stile vocale\, inclusa un’impressionante capacità di scatting\, che facilmente rimanda a modelli regali quali Ella Fitzgerald e Betty Carter. ha già accumulato diversi riconoscimenti distintivi per la sua abilità musicale: nomination per il Critics Poll di Downbeat Magazine (sassofonista tenore stella nascente)\, seconda classificata al Sarah Vaughan International Vocal Competition 2013\, due volte vincitrice dell’ASCAP Herb Alpert Young Jazz. Composers Award\, vincitrice del Fulbright Scholars Cultural Ambassador Grant e del Chamber Music of America Performance Plus Grant tra gli altri. Thurman ha al suo attivo anche quattro registrazioni integrali come leader. \nDarrell Gree\, batterista\, compositore e arrangiatore\, è diventato uno dei batteristi più talentuosi di oggi\, noto per la sua tecnica semplice e magistrale e per i ritmi accattivanti che danno vita alla musica\, portando il pubblico in un viaggio spirituale. Nato e cresciuto a Oakland in California\, ha sviluppato uno stile radicato nella moderna tradizione post-bop\, conservando elementi del suo gospel e del suo lignaggio classico. Ha condiviso il palco con importanti artisti jazz tra cui il vibrafonista Stefon Harris\, la cantante Faye Carol\, il sassofonista Red Holloway\, il trombettista David Weiss\, i sassofonisti Antoine Roney e Sherman Irby\, Charles Tolliver\, Charenee Wade\, Helen Sung\, Cassandra Wilson\, Pharoah Sanders\, Dr. Lonnie Smith\, Antoine Roney\, Steve Turre\, Wallace Roney\, Amina Figarova\, The Black Arts Collective e Jeremy Pelt. Darrell è uno dei batteristi più richiesti a New York\, in Europa e in Giappone. \n  \nLINE-UP \nCamille Thurman: sax tenore/ voce \nDarrell Green: batteria \nWallace Roney Jr. : tromba \nDavid Bryant: piano \nPaul Beaudry: contrabbasso \n  \nACQUISTA IL BIGLIETTOACQUISTA IL BIGLIETTO\n 
URL:https://www.jazzino.it/evento/camille-thurman-darrel-green-quartet/
LOCATION:Teatro Massimo Cagliari\, Via E. De Magistris\, 12\, 09123 Cagliari CA\, Cagliari\, 09123\, Italy
ATTACH;FMTTYPE=image/jpeg:https://www.jazzino.it/wp-content/uploads/2024/02/JCN23_CAMILLE_CA_Event-1.jpg
END:VEVENT
BEGIN:VEVENT
DTSTART;TZID=Europe/Rome:20230319T213000
DTEND;TZID=Europe/Rome:20230319T233000
DTSTAMP:20260423T040419
CREATED:20230302T181324Z
LAST-MODIFIED:20230307T183704Z
UID:17141-1679261400-1679268600@www.jazzino.it
SUMMARY:Marco Cocco Quartet Live@ Jazzino
DESCRIPTION:ACQUISTA IL BIGLIETTOACQUISTA IL BIGLIETTO\n  \nDomenica 19 marzo 2023 – Live@ Jazzino (CA) \nUnico Set – 21:30 \nMARCO COCCO QUARTET \nNuovo appuntamento con il meglio della musica dal vivo insieme al Marco Cocco Quartet live il 19 marzo 2023 al Jazzino a partire dalle ore 21:30! \nQuesto quartetto nasce dall’idea di rivisitare in chiave personale e originale un repertorio all’insegna dei brani che hanno fatto la storia del jazz: vengono infatti interpretate le composizioni più belle e indimenticabili dell’American Songbook\, di artisti quali Gershwin\, Porter\, Rodgers and Hart\, Van Heusen\, Jobim e altri. Interpreti e musicisti del calibro di Louis Armstrong\, Nat King Cole\, Frank Sinatra\, Tony Bennett\, Bobby Darin\, Mel Tormé\, Kurt Elling\, e tanti altri\, hanno contribuito alla crescita della polarità di questo genere\, ancora oggi capace di coinvolgere e appassionare\, fino a ottenere il successo mondiale. \n𝗟𝗜𝗡𝗘 𝗨𝗣: \nMarco Cocco – Voce\nMauro Mulas – piano\nAlessandro “Cinzio” Atzori – double bass\nPaolo Nonnis – batteria \n  \n\nUnico Set: Inizio ore 21:30 – Prezzo spettacolo 5€. Menu Promo 35 euro comprensivo di 2 portate a scelta dal menu + bevanda – Possibilità di consumazione con il MENU ALLA CARTA;  \nPrenotazioni:  i biglietti per il concerto sono acquistabili sul sito www.sardiniaticket.com\, per prenotazioni chiama al numero +39 391 4603924 oppure inia un messaggio su WhatsApp specificando il numero dei posti\, la data\, l’orario e il nominativo. Per la conferma della prenotazione dovrai attendere il messaggio di risposta.\n\nACQUISTA IL BIGLIETTOACQUISTA IL BIGLIETTO\n** \n[𝗙𝗔𝗤] \n𝘗𝘭𝘦𝘢𝘴𝘦 𝘳𝘦𝘢𝘥 𝘣𝘦𝘭𝘰𝘸 𝘧𝘰𝘳 𝘪𝘯𝘧𝘰 𝘪𝘯 𝘌𝘯𝘨𝘭𝘪𝘴𝘩. \n𝗖𝗢𝗦𝗔 𝗩𝗨𝗢𝗟 𝗗𝗜𝗥𝗘 𝗗𝗢𝗣𝗣𝗜𝗢 𝗦𝗘𝗧? \nLe attuali norme impongono un maggiore distanziamento tra i tavoli e pertanto un numero di posti limitato. \nPer garantire a tutti la massima fruibilità degli spettacoli\, proporremo spesso due set\, o meglio\, lo stesso concerto due volte nella stessa serata. \n𝗢𝗥𝗔𝗥𝗜 𝟮𝟬𝟮𝟮-𝟮𝟬𝟮3 \nSiamo aperti il giovedì\, il venerdì e il sabato \, dalle ore 19:00. Nei giorni in cui sono sono previsti due set\, il primo inizia alle 19:00\, mentre il secondo set alle 22:00. \nLa nostra cucina è aperta dalle 19:00\, per ottime cene e gustosi aperitivi. \nPer gli spettatori del secondo set l’orario d’arrivo consigliato sono le 21:30. \nNelle serate dove è previsto un unico set\, il concerto inizierà intorno alle 21:45. \n𝗗𝗢𝗩𝗘 𝗧𝗥𝗢𝗩𝗢 𝗜𝗟 𝗣𝗥𝗢𝗚𝗥𝗔𝗠𝗠𝗔 𝗦𝗘𝗧𝗧𝗜𝗠𝗔𝗡𝗔𝗟𝗘? \nOgni lunedì inviamo a tutti i nostri clienti iscritti ai servizi di newsletter una mail e un messaggio su WhatsApp con il programma della settimana. \nPer non perderti nessun appuntamento\, iscriviti qui: https://mailchi.mp/3c909bcd0e60/jazzino_whatsapp \n𝗡𝗢𝗡 𝗧𝗥𝗢𝗩𝗜 𝗜𝗟 𝗕𝗜𝗚𝗟𝗜𝗘𝗧𝗧𝗢 𝗢𝗡𝗟𝗜𝗡𝗘? \nRiserviamo solo una quantità ristretta di posti per la vendita online. Se non trovi disponibile il tavolo che fa per te\, contattaci al numero +39 391 4603924. Puoi chiamarci dalle 17 alle 21\, mentre puoi scriverci per sms o su WhatsApp tutto il giorno. \n𝗖𝗨𝗖𝗜𝗡𝗔 & 𝗦𝗘𝗥𝗩𝗜𝗭𝗜𝗢 \nDurante le esibizioni live\, il nostro staff presterà massima attenzione e si muoverà con discrezioni tra i tavoli\, per non disturbare gli artisti sul palco. Il Jazzino propone una cucina sana e creativa che valorizza al meglio i prodotti freschi e stagionali del territorio. \n𝗣𝗥𝗘𝗡𝗢𝗧𝗔𝗭𝗜𝗢𝗡𝗜 𝗦𝗘𝗡𝗭𝗔 𝗖𝗘𝗡𝗔 \nI posti per solo drink sono limitati. Consigliamo pertanto di prenotare con ampio anticipo. \n𝗦𝗘𝗚𝗨𝗜𝗖𝗜 𝗦𝗨 𝗜𝗡𝗦𝗧𝗔𝗚𝗥𝗔𝗠! \nScopri le nostre ultime foto e taggaci nei tuoi scatti per essere ripostato. Non dimenticare di seguirci! \nwww.instagram.com/jazzino_cagliari/ \n** \n[𝗙𝗔𝗤] – 𝘌𝘯𝘨𝘭𝘪𝘴𝘩 𝘐𝘯𝘧𝘰 \n𝗪𝗛𝗔𝗧 𝗗𝗢𝗘𝗦 𝗗𝗢𝗣𝗣𝗜𝗢 𝗦𝗘𝗧 𝗠𝗘𝗔𝗡? \nDoppio set (literally Double Set) means we will often offer two gigs in the same day. This is for guaranteeing access to everyone while keeping adequate distance between our customers. \n𝗧𝗜𝗠𝗜𝗡𝗚 𝟮𝟬𝟮𝟮-𝟮𝟬𝟮3 \nThe club opens  at 7PM. On the day that features two sets\, the first one will start at 7:00 PM and the second one at 10:00PM. \nThe kitchen opens everyday at 7:00PM to deliver some fresh\, seasonal and exceptional food at your table. \nIf you want to attend the second set we suggest you arrive at around 9:30PM. \nWhen there is a single set\, the gig will start at around 9:45PM. \n𝗪𝗛𝗘𝗥𝗘 𝗖𝗔𝗡 𝗜 𝗙𝗜𝗡𝗗 𝗧𝗛𝗘 𝗪𝗘𝗘𝗞𝗟𝗬 𝗣𝗥𝗢𝗚𝗥𝗔𝗠? \nEvery Monday we take care of sending to all our customers subscribed to the newsletter services an email and a message on whatsapp with the program of the week. \nSign up here to get in touch: https://mailchi.mp/3c909bcd0e60/jazzino_whatsapp \n𝗖𝗔𝗡’𝗧 𝗕𝗢𝗢𝗞 𝗔 𝗧𝗔𝗕𝗟𝗘 𝗢𝗡𝗟𝗜𝗡𝗘? \nJust a small amount of seats are available for online sales. If you cannot find the right table for you\, please contact us at +39 3914603924. You can call us from 17 to 21 pm\, while you can write to us by sms or whatsapp all day. \n𝗠𝗘𝗡𝗨 & 𝗦𝗘𝗥𝗩𝗜𝗖𝗘 \nDuring the shows\, ur staff will move around discreetly to not bother the artists on stage. Jazzino’s cuisine is healthy\, creative and based on the best local seasonal products. \n𝗕𝗢𝗢𝗞𝗜𝗡𝗚 𝗙𝗢𝗥 𝗢𝗡𝗟𝗬 𝗗𝗥𝗜𝗡𝗞 \nWe have really few seats for only drink. Please call us way in advance to book your seat only for drinks. \n𝗙𝗢𝗟𝗟𝗢𝗪 𝗨𝗦 𝗢𝗡 𝗜𝗡𝗦𝗧𝗔𝗚𝗥𝗔𝗠! \nCheck out our latest photos and tag us on your shots to get reposted. Don’t forget to follow us! \nwww.instagram.com/jazzino_cagliari/
URL:https://www.jazzino.it/evento/marco-cocco-quartet-live-jazzino-2/
LOCATION:Jazzino\, 74 Via Carloforte\, Cagliari\, 09123\, Italy
ATTACH;FMTTYPE=image/jpeg:https://www.jazzino.it/wp-content/uploads/2023/03/marco-cocco-quartet-19mar-FB-cover.jpg
END:VEVENT
BEGIN:VEVENT
DTSTART;TZID=Europe/Rome:20221221T203000
DTEND;TZID=Europe/Rome:20221221T230000
DTSTAMP:20260423T040419
CREATED:20221212T173116Z
LAST-MODIFIED:20221212T173116Z
UID:16198-1671654600-1671663600@www.jazzino.it
SUMMARY:Finale II Edizione Premio Isio Saba Live@ Teatro Massimo Cagliari
DESCRIPTION:FINALE II EDIZIONE PREMIO ISIO SABA \n\nMercoledì 21 dicembre 22 – Live@ Sala M2 Teatro Massimo Cagliari\nPronti per l’ultimo grande appuntamento della II Edizione del Premio Isio Saba? Mercoledì 21 dicembre 2022 alla Sala M2 del Teatro Massimo di Cagliari non perdere la finalissima con Patterns for Transcendence\, il Dario Piccioni Trio e l’Inside Out Duo.\n\n\nPatterns for Transcendence\n8 fotografie contenenti elementi urbani/artificiali e naturali sono lo spartito delle composizioni del quartetto Patterns for Transcendence. La band miscela timbriche particolari\, derivanti da suoni sintetici e artificiali da una parte\, e da suoni acustici dall’altra\, riprendendo la relazione tra elementi naturali e artificiali ritratta nelle fotografie. \nDario Piccioni Trio\nSound di matrice jazzistica\, che include influenze provenienti da altri generi musicali come world music\, progressive rock\, alternative pop\, musica brasiliana\, latin\, contemporanea. Artisti di riferimento che hanno ispirato il trio sono\, Bill Evans\, Chick Corea\, Ralph Towner\, Robert Glasper\, Avishai Cohen\, Shai Maestro\, Hermeto Pascoal\, Tigran Hamasyan e molti altri. \nInside Out Duo\nDuo pianoforte-contrabbasso\, di derivazione classica e jazzistica\, si focalizza musicalmente nella composizione ed esecuzione di brani originali. Il duo utilizza oggetti esterni che modificano il timbro naturale dello strumento\, favorendo così maggiore varietà ed originalità timbrica. \n\nChi si aggiudicherà il titolo di quest’anno? Scoprilo il 21 dicembre\, appuntamento al Teatro Massimo di Cagliari per l’ultimo grande appuntamento del Premio Isio Saba 2022. \n\n\n\nVisita la pagina dedicata al premio  e seguici sui social per tutte le news!\n\n\nSeconda edizione del Premio Isio Saba\n\nFestival Internazionale Jazz In Sardegna e l’Associazione Culturale Jazzino presentano la II Edizione del PREMIO ISIO SABA PER LA CREATIVITÀ E L’INNOVAZIONE NELLA MUSICA JAZZ\n\nFINALITÀ DEL PREMIO\nIl premio nasce con lo scopo di premiare e promuovere i musicisti che\, nel solco della figura e della storia di Isio Saba\, dimostrino la loro spiccata personalità artistica e la loro eccellenza creativa nel campo della musica\n\nPREMI IN PALIO\nIn palio 3000€ e la partecipazione alla 43°edizione del festival @jazzinsardegna – @europeanjazz expo\n\nFINALISSIMA\nLa finalissima del premio\, che vedrà in gara gli artisti selezionati alla fasi finali dei live shows\, si svolgerà al Teatro Massimo di Cagliari.\n\n\n 
URL:https://www.jazzino.it/evento/finale-premio-isio-saba-2022-teatro-massimo-cagliari/
LOCATION:Teatro Massimo Cagliari\, Via E. De Magistris\, 12\, 09123 Cagliari CA\, Cagliari\, 09123\, Italy
END:VEVENT
END:VCALENDAR