BEGIN:VCALENDAR
VERSION:2.0
PRODID:-//Jazzino - Ristorante Jazz Club - ECPv6.15.20//NONSGML v1.0//EN
CALSCALE:GREGORIAN
METHOD:PUBLISH
X-WR-CALNAME:Jazzino - Ristorante Jazz Club
X-ORIGINAL-URL:https://www.jazzino.it
X-WR-CALDESC:Eventi per Jazzino - Ristorante Jazz Club
REFRESH-INTERVAL;VALUE=DURATION:PT1H
X-Robots-Tag:noindex
X-PUBLISHED-TTL:PT1H
BEGIN:VTIMEZONE
TZID:Europe/Rome
BEGIN:DAYLIGHT
TZOFFSETFROM:+0100
TZOFFSETTO:+0200
TZNAME:CEST
DTSTART:20200329T010000
END:DAYLIGHT
BEGIN:STANDARD
TZOFFSETFROM:+0200
TZOFFSETTO:+0100
TZNAME:CET
DTSTART:20201025T010000
END:STANDARD
BEGIN:DAYLIGHT
TZOFFSETFROM:+0100
TZOFFSETTO:+0200
TZNAME:CEST
DTSTART:20210328T010000
END:DAYLIGHT
BEGIN:STANDARD
TZOFFSETFROM:+0200
TZOFFSETTO:+0100
TZNAME:CET
DTSTART:20211031T010000
END:STANDARD
BEGIN:DAYLIGHT
TZOFFSETFROM:+0100
TZOFFSETTO:+0200
TZNAME:CEST
DTSTART:20220327T010000
END:DAYLIGHT
BEGIN:STANDARD
TZOFFSETFROM:+0200
TZOFFSETTO:+0100
TZNAME:CET
DTSTART:20221030T010000
END:STANDARD
BEGIN:DAYLIGHT
TZOFFSETFROM:+0100
TZOFFSETTO:+0200
TZNAME:CEST
DTSTART:20230326T010000
END:DAYLIGHT
BEGIN:STANDARD
TZOFFSETFROM:+0200
TZOFFSETTO:+0100
TZNAME:CET
DTSTART:20231029T010000
END:STANDARD
BEGIN:DAYLIGHT
TZOFFSETFROM:+0100
TZOFFSETTO:+0200
TZNAME:CEST
DTSTART:20240331T010000
END:DAYLIGHT
BEGIN:STANDARD
TZOFFSETFROM:+0200
TZOFFSETTO:+0100
TZNAME:CET
DTSTART:20241027T010000
END:STANDARD
END:VTIMEZONE
BEGIN:VEVENT
DTSTART;TZID=Europe/Rome:20231229T213000
DTEND;TZID=Europe/Rome:20231229T233000
DTSTAMP:20260422T235433
CREATED:20231205T130025Z
LAST-MODIFIED:20231212T101610Z
UID:18754-1703885400-1703892600@www.jazzino.it
SUMMARY:EMOZIONI BATTISTI Live@ InOut
DESCRIPTION:ACQUISTA IL BIGLIETTOACQUISTA IL BIGLIETTO\nVenerdì 29 dicembre 2023 – Live @ InOut \nUnico Set – 21:30 \nEMOZIONI BATTISTI \nEmozioni Battisti\, concerto tributo dedicato a Lucio Battisti\, torna al InOut il 29 dicembre 2023 dalle ore 21:30! \nAscolta dal vivo il meglio del repertorio del  grandissimo cantautore italiano che\, più di ogni altro e indelebilmente\, ha segnato le pagine della musica leggera italiana in particolare nella stagione del sodalizio artistico con Mogol. \n𝗟𝗜𝗡𝗘 𝗨𝗣: \nAndrea Giglio – tastiere\nGiulio Caruso – basso\nAntonio Orru – batteria\nPino Montalbano – chitarra\nErica Loi – voce \n\nServizio cena: Aperti dalle 20:00 con MENU ALLA CARTA\nUnico Set: Inizio ore 21:30 – Prezzo spettacolo 10€ \nPrenotazioni:  i biglietti per il concerto sono acquistabili sul sito www.sardiniaticket.com\, per prenotazioni chiama al numero +39 375 8365120 oppure inia un messaggio su WhatsApp specificando il numero dei posti\, la data\, l’orario e il nominativo. Per la conferma della prenotazione dovrai attendere il messaggio di risposta.\n\nACQUISTA IL BIGLIETTOACQUISTA IL BIGLIETTO\n** \n[𝗙𝗔𝗤] \n𝘗𝘭𝘦𝘢𝘴𝘦 𝘳𝘦𝘢𝘥 𝘣𝘦𝘭𝘰𝘸 𝘧𝘰𝘳 𝘪𝘯𝘧𝘰 𝘪𝘯 𝘌𝘯𝘨𝘭𝘪𝘴𝘩. \n𝗗𝗢𝗩𝗘 𝗧𝗥𝗢𝗩𝗢 𝗜𝗟 𝗣𝗥𝗢𝗚𝗥𝗔𝗠𝗠𝗔 𝗦𝗘𝗧𝗧𝗜𝗠𝗔𝗡𝗔𝗟𝗘? \nOgni lunedì inviamo a tutti i nostri clienti iscritti ai servizi di newsletter una mail e un messaggio su WhatsApp con il programma della settimana. \nPer non perderti nessun appuntamento\, iscriviti qui: https://mailchi.mp/3c909bcd0e60/jazzino_whatsapp \n𝗡𝗢𝗡 𝗧𝗥𝗢𝗩𝗜 𝗜𝗟 𝗕𝗜𝗚𝗟𝗜𝗘𝗧𝗧𝗢 𝗢𝗡𝗟𝗜𝗡𝗘? \nRiserviamo solo una quantità ristretta di posti per la vendita online. Se non trovi disponibile il tavolo che fa per te\, contattaci al numero +39 375 8365120. Puoi chiamarci dalle 17 alle 21\, mentre puoi scriverci per sms o su WhatsApp tutto il giorno. \n𝗖𝗨𝗖𝗜𝗡𝗔 & 𝗦𝗘𝗥𝗩𝗜𝗭𝗜𝗢 \nDurante le esibizioni live\, il nostro staff presterà massima attenzione e si muoverà con discrezioni tra i tavoli\, per non disturbare gli artisti sul palco. L’InOut propone una cucina sana e creativa che valorizza al meglio i prodotti freschi e stagionali del territorio. \n𝗦𝗘𝗚𝗨𝗜𝗖𝗜 𝗦𝗨 𝗜𝗡𝗦𝗧𝗔𝗚𝗥𝗔𝗠! \nScopri le nostre ultime foto e taggaci nei tuoi scatti per essere ripostato. Non dimenticare di seguirci! \nwww.instagram.com/jazzino_cagliari/ \n** \n[𝗙𝗔𝗤] – 𝘌𝘯𝘨𝘭𝘪𝘴𝘩 𝘐𝘯𝘧𝘰 \n𝗪𝗛𝗘𝗥𝗘 𝗖𝗔𝗡 𝗜 𝗙𝗜𝗡𝗗 𝗧𝗛𝗘 𝗪𝗘𝗘𝗞𝗟𝗬 𝗣𝗥𝗢𝗚𝗥𝗔𝗠? \nEvery Monday we take care of sending to all our customers subscribed to the newsletter services an email and a message on whatsapp with the program of the week. \nSign up here to get in touch: https://mailchi.mp/3c909bcd0e60/jazzino_whatsapp \n𝗖𝗔𝗡’𝗧 𝗕𝗢𝗢𝗞 𝗔 𝗧𝗔𝗕𝗟𝗘 𝗢𝗡𝗟𝗜𝗡𝗘? \nJust a small amount of seats are available for online sales. If you cannot find the right table for you\, please contact us at +39 3914603924. You can call us from 17 to 21 pm\, while you can write to us by sms or whatsapp all day. \n𝗠𝗘𝗡𝗨 & 𝗦𝗘𝗥𝗩𝗜𝗖𝗘 \nDuring the shows\, ur staff will move around discreetly to not bother the artists on stage. InOut’s cuisine is healthy\, creative and based on the best local seasonal products. \n𝗙𝗢𝗟𝗟𝗢𝗪 𝗨𝗦 𝗢𝗡 𝗜𝗡𝗦𝗧𝗔𝗚𝗥𝗔𝗠! \nCheck out our latest photos and tag us on your shots to get reposted. Don’t forget to follow us! \nwww.instagram.com/jazzino_cagliari/
URL:https://www.jazzino.it/evento/emozioni-battisti-29-dicembre-live-inout/
LOCATION:InOut Music Club\, Viale G.Marconi 173\, Cagliari\, CA\, 09131\, Italia
ATTACH;FMTTYPE=image/jpeg:https://www.jazzino.it/wp-content/uploads/2023/11/29-12-emozioni-battisti-FB-cover-01-1-scaled.jpg
END:VEVENT
BEGIN:VEVENT
DTSTART;TZID=Europe/Rome:20231215T213000
DTEND;TZID=Europe/Rome:20231215T233000
DTSTAMP:20260422T235433
CREATED:20231205T130046Z
LAST-MODIFIED:20231205T130404Z
UID:18685-1702675800-1702683000@www.jazzino.it
SUMMARY:Anna Flame and Paolo Nonnis Trio Live@ InOut
DESCRIPTION:ACQUISTA IL BIGLIETTOACQUISTA IL BIGLIETTO\nVenerdì 15 dicembre 2023 – Live@ InOut (CA) \nUnico Set – 21:30 \nANNA FLAME AND PAOLO NONNIS TRIO \n\nDopo il grande successo\, torna all’ InOut Anna Flame con il trio di Paolo Nonnis il 15 dicembre 2023! La voce e lo stile di Anna Flame ….da Diana Krall ad Ella Fitzgerald passando per Amy Winehouse\, Nora Jones e Michael Bublé. Accompagnata dal Paolo Nonnis Trio con Mauro Mulas e Alessandro Atzori. \n\n𝗟𝗜𝗡𝗘 𝗨𝗣:\nAnna Flame – voce\nPaolo Nonnis – batteria\nMauro Mulas – piano\nAlessandro Atzori – contrabbasso\n\n\nServizio cena: Aperti dalle 20:00 con MENU ALLA CARTA\nUnico Set: Inizio ore 21:30 – Prezzo spettacolo 5€ \nPrenotazioni:  i biglietti per il concerto sono acquistabili sul sito www.sardiniaticket.com\, per prenotazioni chiama al numero +39 375 8365120 oppure inia un messaggio su WhatsApp specificando il numero dei posti\, la data\, l’orario e il nominativo. Per la conferma della prenotazione dovrai attendere il messaggio di risposta.\n\nACQUISTA IL BIGLIETTOACQUISTA IL BIGLIETTO\n** \n[𝗙𝗔𝗤] \n𝘗𝘭𝘦𝘢𝘴𝘦 𝘳𝘦𝘢𝘥 𝘣𝘦𝘭𝘰𝘸 𝘧𝘰𝘳 𝘪𝘯𝘧𝘰 𝘪𝘯 𝘌𝘯𝘨𝘭𝘪𝘴𝘩. \n𝗗𝗢𝗩𝗘 𝗧𝗥𝗢𝗩𝗢 𝗜𝗟 𝗣𝗥𝗢𝗚𝗥𝗔𝗠𝗠𝗔 𝗦𝗘𝗧𝗧𝗜𝗠𝗔𝗡𝗔𝗟𝗘? \nOgni lunedì inviamo a tutti i nostri clienti iscritti ai servizi di newsletter una mail e un messaggio su WhatsApp con il programma della settimana. \nPer non perderti nessun appuntamento\, iscriviti qui: https://mailchi.mp/3c909bcd0e60/jazzino_whatsapp \n𝗡𝗢𝗡 𝗧𝗥𝗢𝗩𝗜 𝗜𝗟 𝗕𝗜𝗚𝗟𝗜𝗘𝗧𝗧𝗢 𝗢𝗡𝗟𝗜𝗡𝗘? \nRiserviamo solo una quantità ristretta di posti per la vendita online. Se non trovi disponibile il tavolo che fa per te\, contattaci al numero +39 375 8365120. Puoi chiamarci dalle 17 alle 21\, mentre puoi scriverci per sms o su WhatsApp tutto il giorno. \n𝗖𝗨𝗖𝗜𝗡𝗔 & 𝗦𝗘𝗥𝗩𝗜𝗭𝗜𝗢 \nDurante le esibizioni live\, il nostro staff presterà massima attenzione e si muoverà con discrezioni tra i tavoli\, per non disturbare gli artisti sul palco. Il InOut propone una cucina sana e creativa che valorizza al meglio i prodotti freschi e stagionali del territorio. \n𝗦𝗘𝗚𝗨𝗜𝗖𝗜 𝗦𝗨 𝗜𝗡𝗦𝗧𝗔𝗚𝗥𝗔𝗠! \nScopri le nostre ultime foto e taggaci nei tuoi scatti per essere ripostato. Non dimenticare di seguirci! \nwww.instagram.com/jazzino_cagliari/ \n** \n[𝗙𝗔𝗤] – 𝘌𝘯𝘨𝘭𝘪𝘴𝘩 𝘐𝘯𝘧𝘰 \n𝗪𝗛𝗘𝗥𝗘 𝗖𝗔𝗡 𝗜 𝗙𝗜𝗡𝗗 𝗧𝗛𝗘 𝗪𝗘𝗘𝗞𝗟𝗬 𝗣𝗥𝗢𝗚𝗥𝗔𝗠? \nEvery Monday we take care of sending to all our customers subscribed to the newsletter services an email and a message on WhatsApp with the program of the week. \nSign up here to get in touch: https://mailchi.mp/3c909bcd0e60/jazzino_whatsapp \n𝗖𝗔𝗡’𝗧 𝗕𝗢𝗢𝗞 𝗔 𝗧𝗔𝗕𝗟𝗘 𝗢𝗡𝗟𝗜𝗡𝗘? \nJust a small amount of seats are available for online sales. If you cannot find the right table for you\, please contact us at +39 3914603924. You can call us from 17 to 21 pm\, while you can write to us by sms or whatsapp all day. \n𝗠𝗘𝗡𝗨 & 𝗦𝗘𝗥𝗩𝗜𝗖𝗘 \nDuring the shows\, our staff will move around discreetly to not bother the artists on stage. InOut’s cuisine is healthy\, creative and based on the best local seasonal products. \n𝗙𝗢𝗟𝗟𝗢𝗪 𝗨𝗦 𝗢𝗡 𝗜𝗡𝗦𝗧𝗔𝗚𝗥𝗔𝗠! \nCheck out our latest photos and tag us on your shots to get reposted. Don’t forget to follow us! \nwww.instagram.com/jazzino_cagliari/
URL:https://www.jazzino.it/evento/anna-flame-and-paolo-nonnis-trio-15-dicembre-live-inout/
LOCATION:InOut Music Club\, Viale G.Marconi 173\, Cagliari\, CA\, 09131\, Italia
ATTACH;FMTTYPE=image/jpeg:https://www.jazzino.it/wp-content/uploads/2023/11/15dic-Anna-FlamePaolo-Nonnis-FB-cover-04-scaled.jpg
END:VEVENT
BEGIN:VEVENT
DTSTART;TZID=Europe/Rome:20221015T213000
DTEND;TZID=Europe/Rome:20221015T233000
DTSTAMP:20260422T235433
CREATED:20221008T153236Z
LAST-MODIFIED:20221008T183655Z
UID:15204-1665869400-1665876600@www.jazzino.it
SUMMARY:Marco Cocco Quartet Live@ Jazzino
DESCRIPTION:ACQUISTA IL BIGLIETTOACQUISTA IL BIGLIETTO\n  \nMARCO COCCO QUARTET \nSabato 15 ottobre 2022 – Live@ Jazzino (CA) \n𝗜𝗡𝗙𝗢 𝗦𝗘𝗥𝗔𝗧𝗔: \nNuovo appuntamento con il meglio della musica dal vivo insieme a Marco Cocco con il suo spettacolo accompagnato dal suo quartetto\, live il 15 ottobre 2022 al Jazzino a partire dalle ore 21:30! \nQuesto quartetto nasce dall’idea di rivisitare in chiave personale e originale un repertorio all’insegna dei brani che hanno fatto la storia del jazz; vengono infatti interpretate le composizioni più belle ed indimenticabili dell’American Songbook\, di artisti quali Gershwin\, Porter\, Rodgers and Hart\, Van Heusen\, Jobim e altri. Interpreti e musicisti del calibro di Louis Armstrong\, Nat King Cole\, Frank Sinatra\, Tony Bennett\, Bobby Darin\, Mel Tormé\, Kurt Elling\, e tanti altri\, hanno contribuito alla crescita della polarità di questo genere\, ancora oggi capace di coinvolgere e appassionare\, fino ad ottenere il successo mondiale. \n𝗟𝗜𝗡𝗘 𝗨𝗣: \nMarco Cocco – Voce\nMauro Mulas – piano\nAlessandro “Cinzio” Atzori – double bass\nPaolo Nonnis – batteria \n𝗕𝗜𝗚𝗟𝗜𝗘𝗧𝗧𝗜 𝗘 𝗣𝗥𝗘𝗡𝗢𝗧𝗔𝗭𝗜𝗢𝗡𝗜: \n\nUnico Set: Inizio ore 21:30 – Prezzo spettacolo 5€. Menu Promo – MENU ALLA CARTA; \nPrenotazioni:  i biglietti per il concerto sono acquistabili sul sito www.sardiniaticket.com\, per prenotazioni chiama al numero +39 391 4603924 oppure inia un messaggio su WhatsApp specificando il numero dei posti\, la data\, l’orario e il nominativo. Per la conferma della prenotazione dovrai attendere il messaggio di risposta.\n\nACQUISTA IL BIGLIETTOACQUISTA IL BIGLIETTO\n** \n[𝗙𝗔𝗤] \n𝗖𝗢𝗦𝗔 𝗩𝗨𝗢𝗟 𝗗𝗜𝗥𝗘 𝗗𝗢𝗣𝗣𝗜𝗢 𝗦𝗘𝗧? \nLe attuali norme impongono un maggiore distanziamento tra i tavoli e pertanto un numero di posti limitato. \nPer garantire a tutti la massima fruibilità degli spettacoli\, proporremo spesso due set\, o meglio\, lo stesso concerto due volte nella stessa serata. \n𝗢𝗥𝗔𝗥𝗜 𝟮𝟬𝟮𝟮-𝟮𝟬𝟮3 \nSiamo aperti il giovedì\, il venerdì e il sabato \, dalle ore 19:00. Nei giorni in cui sono sono previsti due set\, il primo inizia alle 19:00\, mentre il secondo set alle 22:00. \nLa nostra cucina è aperta dalle 19:00\, per ottime cene e gustosi aperitivi. \nPer gli spettatori del secondo set l’orario d’arrivo consigliato sono le 21:30. \nNelle serate dove è previsto un unico set\, il concerto inizierà intorno alle 21:45. \n𝗗𝗢𝗩𝗘 𝗧𝗥𝗢𝗩𝗢 𝗜𝗟 𝗣𝗥𝗢𝗚𝗥𝗔𝗠𝗠𝗔 𝗦𝗘𝗧𝗧𝗜𝗠𝗔𝗡𝗔𝗟𝗘? \nOgni lunedì inviamo a tutti i nostri clienti iscritti ai servizi di newsletter una mail e un messaggio su WhatsApp con il programma della settimana. \nPer non perderti nessun appuntamento\, iscriviti qui: https://mailchi.mp/3c909bcd0e60/jazzino_whatsapp \n𝗡𝗢𝗡 𝗧𝗥𝗢𝗩𝗜 𝗜𝗟 𝗕𝗜𝗚𝗟𝗜𝗘𝗧𝗧𝗢 𝗢𝗡𝗟𝗜𝗡𝗘? \nRiserviamo solo una quantità ristretta di posti per la vendita online. Se non trovi disponibile il tavolo che fa per te\, contattaci al numero +39 391 4603924. Puoi chiamarci dalle 17 alle 21\, mentre puoi scriverci per sms o su WhatsApp tutto il giorno. \n𝗖𝗨𝗖𝗜𝗡𝗔 & 𝗦𝗘𝗥𝗩𝗜𝗭𝗜𝗢 \nDurante le esibizioni live\, il nostro staff presterà massima attenzione e si muoverà con discrezioni tra i tavoli\, per non disturbare gli artisti sul palco. Il Jazzino propone una cucina sana e creativa che valorizza al meglio i prodotti freschi e stagionali del territorio. \n𝗣𝗥𝗘𝗡𝗢𝗧𝗔𝗭𝗜𝗢𝗡𝗜 𝗦𝗘𝗡𝗭𝗔 𝗖𝗘𝗡𝗔 \nI posti per solo drink sono limitati. Consigliamo pertanto di prenotare con ampio anticipo. \n𝗦𝗘𝗚𝗨𝗜𝗖𝗜 𝗦𝗨 𝗜𝗡𝗦𝗧𝗔𝗚𝗥𝗔𝗠! \nScopri le nostre ultime foto e taggaci nei tuoi scatti per essere ripostato. Non dimenticare di seguirci! \nwww.instagram.com/jazzino_cagliari/ \n** \n[𝗙𝗔𝗤] – 𝘌𝘯𝘨𝘭𝘪𝘴𝘩 𝘐𝘯𝘧𝘰 \n𝗪𝗛𝗔𝗧 𝗗𝗢𝗘𝗦 𝗗𝗢𝗣𝗣𝗜𝗢 𝗦𝗘𝗧 𝗠𝗘𝗔𝗡? \nDoppio set (literally Double Set) means we will often offer two gigs in the same day. This is for guaranteeing access to everyone while keeping adequate distance between our customers. \n𝗧𝗜𝗠𝗜𝗡𝗚 𝟮𝟬𝟮𝟮-𝟮𝟬𝟮3 \nThe club opens  at 7PM. On the day that features two sets\, the first one will start at 7:00 PM and the second one at 10:00PM. \nThe kitchen opens everyday at 7:00PM to deliver some fresh\, seasonal and exceptional food at your table. \nIf you want to attend the second set we suggest you arrive at around 9:30PM. \nWhen there is a single set\, the gig will start at around 9:45PM. \n𝗪𝗛𝗘𝗥𝗘 𝗖𝗔𝗡 𝗜 𝗙𝗜𝗡𝗗 𝗧𝗛𝗘 𝗪𝗘𝗘𝗞𝗟𝗬 𝗣𝗥𝗢𝗚𝗥𝗔𝗠? \nEvery Monday we take care of sending to all our customers subscribed to the newsletter services an email and a message on whatsapp with the program of the week. \nSign up here to get in touch: https://mailchi.mp/3c909bcd0e60/jazzino_whatsapp \n𝗖𝗔𝗡’𝗧 𝗕𝗢𝗢𝗞 𝗔 𝗧𝗔𝗕𝗟𝗘 𝗢𝗡𝗟𝗜𝗡𝗘? \nJust a small amount of seats are available for online sales. If you cannot find the right table for you\, please contact us at +39 3914603924. You can call us from 17 to 21 pm\, while you can write to us by sms or whatsapp all day. \n𝗠𝗘𝗡𝗨 & 𝗦𝗘𝗥𝗩𝗜𝗖𝗘 \nDuring the shows\, ur staff will move around discreetly to not bother the artists on stage. Jazzino’s cuisine is healthy\, creative and based on the best local seasonal products. \n𝗕𝗢𝗢𝗞𝗜𝗡𝗚 𝗙𝗢𝗥 𝗢𝗡𝗟𝗬 𝗗𝗥𝗜𝗡𝗞 \nWe have really few seats for only drink. Please call us way in advance to book your seat only for drinks. \n𝗙𝗢𝗟𝗟𝗢𝗪 𝗨𝗦 𝗢𝗡 𝗜𝗡𝗦𝗧𝗔𝗚𝗥𝗔𝗠! \nCheck out our latest photos and tag us on your shots to get reposted. Don’t forget to follow us! \nwww.instagram.com/jazzino_cagliari/
URL:https://www.jazzino.it/evento/marco-cocco-quartet-live-jazzino/
LOCATION:Jazzino\, 74 Via Carloforte\, Cagliari\, 09123\, Italy
ATTACH;FMTTYPE=image/jpeg:https://www.jazzino.it/wp-content/uploads/2022/10/marco-cocco-quartet-15ott-FB-cover-2.jpg
END:VEVENT
BEGIN:VEVENT
DTSTART;TZID=Europe/Rome:20211223T213000
DTEND;TZID=Europe/Rome:20211223T230000
DTSTAMP:20260422T235433
CREATED:20211116T181622Z
LAST-MODIFIED:20211213T153536Z
UID:12786-1640295000-1640300400@www.jazzino.it
SUMMARY:Marco Cocco 4et Waiting For Xmas Live@ Jazzino
DESCRIPTION:ACQUISTA IL BIGLIETTOACQUISTA IL BIGLIETTO\nGiovedì 23 dicembre 2021 – Live@ Jazzino (CA) \nUnico Set – 21:30 \nMARCO COCCO 4ET – WAITING FOR XMAS \nNon perdere lo spettacolo del Marco Cocco 4et live il 23 dicembre 2021 con “Waiting for X-Mas“\, uno spettacolo speciale dedicato ai grandi classici jazz della tradizione per festeggiare insieme l’arrivo del Natale! \nBIOGRAFIA:\nQuesto quartetto nasce dall’idea di rivisitare in chiave personale ed originale un repertorio all’insegna dei brani che hanno fatto la storia del jazz; vengono infatti interpretate le composizioni più belle ed indimenticabili dell’American Songbook. \n𝗟𝗜𝗡𝗘 𝗨𝗣: \nMarco Cocco – voice\nMauro Mulas – piano\nAlessandro “Cinzio” Atzori – double bass\nPaolo Nonnis – drums\n\nUnico Set: Inizio ore 21:30 – Prezzo spettacolo 10€. Cena con due portate a scelta dal menù alla carta e una consumazione 30€. Prezzo spettacolo + cena 40 €; \nPrenotazioni:  i biglietti per il concerto sono acquistabili sul sito www.sardiniaticket.com\, per prenotazioni chiama al numero +39 391 4603924 oppure inia un messaggio su WhatsApp specificando il numero dei posti\, la data\, l’orario e il nominativo. Per la conferma della prenotazione dovrai attendere il messaggio di risposta.\n\nACQUISTA IL BIGLIETTOACQUISTA IL BIGLIETTO\n** \n[𝗙𝗔𝗤] \n𝘗𝘭𝘦𝘢𝘴𝘦 𝘳𝘦𝘢𝘥 𝘣𝘦𝘭𝘰𝘸 𝘧𝘰𝘳 𝘪𝘯𝘧𝘰 𝘪𝘯 𝘌𝘯𝘨𝘭𝘪𝘴𝘩. \n𝗖𝗢𝗩𝗜𝗗-𝟭𝟵: 𝗜𝗡𝗙𝗢𝗥𝗠𝗔𝗭𝗜𝗢𝗡𝗜 𝗣𝗘𝗥 𝗟𝗔 𝗧𝗨𝗔 𝗦𝗜𝗖𝗨𝗥𝗘𝗭𝗭𝗔 \nPer contenere l’emergenza Covid-19 e per continuare a garantire al nostro pubblico delle memorabili esperienze musicali e culinarie\, abbiamo riorganizzato il nostro club allineandoci alle normative di sicurezza sanitaria imposte dal governo. \nIl numero di posti a sedere\, infatti\, è stato dimezzato\, in modo da garantire il corretto distanziamento tra i tavoli\, che vengono correttamente igienizzati dal nostro personale. \n𝗧𝗶 𝗿𝗶𝗰𝗼𝗿𝗱𝗶𝗮𝗺𝗼 𝗰𝗵𝗲 𝗽𝗲𝗿 𝗽𝗿𝗼𝘁𝗲𝗴𝗴𝗲𝗿𝗲 𝘁𝗲 𝘀𝘁𝗲𝘀𝘀𝗼 𝗲 𝗰𝗵𝗶 𝘁𝗶 𝗰𝗶𝗿𝗰𝗼𝗻𝗱𝗮 𝗲̀ 𝗻𝗲𝗰𝗲𝘀𝘀𝗮𝗿𝗶𝗼: \n\nEssere in possesso del Green Pass in corso di validità\nUtilizzare la mascherina all’ingresso nel locale e fino all’arrivo al tavolo;\nUtilizzare la mascherina quando ti alzi dal tavolo per spostarti;\nIgienizzarti le mani con l’apposito disinfettante all’ingresso;\nRinunciare alla serata se la tua temperatura è superiore ai 37\,4°C.\n\nIl momento di difficoltà impone alle volte delle comunicazioni tempestive: chiama subito ai nostri numeri per disdire la tua prenotazione! \n𝗖𝗢𝗦𝗔 𝗩𝗨𝗢𝗟 𝗗𝗜𝗥𝗘 𝗗𝗢𝗣𝗣𝗜𝗢 𝗦𝗘𝗧? \nLe attuali norme impongono un maggiore distanziamento tra i tavoli e pertanto un numero di posti limitato. \nPer garantire a tutti la massima fruibilità degli spettacoli\, proporremo spesso due set\, o meglio\, lo stesso concerto due volte nella stessa serata. \n𝗢𝗥𝗔𝗥𝗜 𝟮𝟬𝟮𝟬-𝟮𝟬𝟮𝟭 \nSiamo aperti il giovedì\, il venerdì e il sabato \, dalle ore 19:00. Nei giorni in cui sono sono previsti due set\, il primo inizia alle 19:00\, mentre il secondo set alle 22:00. \nLa nostra cucina è aperta dalle 19:00\, per ottime cene e gustosi aperitivi. \nPer gli spettatori del secondo set l’orario d’arrivo consigliato sono le 21:30. \nNelle serate dove è previsto un unico set\, il concerto inizierà intorno alle 21:45. \n𝗗𝗢𝗩𝗘 𝗧𝗥𝗢𝗩𝗢 𝗜𝗟 𝗣𝗥𝗢𝗚𝗥𝗔𝗠𝗠𝗔 𝗦𝗘𝗧𝗧𝗜𝗠𝗔𝗡𝗔𝗟𝗘? \nOgni lunedì inviamo a tutti i nostri clienti iscritti ai servizi di newsletter una mail e un messaggio su WhatsApp con il programma della settimana. \nPer non perderti nessun appuntamento\, iscriviti qui: https://mailchi.mp/3c909bcd0e60/jazzino_whatsapp \n𝗡𝗢𝗡 𝗧𝗥𝗢𝗩𝗜 𝗜𝗟 𝗕𝗜𝗚𝗟𝗜𝗘𝗧𝗧𝗢 𝗢𝗡𝗟𝗜𝗡𝗘? \nRiserviamo solo una quantità ristretta di posti per la vendita online. Se non trovi disponibile il tavolo che fa per te\, contattaci al numero +39 391 4603924. Puoi chiamarci dalle 17 alle 21\, mentre puoi scriverci per sms o su WhatsApp tutto il giorno. \n𝗖𝗨𝗖𝗜𝗡𝗔 & 𝗦𝗘𝗥𝗩𝗜𝗭𝗜𝗢 \nDurante le esibizioni live\, il nostro staff presterà massima attenzione e si muoverà con discrezioni tra i tavoli\, per non disturbare gli artisti sul palco. Il Jazzino propone una cucina sana e creativa che valorizza al meglio i prodotti freschi e stagionali del territorio. \n𝗣𝗥𝗘𝗡𝗢𝗧𝗔𝗭𝗜𝗢𝗡𝗜 𝗦𝗘𝗡𝗭𝗔 𝗖𝗘𝗡𝗔 \nI posti per solo drink sono limitati. Consigliamo pertanto di prenotare con ampio anticipo. \n𝗦𝗘𝗚𝗨𝗜𝗖𝗜 𝗦𝗨 𝗜𝗡𝗦𝗧𝗔𝗚𝗥𝗔𝗠! \nScopri le nostre ultime foto e taggaci nei tuoi scatti per essere ripostato. Non dimenticare di seguirci! \nwww.instagram.com/jazzino_cagliari/ \n** \n[𝗙𝗔𝗤] – 𝘌𝘯𝘨𝘭𝘪𝘴𝘩 𝘐𝘯𝘧𝘰 \n𝗖𝗢𝗩𝗜𝗗-𝟭𝟵: 𝗙𝗢𝗥 𝗬𝗢𝗨𝗥 𝗦𝗔𝗙𝗘𝗧𝗬 \nWe want to keep on offering some memorable food and music experiences to all our customers while keeping control on the Covid-19 emergency. This is why we took action by re-organizing our club and adjusting our policy to the national anti-Covid guidelines. \nWe removed half of our tables and seats and distanced them. During the opening time the tables will be sanitized several times. \n𝗜𝗻 𝗼𝗿𝗱𝗲𝗿 𝘁𝗼 𝗽𝗿𝗼𝘁𝗲𝗰𝘁 𝘆𝗼𝘂𝗿𝘀𝗲𝗹𝗳 𝗮𝗻𝗱 𝘁𝗵𝗼𝘀𝗲 𝗮𝗿𝗼𝘂𝗻𝗱 𝘆𝗼𝘂\, 𝗿𝗲𝗺𝗲𝗺𝗯𝗲𝗿 𝘁𝗼: \n\nHave a valid Green Pass Certification\nWear the mask at the entrance and until you seat at the table\nWear the mask everytime you are not at the table\nSanitize your hands at the entrance (we’ll provide the sanitizing gel)\nDo not come in if your body temperature is 37\,4° or more.\n\nLastly\, this difficult moment often obliges to communicate promptly. \nWe suggest you check frequently the email inbox\, but the best way to stay always up-to-date is to text (or Whatsapp) us at our mobile number +393914603924\, mentioning the name of your reservation\, the date and the set. \nIn case of important news\, we will get to you immediately! \n𝗪𝗛𝗔𝗧 𝗗𝗢𝗘𝗦 𝗗𝗢𝗣𝗣𝗜𝗢 𝗦𝗘𝗧 𝗠𝗘𝗔𝗡? \nDoppio set (literally Double Set) means we will often offer two gigs in the same day. This is for guaranteeing access to everyone while keeping adequate distance between our customers. \n𝗧𝗜𝗠𝗜𝗡𝗚 𝟮𝟬𝟮𝟬-𝟮𝟬𝟮𝟭 \nThe club opens  at 7PM. On the day that features two sets\, the first one will start at 7:00 PM and the second one at 10:00PM. \nThe kitchen opens everyday at 7:00PM to deliver some fresh\, seasonal and exceptional food at your table. \nIf you want to attend the second set we suggest you arrive at around 9:30PM. \nWhen there is a single set\, the gig will start at around 9:45PM. \n𝗪𝗛𝗘𝗥𝗘 𝗖𝗔𝗡 𝗜 𝗙𝗜𝗡𝗗 𝗧𝗛𝗘 𝗪𝗘𝗘𝗞𝗟𝗬 𝗣𝗥𝗢𝗚𝗥𝗔𝗠? \nEvery Monday we take care of sending to all our customers subscribed to the newsletter services an email and a message on whatsapp with the program of the week. \nSign up here to get in touch: https://mailchi.mp/3c909bcd0e60/jazzino_whatsapp \n𝗖𝗔𝗡’𝗧 𝗕𝗢𝗢𝗞 𝗔 𝗧𝗔𝗕𝗟𝗘 𝗢𝗡𝗟𝗜𝗡𝗘? \nJust a small amount of seats are available for online sales. If you cannot find the right table for you\, please contact us at +39 3914603924. You can call us from 17 to 21 pm\, while you can write to us by sms or whatsapp all day. \n𝗠𝗘𝗡𝗨 & 𝗦𝗘𝗥𝗩𝗜𝗖𝗘 \nDuring the shows\, ur staff will move around discreetly to not bother the artists on stage. Jazzino’s cuisine is healthy\, creative and based on the best local seasonal products. \n𝗕𝗢𝗢𝗞𝗜𝗡𝗚 𝗙𝗢𝗥 𝗢𝗡𝗟𝗬 𝗗𝗥𝗜𝗡𝗞 \nWe have really few seats for only drink. Please call us way in advance to book your seat only for drinks. \n𝗙𝗢𝗟𝗟𝗢𝗪 𝗨𝗦 𝗢𝗡 𝗜𝗡𝗦𝗧𝗔𝗚𝗥𝗔𝗠! \nCheck out our latest photos and tag us on your shots to get reposted. Don’t forget to follow us! \nwww.instagram.com/jazzino_cagliari/
URL:https://www.jazzino.it/evento/marco-cocco-4et-waiting-for-xmas-live-jazzino/
LOCATION:Jazzino\, 74 Via Carloforte\, Cagliari\, 09123\, Italy
END:VEVENT
END:VCALENDAR