BEGIN:VCALENDAR
VERSION:2.0
PRODID:-//Jazzino - Ristorante Jazz Club - ECPv6.15.20//NONSGML v1.0//EN
CALSCALE:GREGORIAN
METHOD:PUBLISH
X-WR-CALNAME:Jazzino - Ristorante Jazz Club
X-ORIGINAL-URL:https://www.jazzino.it
X-WR-CALDESC:Eventi per Jazzino - Ristorante Jazz Club
REFRESH-INTERVAL;VALUE=DURATION:PT1H
X-Robots-Tag:noindex
X-PUBLISHED-TTL:PT1H
BEGIN:VTIMEZONE
TZID:Europe/Rome
BEGIN:DAYLIGHT
TZOFFSETFROM:+0100
TZOFFSETTO:+0200
TZNAME:CEST
DTSTART:20210328T010000
END:DAYLIGHT
BEGIN:STANDARD
TZOFFSETFROM:+0200
TZOFFSETTO:+0100
TZNAME:CET
DTSTART:20211031T010000
END:STANDARD
BEGIN:DAYLIGHT
TZOFFSETFROM:+0100
TZOFFSETTO:+0200
TZNAME:CEST
DTSTART:20220327T010000
END:DAYLIGHT
BEGIN:STANDARD
TZOFFSETFROM:+0200
TZOFFSETTO:+0100
TZNAME:CET
DTSTART:20221030T010000
END:STANDARD
BEGIN:DAYLIGHT
TZOFFSETFROM:+0100
TZOFFSETTO:+0200
TZNAME:CEST
DTSTART:20230326T010000
END:DAYLIGHT
BEGIN:STANDARD
TZOFFSETFROM:+0200
TZOFFSETTO:+0100
TZNAME:CET
DTSTART:20231029T010000
END:STANDARD
END:VTIMEZONE
BEGIN:VEVENT
DTSTART;TZID=Europe/Rome:20221027T213000
DTEND;TZID=Europe/Rome:20221027T233000
DTSTAMP:20260422T235543
CREATED:20221017T160656Z
LAST-MODIFIED:20221024T170737Z
UID:15302-1666906200-1666913400@www.jazzino.it
SUMMARY:Dancefloor Stompers Live@ Jazzino
DESCRIPTION:ACQUISTA IL BIGLIETTOACQUISTA IL BIGLIETTO\n\nDANCEFLOOR STOMPERS \nGiovedì 27 ottobre 2022 – Live@ Jazzino (CA) \nI Dancefloor Stompers ti aspettano al Jazzino il 27 ottobre 2022 a partire dalle ore 21:30!\n\n\nProgetto musicale dedicato al suono della grande musica per il cinema e la televisione\, la library music\, il Soul Jazz / Rhythm’n’blues / Funk dei ‘60/’70 e il Modernismo cinematico.\nNati nel 2009\, i Dancefloor Stompers esordiscono come combo soul-jazz\, con l’intento di celebrare l’era di etichette come la Blue Note\, la Verve\, la Stax o la Cadet\, e – fino al 2014 – cambiano spesso formazione (da trio a quartetto o quintetto) e musicisti in organico (prima dell’attuale formazione\, nella band si sono avvicendati Giacomo Salis\, Marco Garau\, Valentina Steri e Carlo Figus)\, suonando nei club e nelle piazze isolane.\nDal 2013\, gli Stompers lavorano sul suono della musica per sonorizzazione (colonne sonore e library music)\, cominciano a scrivere i propri brani originali e partecipano a diversi festival e rassegne culturali\, legate alla musica\, il cinema e la letteratura\, producendo alcuni show in proprio: tra le numerose partecipazioni\, Sarti Antonio\, Buon compleanno\, sbirro!\, con Giuseppe Boy (2014)\, On the Brinks\, un irriducibile Irlandese\, con Francesco Montervino (2016) e Paradisi Minori\, con Astrid Meloni (2018)\, nell’ambito di diverse edizioni del Festival Marina Cafe Noir di Cagliari; Città Violente – Tributo al Cinema Criminale italiano 60/70\, al Teatro di Serrenti\, con gli Apollo Beat di Sassari; la colonna sonora del cortometraggio Civitas Solis (2016) di Emanuel Cossu; lo spettacolo Stompers ‘68 con Juri Orrù\, produzione originale per il Festival Creuza De Mà – Musica per Cinema (Cagliari\, 2018); il festival Sinestesie con la sonorizzazione live Cadavre Exquis\, dedicata al cinema Dada e Surrealista (Cagliari e Sassari\, 2017); la colonna sonora del lungometraggio Casteddu Sicsti (2019) di Paolo Carboni.\nNel 2018 pubblicano il loro album d’esordio in vinile – Librerie Musicali (Four Flies Records) – prodotto con Andrea Piraz e Roberto Macis del Solid Twin Studio di Cagliari – e il loro intero catalogo musicale viene acquisito dalla storica FlipperMusic di Romano Di Bari e realizzato per il download e la sync con immagini con il titolo di Italian B-Movies Vol.2 – Retro Cinematic Soundtrack (Deneb Records / FlipperMusic).\nNelle registrazioni del disco la band riesce a mettere insieme più di 30 musicisti isolani\, compresa un’orchestra d’archi di 20 elementi\, e ogni tipo di strumento vintage disponibile; anche dal vivo la formazione spesso si allarga ad 8 o 10 elementi\, con cantanti\, set di percussioni ed una potente sezione fiati.\nDurante la pandemia la band si è ritrovata in modo naturale a scrivere canzoni: con l’inserimento delle voci di Silvia Follesa e Marco Cotza gli Stompers si apprestano a pubblicare l’EP Phuture Soul\, prodotto come il precedente dal team del Solid Twin Studio di Cagliari. \n\n\n\n\n𝗟𝗜𝗡𝗘 𝗨𝗣:\nGianmarco Diana – basso elettrico\nFrank Stara: batteria\, percussioni\nAndrea Schirru – organo\, pianoforte\, synth\, tastiere\nDanilo Salis – chitarre elettriche\nSilvia Follesa\, Marco Cotza – voci\n\n\n\n𝗕𝗜𝗚𝗟𝗜𝗘𝗧𝗧𝗜 𝗘 𝗣𝗥𝗘𝗡𝗢𝗧𝗔𝗭𝗜𝗢𝗡𝗜:\n\nUnico Set: Inizio ore 21:30 – Prezzo spettacolo 10€. Cena con due portate a scelta dal menù alla carta e una consumazione 30€. Prezzo spettacolo + cena 40 €; \nPrenotazioni:  i biglietti per il concerto sono acquistabili sul sito www.sardiniaticket.com\, per prenotazioni chiama al numero +39 391 4603924 oppure inia un messaggio su WhatsApp specificando il numero dei posti\, la data\, l’orario e il nominativo. Per la conferma della prenotazione dovrai attendere il messaggio di risposta.\n\nACQUISTA IL BIGLIETTOACQUISTA IL BIGLIETTO\n** \n[𝗙𝗔𝗤] \n𝘗𝘭𝘦𝘢𝘴𝘦 𝘳𝘦𝘢𝘥 𝘣𝘦𝘭𝘰𝘸 𝘧𝘰𝘳 𝘪𝘯𝘧𝘰 𝘪𝘯 𝘌𝘯𝘨𝘭𝘪𝘴𝘩. \n𝗖𝗢𝗦𝗔 𝗩𝗨𝗢𝗟 𝗗𝗜𝗥𝗘 𝗗𝗢𝗣𝗣𝗜𝗢 𝗦𝗘𝗧? \nLe attuali norme impongono un maggiore distanziamento tra i tavoli e pertanto un numero di posti limitato. \nPer garantire a tutti la massima fruibilità degli spettacoli\, proporremo spesso due set\, o meglio\, lo stesso concerto due volte nella stessa serata. \n𝗢𝗥𝗔𝗥𝗜 𝟮𝟬𝟮𝟮-𝟮𝟬𝟮3 \nSiamo aperti il giovedì\, il venerdì e il sabato \, dalle ore 19:00. Nei giorni in cui sono sono previsti due set\, il primo inizia alle 19:00\, mentre il secondo set alle 22:00. \nLa nostra cucina è aperta dalle 19:00\, per ottime cene e gustosi aperitivi. \nPer gli spettatori del secondo set l’orario d’arrivo consigliato sono le 21:30. \nNelle serate dove è previsto un unico set\, il concerto inizierà intorno alle 21:45. \n𝗗𝗢𝗩𝗘 𝗧𝗥𝗢𝗩𝗢 𝗜𝗟 𝗣𝗥𝗢𝗚𝗥𝗔𝗠𝗠𝗔 𝗦𝗘𝗧𝗧𝗜𝗠𝗔𝗡𝗔𝗟𝗘? \nOgni lunedì inviamo a tutti i nostri clienti iscritti ai servizi di newsletter una mail e un messaggio su WhatsApp con il programma della settimana. \nPer non perderti nessun appuntamento\, iscriviti qui: https://mailchi.mp/3c909bcd0e60/jazzino_whatsapp \n𝗡𝗢𝗡 𝗧𝗥𝗢𝗩𝗜 𝗜𝗟 𝗕𝗜𝗚𝗟𝗜𝗘𝗧𝗧𝗢 𝗢𝗡𝗟𝗜𝗡𝗘? \nRiserviamo solo una quantità ristretta di posti per la vendita online. Se non trovi disponibile il tavolo che fa per te\, contattaci al numero +39 391 4603924. Puoi chiamarci dalle 17 alle 21\, mentre puoi scriverci per sms o su WhatsApp tutto il giorno. \n𝗖𝗨𝗖𝗜𝗡𝗔 & 𝗦𝗘𝗥𝗩𝗜𝗭𝗜𝗢 \nDurante le esibizioni live\, il nostro staff presterà massima attenzione e si muoverà con discrezioni tra i tavoli\, per non disturbare gli artisti sul palco. Il Jazzino propone una cucina sana e creativa che valorizza al meglio i prodotti freschi e stagionali del territorio. \n𝗣𝗥𝗘𝗡𝗢𝗧𝗔𝗭𝗜𝗢𝗡𝗜 𝗦𝗘𝗡𝗭𝗔 𝗖𝗘𝗡𝗔 \nI posti per solo drink sono limitati. Consigliamo pertanto di prenotare con ampio anticipo. \n𝗦𝗘𝗚𝗨𝗜𝗖𝗜 𝗦𝗨 𝗜𝗡𝗦𝗧𝗔𝗚𝗥𝗔𝗠! \nScopri le nostre ultime foto e taggaci nei tuoi scatti per essere ripostato. Non dimenticare di seguirci! \nwww.instagram.com/jazzino_cagliari/ \n** \n[𝗙𝗔𝗤] – 𝘌𝘯𝘨𝘭𝘪𝘴𝘩 𝘐𝘯𝘧𝘰 \n𝗪𝗛𝗔𝗧 𝗗𝗢𝗘𝗦 𝗗𝗢𝗣𝗣𝗜𝗢 𝗦𝗘𝗧 𝗠𝗘𝗔𝗡? \nDoppio set (literally Double Set) means we will often offer two gigs in the same day. This is for guaranteeing access to everyone while keeping adequate distance between our customers. \n𝗧𝗜𝗠𝗜𝗡𝗚 𝟮𝟬𝟮𝟮-𝟮𝟬𝟮3 \nThe club opens  at 7PM. On the day that features two sets\, the first one will start at 7:00 PM and the second one at 10:00PM. \nThe kitchen opens everyday at 7:00PM to deliver some fresh\, seasonal and exceptional food at your table. \nIf you want to attend the second set we suggest you arrive at around 9:30PM. \nWhen there is a single set\, the gig will start at around 9:45PM. \n𝗪𝗛𝗘𝗥𝗘 𝗖𝗔𝗡 𝗜 𝗙𝗜𝗡𝗗 𝗧𝗛𝗘 𝗪𝗘𝗘𝗞𝗟𝗬 𝗣𝗥𝗢𝗚𝗥𝗔𝗠? \nEvery Monday we take care of sending to all our customers subscribed to the newsletter services an email and a message on whatsapp with the program of the week. \nSign up here to get in touch: https://mailchi.mp/3c909bcd0e60/jazzino_whatsapp \n𝗖𝗔𝗡’𝗧 𝗕𝗢𝗢𝗞 𝗔 𝗧𝗔𝗕𝗟𝗘 𝗢𝗡𝗟𝗜𝗡𝗘? \nJust a small amount of seats are available for online sales. If you cannot find the right table for you\, please contact us at +39 3914603924. You can call us from 17 to 21 pm\, while you can write to us by sms or whatsapp all day. \n𝗠𝗘𝗡𝗨 & 𝗦𝗘𝗥𝗩𝗜𝗖𝗘 \nDuring the shows\, ur staff will move around discreetly to not bother the artists on stage. Jazzino’s cuisine is healthy\, creative and based on the best local seasonal products. \n𝗕𝗢𝗢𝗞𝗜𝗡𝗚 𝗙𝗢𝗥 𝗢𝗡𝗟𝗬 𝗗𝗥𝗜𝗡𝗞 \nWe have really few seats for only drink. Please call us way in advance to book your seat only for drinks. \n𝗙𝗢𝗟𝗟𝗢𝗪 𝗨𝗦 𝗢𝗡 𝗜𝗡𝗦𝗧𝗔𝗚𝗥𝗔𝗠! \nCheck out our latest photos and tag us on your shots to get reposted. Don’t forget to follow us! \nwww.instagram.com/jazzino_cagliari/
URL:https://www.jazzino.it/evento/dancefloor-stompers-27-ottobre-live-jazzino/
LOCATION:Jazzino\, 74 Via Carloforte\, Cagliari\, 09123\, Italy
ATTACH;FMTTYPE=image/jpeg:https://www.jazzino.it/wp-content/uploads/2022/10/dancefloor-stompers-FB-cover.jpg
END:VEVENT
BEGIN:VEVENT
DTSTART;TZID=Europe/Rome:20220319T213000
DTEND;TZID=Europe/Rome:20220319T233000
DTSTAMP:20260422T235543
CREATED:20220301T190907Z
LAST-MODIFIED:20220318T154711Z
UID:13682-1647725400-1647732600@www.jazzino.it
SUMMARY:Dancefloor Stompers Live@ Jazzino
DESCRIPTION:ACQUISTA IL BIGLIETTOACQUISTA IL BIGLIETTO\nDANCEFLOOR STOMPERS \nSabato 19 marzo 2022 – Live@ Jazzino (CA) \n𝗜𝗡𝗙𝗢 𝗦𝗘𝗥𝗔𝗧𝗔: \nI Dancefloor Stompers ti aspettano al Jazzino il 19 marzo 2022 a partire dalle ore 21:30! \nBIOGRAFIA \nNati nel 2009\, da un’intuizione di Gianmarco Diana\, il loro intento principale è quello di rendere omaggio al soul-jazz di etichette come la Blue Note\, la Verve\, la Stax/Volt e allo stile Sixties Mod. \nL’idea era quella di sviluppare un discorso musicale fatto di un giusto equilibrio tra rivisitazioni di classici e gemme poco conosciute\, parallelamente alla scrittura e all’arrangiamento di brani originali\, e sempre con un occhio di riguardo alla produzione strumentale. Il gusto “cinematico” per la sonorizzazione ed il grande amore per il sound delle colonne sonore e della c.d. library music\, italiana e non\, degli anni ’60 e ’70 è la seconda componente viva degli Stompers\, coltivata nel corso degli anni attraverso la produzione di diversi spettacoli teatrali\, reading-concerto e commissioni dirette per cortometraggi. \nL’intenso lavoro su materiali originali è confluito nel primo album in studio della band\, Librerie Musicali (2018)\, una sorta di “summa” di queste diverse esperienze. L’obiettivo era quello di fondere l’amore per la black music (il soul-jazz\, il rhythm’n’blues\, l’Hammond sound ed il funk) con quello per la grande musica per il cinema\, la televisione e la radio\, in particolare quella prodotta in Italia tra gli anni Sessanta e Settanta\, cercando di riprodurne suono\, strumentazione\, tecniche di registrazione e missaggio\, grafica\, etc. \nAttualmente la band si esibisce sia in quartetto\, la sua formazione di base\, che in ottetto (quartetto + Adriano Sarais\, tromba\, Alessandro Angiolini\, sax tenore\, Maurizio Floris\, sax baritono e Eugenio Aresu\, percussioni)\, avvalendosi spesso della collaborazione di alcuni cantanti (Carla Giulia Striano\, Silvia Follesa\, Marco Cotza)\, ed è al lavoro su un EP di brani originali la cui uscita è prevista per la primavera del 2022. \n𝗟𝗜𝗡𝗘 𝗨𝗣: \nGianmarco Diana – basso\nAndrea Schirru – tastiere\nDanilo Salis – chitarre\nFrank Stara – batteria \n𝗕𝗜𝗚𝗟𝗜𝗘𝗧𝗧𝗜 𝗘 𝗣𝗥𝗘𝗡𝗢𝗧𝗔𝗭𝗜𝗢𝗡𝗜: \n\nUnico Set: Inizio ore 21:30 – Prezzo spettacolo 10€. Cena con due portate a scelta dal menù alla carta e una consumazione 30€. Prezzo spettacolo + cena 40 €; \nPrenotazioni:  i biglietti per il concerto sono acquistabili sul sito www.sardiniaticket.com\, per prenotazioni chiama al numero +39 391 4603924 oppure inia un messaggio su WhatsApp specificando il numero dei posti\, la data\, l’orario e il nominativo. Per la conferma della prenotazione dovrai attendere il messaggio di risposta.\n\nACQUISTA IL BIGLIETTOACQUISTA IL BIGLIETTO\n** \n[𝗙𝗔𝗤] \n𝘗𝘭𝘦𝘢𝘴𝘦 𝘳𝘦𝘢𝘥 𝘣𝘦𝘭𝘰𝘸 𝘧𝘰𝘳 𝘪𝘯𝘧𝘰 𝘪𝘯 𝘌𝘯𝘨𝘭𝘪𝘴𝘩. \n𝗖𝗢𝗩𝗜𝗗-𝟭𝟵: 𝗜𝗡𝗙𝗢𝗥𝗠𝗔𝗭𝗜𝗢𝗡𝗜 𝗣𝗘𝗥 𝗟𝗔 𝗧𝗨𝗔 𝗦𝗜𝗖𝗨𝗥𝗘𝗭𝗭𝗔 \nPer contenere l’emergenza Covid-19 e per continuare a garantire al nostro pubblico delle memorabili esperienze musicali e culinarie\, abbiamo riorganizzato il nostro club allineandoci alle normative di sicurezza sanitaria imposte dal governo. \nIl numero di posti a sedere\, infatti\, è stato dimezzato\, in modo da garantire il corretto distanziamento tra i tavoli\, che vengono correttamente igienizzati dal nostro personale. \n𝗧𝗶 𝗿𝗶𝗰𝗼𝗿𝗱𝗶𝗮𝗺𝗼 𝗰𝗵𝗲 𝗽𝗲𝗿 𝗽𝗿𝗼𝘁𝗲𝗴𝗴𝗲𝗿𝗲 𝘁𝗲 𝘀𝘁𝗲𝘀𝘀𝗼 𝗲 𝗰𝗵𝗶 𝘁𝗶 𝗰𝗶𝗿𝗰𝗼𝗻𝗱𝗮 𝗲̀ 𝗻𝗲𝗰𝗲𝘀𝘀𝗮𝗿𝗶𝗼: \n\nEssere in possesso del Green Pass in corso di validità\nUtilizzare la mascherina all’ingresso nel locale e fino all’arrivo al tavolo;\nUtilizzare la mascherina quando ti alzi dal tavolo per spostarti;\nIgienizzarti le mani con l’apposito disinfettante all’ingresso;\nRinunciare alla serata se la tua temperatura è superiore ai 37\,4°C.\n\nIl momento di difficoltà impone alle volte delle comunicazioni tempestive: chiama subito ai nostri numeri per disdire la tua prenotazione! \n𝗖𝗢𝗦𝗔 𝗩𝗨𝗢𝗟 𝗗𝗜𝗥𝗘 𝗗𝗢𝗣𝗣𝗜𝗢 𝗦𝗘𝗧? \nLe attuali norme impongono un maggiore distanziamento tra i tavoli e pertanto un numero di posti limitato. \nPer garantire a tutti la massima fruibilità degli spettacoli\, proporremo spesso due set\, o meglio\, lo stesso concerto due volte nella stessa serata. \n𝗢𝗥𝗔𝗥𝗜 𝟮𝟬𝟮𝟬-𝟮𝟬𝟮𝟭 \nSiamo aperti il giovedì\, il venerdì e il sabato \, dalle ore 19:00. Nei giorni in cui sono sono previsti due set\, il primo inizia alle 19:00\, mentre il secondo set alle 22:00. \nLa nostra cucina è aperta dalle 19:00\, per ottime cene e gustosi aperitivi. \nPer gli spettatori del secondo set l’orario d’arrivo consigliato sono le 21:30. \nNelle serate dove è previsto un unico set\, il concerto inizierà intorno alle 21:45. \n𝗗𝗢𝗩𝗘 𝗧𝗥𝗢𝗩𝗢 𝗜𝗟 𝗣𝗥𝗢𝗚𝗥𝗔𝗠𝗠𝗔 𝗦𝗘𝗧𝗧𝗜𝗠𝗔𝗡𝗔𝗟𝗘? \nOgni lunedì inviamo a tutti i nostri clienti iscritti ai servizi di newsletter una mail e un messaggio su WhatsApp con il programma della settimana. \nPer non perderti nessun appuntamento\, iscriviti qui: https://mailchi.mp/3c909bcd0e60/jazzino_whatsapp \n𝗡𝗢𝗡 𝗧𝗥𝗢𝗩𝗜 𝗜𝗟 𝗕𝗜𝗚𝗟𝗜𝗘𝗧𝗧𝗢 𝗢𝗡𝗟𝗜𝗡𝗘? \nRiserviamo solo una quantità ristretta di posti per la vendita online. Se non trovi disponibile il tavolo che fa per te\, contattaci al numero +39 391 4603924. Puoi chiamarci dalle 17 alle 21\, mentre puoi scriverci per sms o su WhatsApp tutto il giorno. \n𝗖𝗨𝗖𝗜𝗡𝗔 & 𝗦𝗘𝗥𝗩𝗜𝗭𝗜𝗢 \nDurante le esibizioni live\, il nostro staff presterà massima attenzione e si muoverà con discrezioni tra i tavoli\, per non disturbare gli artisti sul palco. Il Jazzino propone una cucina sana e creativa che valorizza al meglio i prodotti freschi e stagionali del territorio. \n𝗣𝗥𝗘𝗡𝗢𝗧𝗔𝗭𝗜𝗢𝗡𝗜 𝗦𝗘𝗡𝗭𝗔 𝗖𝗘𝗡𝗔 \nI posti per solo drink sono limitati. Consigliamo pertanto di prenotare con ampio anticipo. \n𝗦𝗘𝗚𝗨𝗜𝗖𝗜 𝗦𝗨 𝗜𝗡𝗦𝗧𝗔𝗚𝗥𝗔𝗠! \nScopri le nostre ultime foto e taggaci nei tuoi scatti per essere ripostato. Non dimenticare di seguirci! \nwww.instagram.com/jazzino_cagliari/ \n** \n[𝗙𝗔𝗤] – 𝘌𝘯𝘨𝘭𝘪𝘴𝘩 𝘐𝘯𝘧𝘰 \n𝗖𝗢𝗩𝗜𝗗-𝟭𝟵: 𝗙𝗢𝗥 𝗬𝗢𝗨𝗥 𝗦𝗔𝗙𝗘𝗧𝗬 \nWe want to keep on offering some memorable food and music experiences to all our customers while keeping control on the Covid-19 emergency. This is why we took action by re-organizing our club and adjusting our policy to the national anti-Covid guidelines. \nWe removed half of our tables and seats and distanced them. During the opening time the tables will be sanitized several times. \n𝗜𝗻 𝗼𝗿𝗱𝗲𝗿 𝘁𝗼 𝗽𝗿𝗼𝘁𝗲𝗰𝘁 𝘆𝗼𝘂𝗿𝘀𝗲𝗹𝗳 𝗮𝗻𝗱 𝘁𝗵𝗼𝘀𝗲 𝗮𝗿𝗼𝘂𝗻𝗱 𝘆𝗼𝘂\, 𝗿𝗲𝗺𝗲𝗺𝗯𝗲𝗿 𝘁𝗼: \n\nHave a valid Green Pass Certification\nWear the mask at the entrance and until you seat at the table\nWear the mask everytime you are not at the table\nSanitize your hands at the entrance (we’ll provide the sanitizing gel)\nDo not come in if your body temperature is 37\,4° or more.\n\nLastly\, this difficult moment often obliges to communicate promptly. \nWe suggest you check frequently the email inbox\, but the best way to stay always up-to-date is to text (or Whatsapp) us at our mobile number +393914603924\, mentioning the name of your reservation\, the date and the set. \nIn case of important news\, we will get to you immediately! \n𝗪𝗛𝗔𝗧 𝗗𝗢𝗘𝗦 𝗗𝗢𝗣𝗣𝗜𝗢 𝗦𝗘𝗧 𝗠𝗘𝗔𝗡? \nDoppio set (literally Double Set) means we will often offer two gigs in the same day. This is for guaranteeing access to everyone while keeping adequate distance between our customers. \n𝗧𝗜𝗠𝗜𝗡𝗚 𝟮𝟬𝟮𝟬-𝟮𝟬𝟮𝟭 \nThe club opens  at 7PM. On the day that features two sets\, the first one will start at 7:00 PM and the second one at 10:00PM. \nThe kitchen opens everyday at 7:00PM to deliver some fresh\, seasonal and exceptional food at your table. \nIf you want to attend the second set we suggest you arrive at around 9:30PM. \nWhen there is a single set\, the gig will start at around 9:45PM. \n𝗪𝗛𝗘𝗥𝗘 𝗖𝗔𝗡 𝗜 𝗙𝗜𝗡𝗗 𝗧𝗛𝗘 𝗪𝗘𝗘𝗞𝗟𝗬 𝗣𝗥𝗢𝗚𝗥𝗔𝗠? \nEvery Monday we take care of sending to all our customers subscribed to the newsletter services an email and a message on whatsapp with the program of the week. \nSign up here to get in touch: https://mailchi.mp/3c909bcd0e60/jazzino_whatsapp \n𝗖𝗔𝗡’𝗧 𝗕𝗢𝗢𝗞 𝗔 𝗧𝗔𝗕𝗟𝗘 𝗢𝗡𝗟𝗜𝗡𝗘? \nJust a small amount of seats are available for online sales. If you cannot find the right table for you\, please contact us at +39 3914603924. You can call us from 17 to 21 pm\, while you can write to us by sms or whatsapp all day. \n𝗠𝗘𝗡𝗨 & 𝗦𝗘𝗥𝗩𝗜𝗖𝗘 \nDuring the shows\, ur staff will move around discreetly to not bother the artists on stage. Jazzino’s cuisine is healthy\, creative and based on the best local seasonal products. \n𝗕𝗢𝗢𝗞𝗜𝗡𝗚 𝗙𝗢𝗥 𝗢𝗡𝗟𝗬 𝗗𝗥𝗜𝗡𝗞 \nWe have really few seats for only drink. Please call us way in advance to book your seat only for drinks. \n𝗙𝗢𝗟𝗟𝗢𝗪 𝗨𝗦 𝗢𝗡 𝗜𝗡𝗦𝗧𝗔𝗚𝗥𝗔𝗠! \nCheck out our latest photos and tag us on your shots to get reposted. Don’t forget to follow us! \nwww.instagram.com/jazzino_cagliari/
URL:https://www.jazzino.it/evento/dancefloor-stompers-live-jazzino/
LOCATION:Jazzino\, 74 Via Carloforte\, Cagliari\, 09123\, Italy
ATTACH;FMTTYPE=image/jpeg:https://www.jazzino.it/wp-content/uploads/2022/03/19-marzo.jpg
END:VEVENT
END:VCALENDAR